{"text_format":"1","workbook":"xlsx","n_sheets":2,"sheets":["report","data"],"not_rendered":{"charts":0,"images":0,"macros":1,"external_links":0,"defined_names":3,"comments":1,"pivot_tables":0},"unopened":[],"bounds":{"document_bytes":16777216,"sheet_cells":100000,"rows_first":2000,"rows_last":500,"rows_between":2000,"halvings":0,"cell_chars":16384,"cell_head_chars":4096},"cells_cut":0,"cells_raw":0,"read":"whole","date_system":"1900"}

{"sheet":"report","index":0,"n_rows":85,"n_cols":39,"rows_kept":85,"cut":false,"hidden":false,"merged":[]}
["*Required LCAP Metrics",{"$f":"data!D1","v":"Statewide"},{"$f":"data!E1","v":"District"},{"$f":"data!F1","v":"Black or African American"},{"$f":"data!G1","v":"American Indian or Alaska Native"},{"$f":"data!H1","v":"Asian"},{"$f":"data!I1","v":"Filipino"},{"$f":"data!J1","v":"Hispanic or Latino"},{"$f":"data!K1","v":"Native Hawaiian or Pacific Islander"},{"$f":"data!L1","v":"White"},{"$f":"data!M1","v":"Two or more races"},{"$f":"data!N1","v":"No Race Reported"},{"$f":"data!O1","v":"Socio- economically Disadvantaged"},{"$f":"data!P1","v":"English Learners"},{"$f":"data!Q1","v":"Students with Disabilities"},{"$f":"data!R1","v":"Foster Youth"},{"$f":"data!S1","v":"Reclassified as Fluent English Proficient"},{"$f":"data!T1","v":"District Identified Subgroup 1"},{"$f":"data!U1","v":"District Identified Subgroup 2"},{"$f":"data!V1","v":"Distric Identified Subgroup3"},{"$f":"data!W1","v":"Statewide"},{"$f":"data!X1","v":"District"},{"$f":"data!Y1","v":"Black or African American"},{"$f":"data!Z1","v":"American Indian or Alaska Native"},{"$f":"data!AA1","v":"Asian"},{"$f":"data!AB1","v":"Filipino"},{"$f":"data!AC1","v":"Hispanic or Latino"},{"$f":"data!AD1","v":"Native Hawaiian or Pacific Islander"},{"$f":"data!AE1","v":"White"},{"$f":"data!AF1","v":"Two or more races"},{"$f":"data!AG1","v":"No Race Reported"},{"$f":"data!AH1","v":"Socio- economically Disadvantaged"},{"$f":"data!AI1","v":"English Learners"},{"$f":"data!AJ1","v":"Students with Disabilities"},{"$f":"data!AK1","v":"Foster Youth"},{"$f":"data!AL1","v":"Reclassified as Fluent English Proficient"},{"$f":"data!AM1","v":"District Identified Subgroup 1"},{"$f":"data!AN1","v":"District Identified Subgroup 2"},{"$f":"data!AO1","v":"Distric Identified Subgroup3"}]
[{"$f":"data!B4","v":"State Enrollment"},{"$f":"IF(ISBLANK(data!D4),\"\",data!D4)","v":""},null,{"$f":"IF(ISBLANK(data!F4),\"\",data!F4)","v":""},{"$f":"IF(ISBLANK(data!G4),\"\",data!G4)","v":""},{"$f":"IF(ISBLANK(data!H4),\"\",data!H4)","v":""},{"$f":"IF(ISBLANK(data!I4),\"\",data!I4)","v":""},{"$f":"IF(ISBLANK(data!J4),\"\",data!J4)","v":""},{"$f":"IF(ISBLANK(data!K4),\"\",data!K4)","v":""},{"$f":"IF(ISBLANK(data!L4),\"\",data!L4)","v":""},{"$f":"IF(ISBLANK(data!M4),\"\",data!M4)","v":""},{"$f":"IF(ISBLANK(data!N4),\"\",data!N4)","v":""},{"$f":"IF(ISBLANK(data!O4),\"\",data!O4)","v":""},{"$f":"IF(ISBLANK(data!P4),\"\",data!P4)","v":""},{"$f":"IF(ISBLANK(data!Q4),\"\",data!Q4)","v":""},{"$f":"IF(ISBLANK(data!R4),\"\",data!R4)","v":""},{"$f":"IF(ISBLANK(data!S4),\"\",data!S4)","v":""},{"$f":"IF(ISBLANK(data!T4),\"\",data!T4)","v":""},{"$f":"IF(ISBLANK(data!U4),\"\",data!U4)","v":""},{"$f":"IF(ISBLANK(data!V4),\"\",data!V4)","v":""}]
[{"$f":"data!B7","v":"District Enrollment"},null,{"$f":"IF(ISBLANK(data!E7),\"\",data!E7)","v":""},{"$f":"IF(ISBLANK(data!F7),\"\",data!F7)","v":""},{"$f":"IF(ISBLANK(data!G7),\"\",data!G7)","v":""},{"$f":"IF(ISBLANK(data!H7),\"\",data!H7)","v":""},{"$f":"IF(ISBLANK(data!I7),\"\",data!I7)","v":""},{"$f":"IF(ISBLANK(data!J7),\"\",data!J7)","v":""},{"$f":"IF(ISBLANK(data!K7),\"\",data!K7)","v":""},{"$f":"IF(ISBLANK(data!L7),\"\",data!L7)","v":""},{"$f":"IF(ISBLANK(data!M7),\"\",data!M7)","v":""},{"$f":"IF(ISBLANK(data!N7),\"\",data!N7)","v":""},{"$f":"IF(ISBLANK(data!O7),\"\",data!O7)","v":""},{"$f":"IF(ISBLANK(data!P7),\"\",data!P7)","v":""},{"$f":"IF(ISBLANK(data!Q7),\"\",data!Q7)","v":""},{"$f":"IF(ISBLANK(data!R7),\"\",data!R7)","v":""},{"$f":"IF(ISBLANK(data!S7),\"\",data!S7)","v":""},{"$f":"IF(ISBLANK(data!T7),\"\",data!T7)","v":""},{"$f":"IF(ISBLANK(data!U7),\"\",data!U7)","v":""},{"$f":"IF(ISBLANK(data!V7),\"\",data!V7)","v":""}]
[{"$f":"data!B8","v":"District Enrollment Counts"},null,{"$f":"IF(ISBLANK(data!E8),\"\",data!E8)","v":""},{"$f":"IF(ISBLANK(data!F8),\"\",data!F8)","v":""},{"$f":"IF(ISBLANK(data!G8),\"\",data!G8)","v":""},{"$f":"IF(ISBLANK(data!H8),\"\",data!H8)","v":""},{"$f":"IF(ISBLANK(data!I8),\"\",data!I8)","v":""},{"$f":"IF(ISBLANK(data!J8),\"\",data!J8)","v":""},{"$f":"IF(ISBLANK(data!K8),\"\",data!K8)","v":""},{"$f":"IF(ISBLANK(data!L8),\"\",data!L8)","v":""},{"$f":"IF(ISBLANK(data!M8),\"\",data!M8)","v":""},{"$f":"IF(ISBLANK(data!N8),\"\",data!N8)","v":""},{"$f":"IF(ISBLANK(data!O8),\"\",data!O8)","v":""},{"$f":"IF(ISBLANK(data!P8),\"\",data!P8)","v":""},{"$f":"IF(ISBLANK(data!Q8),\"\",data!Q8)","v":""},{"$f":"IF(ISBLANK(data!R8),\"\",data!R8)","v":""},{"$f":"IF(ISBLANK(data!S8),\"\",data!S8)","v":""},{"$f":"IF(ISBLANK(data!T8),\"\",data!T8)","v":""},{"$f":"IF(ISBLANK(data!U8),\"\",data!U8)","v":""},{"$f":"IF(ISBLANK(data!V8),\"\",data!V8)","v":""}]
["Conditions of Learning"]
["1. Basic Services",null,null,{"$f":"IF(COUNTA(W7:W17)-COUNTBLANK(W7:W17)>0,(COUNTIF(W7:W17,\">=0\")/(COUNTA(W7:W17)-COUNTBLANK(W7:W17))),\"\")","v":""},{"$f":"IF(COUNTA(X7:X17)-COUNTBLANK(X7:X17)>0,(COUNTIF(X7:X17,\">=0\")/(COUNTA(X7:X17)-COUNTBLANK(X7:X17))),\"\")","v":""},"","","","","","","","","","","","","","",""]
[{"$f":"IF(ISBLANK(data!B11),\"\",data!B11)","v":"Teacher Missassignment Rate*"},{"$f":"IF(ISBLANK(data!D11),\"\",data!D11)","v":""},{"$f":"IF(ISBLANK(data!E11),\"\",data!E11)","v":""},{"$f":"IF(ISBLANK(data!F11),\"\",data!F11)","v":""},{"$f":"IF(ISBLANK(data!G11),\"\",data!G11)","v":""},{"$f":"IF(ISBLANK(data!H11),\"\",data!H11)","v":""},{"$f":"IF(ISBLANK(data!I11),\"\",data!I11)","v":""},{"$f":"IF(ISBLANK(data!J11),\"\",data!J11)","v":""},{"$f":"IF(ISBLANK(data!K11),\"\",data!K11)","v":""},{"$f":"IF(ISBLANK(data!L11),\"\",data!L11)","v":""},{"$f":"IF(ISBLANK(data!M11),\"\",data!M11)","v":""},{"$f":"IF(ISBLANK(data!N11),\"\",data!N11)","v":""},{"$f":"IF(ISBLANK(data!O11),\"\",data!O11)","v":""},{"$f":"IF(ISBLANK(data!P11),\"\",data!P11)","v":""},{"$f":"IF(ISBLANK(data!Q11),\"\",data!Q11)","v":""},{"$f":"IF(ISBLANK(data!R11),\"\",data!R11)","v":""},{"$f":"IF(ISBLANK(data!S11),\"\",data!S11)","v":""},{"$f":"IF(ISBLANK(data!T11),\"\",data!T11)","v":""},{"$f":"IF(ISBLANK(data!U11),\"\",data!U11)","v":""},{"$f":"IF(ISBLANK(data!V11),\"\",data!V11)","v":""},null,null,{"$f":"IF(D7<>\"\",D7-$C7,\"\")","v":""},{"$f":"IF(E7<>\"\",E7-$C7,\"\")","v":""},"","","","","","","","","","","","","","",""]
[{"$f":"IF(ISBLANK(data!B14),\"\",data!B14)","v":"Student Lacking Own Copy of Textbook Rate*"},{"$f":"IF(ISBLANK(data!D14),\"\",data!D14)","v":""},{"$f":"IF(ISBLANK(data!E14),\"\",data!E14)","v":""},{"$f":"IF(ISBLANK(data!F14),\"\",data!F14)","v":""},{"$f":"IF(ISBLANK(data!G14),\"\",data!G14)","v":""},{"$f":"IF(ISBLANK(data!H14),\"\",data!H14)","v":""},{"$f":"IF(ISBLANK(data!I14),\"\",data!I14)","v":""},{"$f":"IF(ISBLANK(data!J14),\"\",data!J14)","v":""},{"$f":"IF(ISBLANK(data!K14),\"\",data!K14)","v":""},{"$f":"IF(ISBLANK(data!L14),\"\",data!L14)","v":""},{"$f":"IF(ISBLANK(data!M14),\"\",data!M14)","v":""},{"$f":"IF(ISBLANK(data!N14),\"\",data!N14)","v":""},{"$f":"IF(ISBLANK(data!O14),\"\",data!O14)","v":""},{"$f":"IF(ISBLANK(data!P14),\"\",data!P14)","v":""},{"$f":"IF(ISBLANK(data!Q14),\"\",data!Q14)","v":""},{"$f":"IF(ISBLANK(data!R14),\"\",data!R14)","v":""},{"$f":"IF(ISBLANK(data!S14),\"\",data!S14)","v":""},{"$f":"IF(ISBLANK(data!T14),\"\",data!T14)","v":""},{"$f":"IF(ISBLANK(data!U14),\"\",data!U14)","v":""},{"$f":"IF(ISBLANK(data!V14),\"\",data!V14)","v":""},null,null,{"$f":"IF(D8<>\"\",D8-$C8,\"\")","v":""},{"$f":"IF(E8<>\"\",E8-$C8,\"\")","v":""},{"$f":"IF(F8<>\"\",F8-$C8,\"\")","v":""},{"$f":"IF(G8<>\"\",G8-$C8,\"\")","v":""},{"$f":"IF(H8<>\"\",H8-$C8,\"\")","v":""},{"$f":"IF(I8<>\"\",I8-$C8,\"\")","v":""},{"$f":"IF(J8<>\"\",J8-$C8,\"\")","v":""},{"$f":"IF(K8<>\"\",K8-$C8,\"\")","v":""},{"$f":"IF(L8<>\"\",L8-$C8,\"\")","v":""},{"$f":"IF(M8<>\"\",M8-$C8,\"\")","v":""},{"$f":"IF(N8<>\"\",N8-$C8,\"\")","v":""},{"$f":"IF(O8<>\"\",O8-$C8,\"\")","v":""},{"$f":"IF(P8<>\"\",P8-$C8,\"\")","v":""},{"$f":"IF(Q8<>\"\",Q8-$C8,\"\")","v":""},{"$f":"IF(R8<>\"\",R8-$C8,\"\")","v":""},{"$f":"IF(S8<>\"\",S8-$C8,\"\")","v":""},{"$f":"IF(T8<>\"\",T8-$C8,\"\")","v":""}]
[{"$f":"IF(ISBLANK(data!B17),\"\",data!B17)","v":"Overall Facility Rating*"},{"$f":"IF(ISBLANK(data!D17),\"\",data!D17)","v":""},{"$f":"IF(ISBLANK(data!E17),\"\",data!E17)","v":""},{"$f":"IF(ISBLANK(data!F17),\"\",data!F17)","v":""},{"$f":"IF(ISBLANK(data!G17),\"\",data!G17)","v":""},{"$f":"IF(ISBLANK(data!H17),\"\",data!H17)","v":""},{"$f":"IF(ISBLANK(data!I17),\"\",data!I17)","v":""},{"$f":"IF(ISBLANK(data!J17),\"\",data!J17)","v":""},{"$f":"IF(ISBLANK(data!K17),\"\",data!K17)","v":""},{"$f":"IF(ISBLANK(data!L17),\"\",data!L17)","v":""},{"$f":"IF(ISBLANK(data!M17),\"\",data!M17)","v":""},{"$f":"IF(ISBLANK(data!N17),\"\",data!N17)","v":""},{"$f":"IF(ISBLANK(data!O17),\"\",data!O17)","v":""},{"$f":"IF(ISBLANK(data!P17),\"\",data!P17)","v":""},{"$f":"IF(ISBLANK(data!Q17),\"\",data!Q17)","v":""},{"$f":"IF(ISBLANK(data!R17),\"\",data!R17)","v":""},{"$f":"IF(ISBLANK(data!S17),\"\",data!S17)","v":""},{"$f":"IF(ISBLANK(data!T17),\"\",data!T17)","v":""},{"$f":"IF(ISBLANK(data!U17),\"\",data!U17)","v":""},{"$f":"IF(ISBLANK(data!V17),\"\",data!V17)","v":""},null,null,"","","","","","","","","","","","","","","","",""]
[{"$f":"IF(ISBLANK(data!B20),\"\",data!B20)","v":"Credentialed Teacher Rate"},{"$f":"IF(ISBLANK(data!D20),\"\",data!D20)","v":""},{"$f":"IF(ISBLANK(data!E20),\"\",data!E20)","v":""},{"$f":"IF(ISBLANK(data!F20),\"\",data!F20)","v":""},{"$f":"IF(ISBLANK(data!G20),\"\",data!G20)","v":""},{"$f":"IF(ISBLANK(data!H20),\"\",data!H20)","v":""},{"$f":"IF(ISBLANK(data!I20),\"\",data!I20)","v":""},{"$f":"IF(ISBLANK(data!J20),\"\",data!J20)","v":""},{"$f":"IF(ISBLANK(data!K20),\"\",data!K20)","v":""},{"$f":"IF(ISBLANK(data!L20),\"\",data!L20)","v":""},{"$f":"IF(ISBLANK(data!M20),\"\",data!M20)","v":""},{"$f":"IF(ISBLANK(data!N20),\"\",data!N20)","v":""},{"$f":"IF(ISBLANK(data!O20),\"\",data!O20)","v":""},{"$f":"IF(ISBLANK(data!P20),\"\",data!P20)","v":""},{"$f":"IF(ISBLANK(data!Q20),\"\",data!Q20)","v":""},{"$f":"IF(ISBLANK(data!R20),\"\",data!R20)","v":""},{"$f":"IF(ISBLANK(data!S20),\"\",data!S20)","v":""},{"$f":"IF(ISBLANK(data!T20),\"\",data!T20)","v":""},{"$f":"IF(ISBLANK(data!U20),\"\",data!U20)","v":""},{"$f":"IF(ISBLANK(data!V20),\"\",data!V20)","v":""},null,null,"","","","","","","","","","","","","","","","",""]
[{"$f":"IF(ISBLANK(data!B23),\"\",data!B23)","v":"Credentialed Teacher Teaching Outside of Subject Area Rate"},{"$f":"IF(ISBLANK(data!D23),\"\",data!D23)","v":""},{"$f":"IF(ISBLANK(data!E23),\"\",data!E23)","v":""},{"$f":"IF(ISBLANK(data!F23),\"\",data!F23)","v":""},{"$f":"IF(ISBLANK(data!G23),\"\",data!G23)","v":""},{"$f":"IF(ISBLANK(data!H23),\"\",data!H23)","v":""},{"$f":"IF(ISBLANK(data!I23),\"\",data!I23)","v":""},{"$f":"IF(ISBLANK(data!J23),\"\",data!J23)","v":""},{"$f":"IF(ISBLANK(data!K23),\"\",data!K23)","v":""},{"$f":"IF(ISBLANK(data!L23),\"\",data!L23)","v":""},{"$f":"IF(ISBLANK(data!M23),\"\",data!M23)","v":""},{"$f":"IF(ISBLANK(data!N23),\"\",data!N23)","v":""},{"$f":"IF(ISBLANK(data!O23),\"\",data!O23)","v":""},{"$f":"IF(ISBLANK(data!P23),\"\",data!P23)","v":""},{"$f":"IF(ISBLANK(data!Q23),\"\",data!Q23)","v":""},{"$f":"IF(ISBLANK(data!R23),\"\",data!R23)","v":""},{"$f":"IF(ISBLANK(data!S23),\"\",data!S23)","v":""},{"$f":"IF(ISBLANK(data!T23),\"\",data!T23)","v":""},{"$f":"IF(ISBLANK(data!U23),\"\",data!U23)","v":""},{"$f":"IF(ISBLANK(data!V23),\"\",data!V23)","v":""},null,null,"","","","","","","","","","","","","","","","",""]
[{"$f":"IF(ISBLANK(data!B26),\"\",data!B26)","v":"Teacher of English Learners Missassignment Rate"},{"$f":"IF(ISBLANK(data!D26),\"\",data!D26)","v":""},{"$f":"IF(ISBLANK(data!E26),\"\",data!E26)","v":""},{"$f":"IF(ISBLANK(data!F26),\"\",data!F26)","v":""},{"$f":"IF(ISBLANK(data!G26),\"\",data!G26)","v":""},{"$f":"IF(ISBLANK(data!H26),\"\",data!H26)","v":""},{"$f":"IF(ISBLANK(data!I26),\"\",data!I26)","v":""},{"$f":"IF(ISBLANK(data!J26),\"\",data!J26)","v":""},{"$f":"IF(ISBLANK(data!K26),\"\",data!K26)","v":""},{"$f":"IF(ISBLANK(data!L26),\"\",data!L26)","v":""},{"$f":"IF(ISBLANK(data!M26),\"\",data!M26)","v":""},{"$f":"IF(ISBLANK(data!N26),\"\",data!N26)","v":""},{"$f":"IF(ISBLANK(data!O26),\"\",data!O26)","v":""},{"$f":"IF(ISBLANK(data!P26),\"\",data!P26)","v":""},{"$f":"IF(ISBLANK(data!Q26),\"\",data!Q26)","v":""},{"$f":"IF(ISBLANK(data!R26),\"\",data!R26)","v":""},{"$f":"IF(ISBLANK(data!S26),\"\",data!S26)","v":""},{"$f":"IF(ISBLANK(data!T26),\"\",data!T26)","v":""},{"$f":"IF(ISBLANK(data!U26),\"\",data!U26)","v":""},{"$f":"IF(ISBLANK(data!V26),\"\",data!V26)","v":""},null,null,"","","","","","","","","","","","","","","","",""]
[{"$f":"IF(ISBLANK(data!B29),\"\",data!B29)","v":"Highly Qualified Teacher Rate"},{"$f":"IF(ISBLANK(data!D29),\"\",data!D29)","v":""},{"$f":"IF(ISBLANK(data!E29),\"\",data!E29)","v":""},{"$f":"IF(ISBLANK(data!F29),\"\",data!F29)","v":""},{"$f":"IF(ISBLANK(data!G29),\"\",data!G29)","v":""},{"$f":"IF(ISBLANK(data!H29),\"\",data!H29)","v":""},{"$f":"IF(ISBLANK(data!I29),\"\",data!I29)","v":""},{"$f":"IF(ISBLANK(data!J29),\"\",data!J29)","v":""},{"$f":"IF(ISBLANK(data!K29),\"\",data!K29)","v":""},{"$f":"IF(ISBLANK(data!L29),\"\",data!L29)","v":""},{"$f":"IF(ISBLANK(data!M29),\"\",data!M29)","v":""},{"$f":"IF(ISBLANK(data!N29),\"\",data!N29)","v":""},{"$f":"IF(ISBLANK(data!O29),\"\",data!O29)","v":""},{"$f":"IF(ISBLANK(data!P29),\"\",data!P29)","v":""},{"$f":"IF(ISBLANK(data!Q29),\"\",data!Q29)","v":""},{"$f":"IF(ISBLANK(data!R29),\"\",data!R29)","v":""},{"$f":"IF(ISBLANK(data!S29),\"\",data!S29)","v":""},{"$f":"IF(ISBLANK(data!T29),\"\",data!T29)","v":""},{"$f":"IF(ISBLANK(data!U29),\"\",data!U29)","v":""},{"$f":"IF(ISBLANK(data!V29),\"\",data!V29)","v":""},null,null,"","","","","","","","","","","","","","","","",""]
[{"$f":"IF(ISBLANK(data!B32),\"\",data!B32)","v":"Most Recently Adopted Textbooks Rate"},{"$f":"IF(ISBLANK(data!D32),\"\",data!D32)","v":""},{"$f":"IF(ISBLANK(data!E32),\"\",data!E32)","v":""},{"$f":"IF(ISBLANK(data!F32),\"\",data!F32)","v":""},{"$f":"IF(ISBLANK(data!G32),\"\",data!G32)","v":""},{"$f":"IF(ISBLANK(data!H32),\"\",data!H32)","v":""},{"$f":"IF(ISBLANK(data!I32),\"\",data!I32)","v":""},{"$f":"IF(ISBLANK(data!J32),\"\",data!J32)","v":""},{"$f":"IF(ISBLANK(data!K32),\"\",data!K32)","v":""},{"$f":"IF(ISBLANK(data!L32),\"\",data!L32)","v":""},{"$f":"IF(ISBLANK(data!M32),\"\",data!M32)","v":""},{"$f":"IF(ISBLANK(data!N32),\"\",data!N32)","v":""},{"$f":"IF(ISBLANK(data!O32),\"\",data!O32)","v":""},{"$f":"IF(ISBLANK(data!P32),\"\",data!P32)","v":""},{"$f":"IF(ISBLANK(data!Q32),\"\",data!Q32)","v":""},{"$f":"IF(ISBLANK(data!R32),\"\",data!R32)","v":""},{"$f":"IF(ISBLANK(data!S32),\"\",data!S32)","v":""},{"$f":"IF(ISBLANK(data!T32),\"\",data!T32)","v":""},{"$f":"IF(ISBLANK(data!U32),\"\",data!U32)","v":""},{"$f":"IF(ISBLANK(data!V32),\"\",data!V32)","v":""},null,null,"","","","","","","","","","","","","","","","",""]
[{"$f":"IF(ISBLANK(data!B35),\"\",data!B35)","v":"District Identified 1"},{"$f":"IF(ISBLANK(data!D35),\"\",data!D35)","v":""},{"$f":"IF(ISBLANK(data!E35),\"\",data!E35)","v":""},{"$f":"IF(ISBLANK(data!F35),\"\",data!F35)","v":""},{"$f":"IF(ISBLANK(data!G35),\"\",data!G35)","v":""},{"$f":"IF(ISBLANK(data!H35),\"\",data!H35)","v":""},{"$f":"IF(ISBLANK(data!I35),\"\",data!I35)","v":""},{"$f":"IF(ISBLANK(data!J35),\"\",data!J35)","v":""},{"$f":"IF(ISBLANK(data!K35),\"\",data!K35)","v":""},{"$f":"IF(ISBLANK(data!L35),\"\",data!L35)","v":""},{"$f":"IF(ISBLANK(data!M35),\"\",data!M35)","v":""},{"$f":"IF(ISBLANK(data!N35),\"\",data!N35)","v":""},{"$f":"IF(ISBLANK(data!O35),\"\",data!O35)","v":""},{"$f":"IF(ISBLANK(data!P35),\"\",data!P35)","v":""},{"$f":"IF(ISBLANK(data!Q35),\"\",data!Q35)","v":""},{"$f":"IF(ISBLANK(data!R35),\"\",data!R35)","v":""},{"$f":"IF(ISBLANK(data!S35),\"\",data!S35)","v":""},{"$f":"IF(ISBLANK(data!T35),\"\",data!T35)","v":""},{"$f":"IF(ISBLANK(data!U35),\"\",data!U35)","v":""},{"$f":"IF(ISBLANK(data!V35),\"\",data!V35)","v":""},null,null,"","","","","","","","","","","","","","","","",""]
[{"$f":"IF(ISBLANK(data!B38),\"\",data!B38)","v":"District Identified 2"},{"$f":"IF(ISBLANK(data!D38),\"\",data!D38)","v":""},{"$f":"IF(ISBLANK(data!E38),\"\",data!E38)","v":""},{"$f":"IF(ISBLANK(data!F38),\"\",data!F38)","v":""},{"$f":"IF(ISBLANK(data!G38),\"\",data!G38)","v":""},{"$f":"IF(ISBLANK(data!H38),\"\",data!H38)","v":""},{"$f":"IF(ISBLANK(data!I38),\"\",data!I38)","v":""},{"$f":"IF(ISBLANK(data!J38),\"\",data!J38)","v":""},{"$f":"IF(ISBLANK(data!K38),\"\",data!K38)","v":""},{"$f":"IF(ISBLANK(data!L38),\"\",data!L38)","v":""},{"$f":"IF(ISBLANK(data!M38),\"\",data!M38)","v":""},{"$f":"IF(ISBLANK(data!N38),\"\",data!N38)","v":""},{"$f":"IF(ISBLANK(data!O38),\"\",data!O38)","v":""},{"$f":"IF(ISBLANK(data!P38),\"\",data!P38)","v":""},{"$f":"IF(ISBLANK(data!Q38),\"\",data!Q38)","v":""},{"$f":"IF(ISBLANK(data!R38),\"\",data!R38)","v":""},{"$f":"IF(ISBLANK(data!S38),\"\",data!S38)","v":""},{"$f":"IF(ISBLANK(data!T38),\"\",data!T38)","v":""},{"$f":"IF(ISBLANK(data!U38),\"\",data!U38)","v":""},{"$f":"IF(ISBLANK(data!V38),\"\",data!V38)","v":""},null,null,"","","","","","","","","","","","","","","","",""]
[{"$f":"IF(ISBLANK(data!B41),\"\",data!B41)","v":"District Identified 3"},{"$f":"IF(ISBLANK(data!D41),\"\",data!D41)","v":""},{"$f":"IF(ISBLANK(data!E41),\"\",data!E41)","v":""},{"$f":"IF(ISBLANK(data!F41),\"\",data!F41)","v":""},{"$f":"IF(ISBLANK(data!G41),\"\",data!G41)","v":""},{"$f":"IF(ISBLANK(data!H41),\"\",data!H41)","v":""},{"$f":"IF(ISBLANK(data!I41),\"\",data!I41)","v":""},{"$f":"IF(ISBLANK(data!J41),\"\",data!J41)","v":""},{"$f":"IF(ISBLANK(data!K41),\"\",data!K41)","v":""},{"$f":"IF(ISBLANK(data!L41),\"\",data!L41)","v":""},{"$f":"IF(ISBLANK(data!M41),\"\",data!M41)","v":""},{"$f":"IF(ISBLANK(data!N41),\"\",data!N41)","v":""},{"$f":"IF(ISBLANK(data!O41),\"\",data!O41)","v":""},{"$f":"IF(ISBLANK(data!P41),\"\",data!P41)","v":""},{"$f":"IF(ISBLANK(data!Q41),\"\",data!Q41)","v":""},{"$f":"IF(ISBLANK(data!R41),\"\",data!R41)","v":""},{"$f":"IF(ISBLANK(data!S41),\"\",data!S41)","v":""},{"$f":"IF(ISBLANK(data!T41),\"\",data!T41)","v":""},{"$f":"IF(ISBLANK(data!U41),\"\",data!U41)","v":""},{"$f":"IF(ISBLANK(data!V41),\"\",data!V41)","v":""},null,null,"","","","","","","","","","","","","","","","",""]
["2. Implementation\nof Sate Standards",null,null,{"$f":"IF(COUNTA(W19:W24)-COUNTBLANK(W19:W24)>0,(COUNTIF(W19:W24,\">=0\")/(COUNTA(W19:W24)-COUNTBLANK(W19:W24))),\"\")","v":""},{"$f":"IF(COUNTA(X19:X24)-COUNTBLANK(X19:X24)>0,(COUNTIF(X19:X24,\">=0\")/(COUNTA(X19:X24)-COUNTBLANK(X19:X24))),\"\")","v":""},"","","","","","","","","","","","","","",""]
[{"$f":"IF(ISBLANK(data!B44),\"\",data!B44)","v":"Common Core ELA Implementation*"},{"$f":"IF(ISBLANK(data!D44),\"\",data!D44)","v":""},{"$f":"IF(ISBLANK(data!E44),\"\",data!E44)","v":""},{"$f":"IF(ISBLANK(data!F44),\"\",data!F44)","v":""},{"$f":"IF(ISBLANK(data!G44),\"\",data!G44)","v":""},{"$f":"IF(ISBLANK(data!H44),\"\",data!H44)","v":""},{"$f":"IF(ISBLANK(data!I44),\"\",data!I44)","v":""},{"$f":"IF(ISBLANK(data!J44),\"\",data!J44)","v":""},{"$f":"IF(ISBLANK(data!K44),\"\",data!K44)","v":""},{"$f":"IF(ISBLANK(data!L44),\"\",data!L44)","v":""},{"$f":"IF(ISBLANK(data!M44),\"\",data!M44)","v":""},{"$f":"IF(ISBLANK(data!N44),\"\",data!N44)","v":""},{"$f":"IF(ISBLANK(data!O44),\"\",data!O44)","v":""},{"$f":"IF(ISBLANK(data!P44),\"\",data!P44)","v":""},{"$f":"IF(ISBLANK(data!Q44),\"\",data!Q44)","v":""},{"$f":"IF(ISBLANK(data!R44),\"\",data!R44)","v":""},{"$f":"IF(ISBLANK(data!S44),\"\",data!S44)","v":""},{"$f":"IF(ISBLANK(data!T44),\"\",data!T44)","v":""},{"$f":"IF(ISBLANK(data!U44),\"\",data!U44)","v":""},{"$f":"IF(ISBLANK(data!V44),\"\",data!V44)","v":""},null,null,{"$f":"IF(D19<>\"\",D19-$C19,\"\")","v":""},{"$f":"IF(E19<>\"\",E19-$C19,\"\")","v":""},"","","","","","","","","","","","","","",""]
[{"$f":"IF(ISBLANK(data!B47),\"\",data!B47)","v":"Common Core Math Implementation*"},{"$f":"IF(ISBLANK(data!D47),\"\",data!D47)","v":""},{"$f":"IF(ISBLANK(data!E47),\"\",data!E47)","v":""},{"$f":"IF(ISBLANK(data!F47),\"\",data!F47)","v":""},{"$f":"IF(ISBLANK(data!G47),\"\",data!G47)","v":""},{"$f":"IF(ISBLANK(data!H47),\"\",data!H47)","v":""},{"$f":"IF(ISBLANK(data!I47),\"\",data!I47)","v":""},{"$f":"IF(ISBLANK(data!J47),\"\",data!J47)","v":""},{"$f":"IF(ISBLANK(data!K47),\"\",data!K47)","v":""},{"$f":"IF(ISBLANK(data!L47),\"\",data!L47)","v":""},{"$f":"IF(ISBLANK(data!M47),\"\",data!M47)","v":""},{"$f":"IF(ISBLANK(data!N47),\"\",data!N47)","v":""},{"$f":"IF(ISBLANK(data!O47),\"\",data!O47)","v":""},{"$f":"IF(ISBLANK(data!P47),\"\",data!P47)","v":""},{"$f":"IF(ISBLANK(data!Q47),\"\",data!Q47)","v":""},{"$f":"IF(ISBLANK(data!R47),\"\",data!R47)","v":""},{"$f":"IF(ISBLANK(data!S47),\"\",data!S47)","v":""},{"$f":"IF(ISBLANK(data!T47),\"\",data!T47)","v":""},{"$f":"IF(ISBLANK(data!U47),\"\",data!U47)","v":""},{"$f":"IF(ISBLANK(data!V47),\"\",data!V47)","v":""},null,null,"",{"$f":"IF(E20<>\"\",E20-$C20,\"\")","v":""},"","","","","","","","","","","","","","",""]
[{"$f":"IF(ISBLANK(data!B50),\"\",data!B50)","v":"Common Core for English Learners*"},{"$f":"IF(ISBLANK(data!D50),\"\",data!D50)","v":""},{"$f":"IF(ISBLANK(data!E50),\"\",data!E50)","v":""},{"$f":"IF(ISBLANK(data!F50),\"\",data!F50)","v":""},{"$f":"IF(ISBLANK(data!G50),\"\",data!G50)","v":""},{"$f":"IF(ISBLANK(data!H50),\"\",data!H50)","v":""},{"$f":"IF(ISBLANK(data!I50),\"\",data!I50)","v":""},{"$f":"IF(ISBLANK(data!J50),\"\",data!J50)","v":""},{"$f":"IF(ISBLANK(data!K50),\"\",data!K50)","v":""},{"$f":"IF(ISBLANK(data!L50),\"\",data!L50)","v":""},{"$f":"IF(ISBLANK(data!M50),\"\",data!M50)","v":""},{"$f":"IF(ISBLANK(data!N50),\"\",data!N50)","v":""},{"$f":"IF(ISBLANK(data!O50),\"\",data!O50)","v":""},{"$f":"IF(ISBLANK(data!P50),\"\",data!P50)","v":""},{"$f":"IF(ISBLANK(data!Q50),\"\",data!Q50)","v":""},{"$f":"IF(ISBLANK(data!R50),\"\",data!R50)","v":""},{"$f":"IF(ISBLANK(data!S50),\"\",data!S50)","v":""},{"$f":"IF(ISBLANK(data!T50),\"\",data!T50)","v":""},{"$f":"IF(ISBLANK(data!U50),\"\",data!U50)","v":""},{"$f":"IF(ISBLANK(data!V50),\"\",data!V50)","v":""},null,null,"","","","","","","","","","","","","","","","",""]
[{"$f":"IF(ISBLANK(data!B53),\"\",data!B53)","v":"District Identified 4"},{"$f":"IF(ISBLANK(data!D53),\"\",data!D53)","v":""},{"$f":"IF(ISBLANK(data!E53),\"\",data!E53)","v":""},{"$f":"IF(ISBLANK(data!F53),\"\",data!F53)","v":""},{"$f":"IF(ISBLANK(data!G53),\"\",data!G53)","v":""},{"$f":"IF(ISBLANK(data!H53),\"\",data!H53)","v":""},{"$f":"IF(ISBLANK(data!I53),\"\",data!I53)","v":""},{"$f":"IF(ISBLANK(data!J53),\"\",data!J53)","v":""},{"$f":"IF(ISBLANK(data!K53),\"\",data!K53)","v":""},{"$f":"IF(ISBLANK(data!L53),\"\",data!L53)","v":""},{"$f":"IF(ISBLANK(data!M53),\"\",data!M53)","v":""},{"$f":"IF(ISBLANK(data!N53),\"\",data!N53)","v":""},{"$f":"IF(ISBLANK(data!O53),\"\",data!O53)","v":""},{"$f":"IF(ISBLANK(data!P53),\"\",data!P53)","v":""},{"$f":"IF(ISBLANK(data!Q53),\"\",data!Q53)","v":""},{"$f":"IF(ISBLANK(data!R53),\"\",data!R53)","v":""},{"$f":"IF(ISBLANK(data!S53),\"\",data!S53)","v":""},{"$f":"IF(ISBLANK(data!T53),\"\",data!T53)","v":""},{"$f":"IF(ISBLANK(data!U53),\"\",data!U53)","v":""},{"$f":"IF(ISBLANK(data!V53),\"\",data!V53)","v":""},null,null,"","","","","","","","","","","","","","","","",""]
[{"$f":"IF(ISBLANK(data!B56),\"\",data!B56)","v":"District Identified 5"},{"$f":"IF(ISBLANK(data!D56),\"\",data!D56)","v":""},{"$f":"IF(ISBLANK(data!E56),\"\",data!E56)","v":""},{"$f":"IF(ISBLANK(data!F56),\"\",data!F56)","v":""},{"$f":"IF(ISBLANK(data!G56),\"\",data!G56)","v":""},{"$f":"IF(ISBLANK(data!H56),\"\",data!H56)","v":""},{"$f":"IF(ISBLANK(data!I56),\"\",data!I56)","v":""},{"$f":"IF(ISBLANK(data!J56),\"\",data!J56)","v":""},{"$f":"IF(ISBLANK(data!K56),\"\",data!K56)","v":""},{"$f":"IF(ISBLANK(data!L56),\"\",data!L56)","v":""},{"$f":"IF(ISBLANK(data!M56),\"\",data!M56)","v":""},{"$f":"IF(ISBLANK(data!N56),\"\",data!N56)","v":""},{"$f":"IF(ISBLANK(data!O56),\"\",data!O56)","v":""},{"$f":"IF(ISBLANK(data!P56),\"\",data!P56)","v":""},{"$f":"IF(ISBLANK(data!Q56),\"\",data!Q56)","v":""},{"$f":"IF(ISBLANK(data!R56),\"\",data!R56)","v":""},{"$f":"IF(ISBLANK(data!S56),\"\",data!S56)","v":""},{"$f":"IF(ISBLANK(data!T56),\"\",data!T56)","v":""},{"$f":"IF(ISBLANK(data!U56),\"\",data!U56)","v":""},{"$f":"IF(ISBLANK(data!V56),\"\",data!V56)","v":""},null,null,"","","","","","","","","","","","","","","","",""]
[{"$f":"IF(ISBLANK(data!B59),\"\",data!B59)","v":"District Identified 6"},{"$f":"IF(ISBLANK(data!D59),\"\",data!D59)","v":""},{"$f":"IF(ISBLANK(data!E59),\"\",data!E59)","v":""},{"$f":"IF(ISBLANK(data!F59),\"\",data!F59)","v":""},{"$f":"IF(ISBLANK(data!G59),\"\",data!G59)","v":""},{"$f":"IF(ISBLANK(data!H59),\"\",data!H59)","v":""},{"$f":"IF(ISBLANK(data!I59),\"\",data!I59)","v":""},{"$f":"IF(ISBLANK(data!J59),\"\",data!J59)","v":""},{"$f":"IF(ISBLANK(data!K59),\"\",data!K59)","v":""},{"$f":"IF(ISBLANK(data!L59),\"\",data!L59)","v":""},{"$f":"IF(ISBLANK(data!M59),\"\",data!M59)","v":""},{"$f":"IF(ISBLANK(data!N59),\"\",data!N59)","v":""},{"$f":"IF(ISBLANK(data!O59),\"\",data!O59)","v":""},{"$f":"IF(ISBLANK(data!P59),\"\",data!P59)","v":""},{"$f":"IF(ISBLANK(data!Q59),\"\",data!Q59)","v":""},{"$f":"IF(ISBLANK(data!R59),\"\",data!R59)","v":""},{"$f":"IF(ISBLANK(data!S59),\"\",data!S59)","v":""},{"$f":"IF(ISBLANK(data!T59),\"\",data!T59)","v":""},{"$f":"IF(ISBLANK(data!U59),\"\",data!U59)","v":""},{"$f":"IF(ISBLANK(data!V59),\"\",data!V59)","v":""},null,null,"","","","","","","","","","","","","","","","",""]
["7. Course Access",null,null,{"$f":"IF(COUNTA(W26:W33)-COUNTBLANK(W26:W33)>0,(COUNTIF(W26:W33,\">=0\")/(COUNTA(W26:W33)-COUNTBLANK(W26:W33))),\"\")","v":""},"","","","","","","","","","","","","","","",""]
[{"$f":"IF(ISBLANK(data!B62),\"\",data!B62)","v":"CTE Enrollment Rate"},{"$f":"IF(ISBLANK(data!D62),\"\",data!D62)","v":""},{"$f":"IF(ISBLANK(data!E62),\"\",data!E62)","v":""},{"$f":"IF(ISBLANK(data!F62),\"\",data!F62)","v":""},{"$f":"IF(ISBLANK(data!G62),\"\",data!G62)","v":""},{"$f":"IF(ISBLANK(data!H62),\"\",data!H62)","v":""},{"$f":"IF(ISBLANK(data!I62),\"\",data!I62)","v":""},{"$f":"IF(ISBLANK(data!J62),\"\",data!J62)","v":""},{"$f":"IF(ISBLANK(data!K62),\"\",data!K62)","v":""},{"$f":"IF(ISBLANK(data!L62),\"\",data!L62)","v":""},{"$f":"IF(ISBLANK(data!M62),\"\",data!M62)","v":""},{"$f":"IF(ISBLANK(data!N62),\"\",data!N62)","v":""},{"$f":"IF(ISBLANK(data!O62),\"\",data!O62)","v":""},{"$f":"IF(ISBLANK(data!P62),\"\",data!P62)","v":""},{"$f":"IF(ISBLANK(data!Q62),\"\",data!Q62)","v":""},{"$f":"IF(ISBLANK(data!R62),\"\",data!R62)","v":""},{"$f":"IF(ISBLANK(data!S62),\"\",data!S62)","v":""},{"$f":"IF(ISBLANK(data!T62),\"\",data!T62)","v":""},{"$f":"IF(ISBLANK(data!U62),\"\",data!U62)","v":""},{"$f":"IF(ISBLANK(data!V62),\"\",data!V62)","v":""},null,null,{"$f":"IF(D26<>\"\",D26-$C26,\"\")","v":""},{"$f":"IF(E26<>\"\",E26-$C26,\"\")","v":""},{"$f":"IF(F26<>\"\",F26-$C26,\"\")","v":""},{"$f":"IF(G26<>\"\",G26-$C26,\"\")","v":""},{"$f":"IF(H26<>\"\",H26-$C26,\"\")","v":""},{"$f":"IF(I26<>\"\",I26-$C26,\"\")","v":""},{"$f":"IF(J26<>\"\",J26-$C26,\"\")","v":""},{"$f":"IF(K26<>\"\",K26-$C26,\"\")","v":""},{"$f":"IF(L26<>\"\",L26-$C26,\"\")","v":""},{"$f":"IF(M26<>\"\",M26-$C26,\"\")","v":""},{"$f":"IF(N26<>\"\",N26-$C26,\"\")","v":""},{"$f":"IF(O26<>\"\",O26-$C26,\"\")","v":""},{"$f":"IF(P26<>\"\",P26-$C26,\"\")","v":""},{"$f":"IF(Q26<>\"\",Q26-$C26,\"\")","v":""},{"$f":"IF(R26<>\"\",R26-$C26,\"\")","v":""},{"$f":"IF(S26<>\"\",S26-$C26,\"\")","v":""},{"$f":"IF(T26<>\"\",T26-$C26,\"\")","v":""}]
[{"$f":"IF(ISBLANK(data!B65),\"\",data!B65)","v":"UC/CSU Required Course Enrollment Rate"},{"$f":"IF(ISBLANK(data!D65),\"\",data!D65)","v":""},{"$f":"IF(ISBLANK(data!E65),\"\",data!E65)","v":""},{"$f":"IF(ISBLANK(data!F65),\"\",data!F65)","v":""},{"$f":"IF(ISBLANK(data!G65),\"\",data!G65)","v":""},{"$f":"IF(ISBLANK(data!H65),\"\",data!H65)","v":""},{"$f":"IF(ISBLANK(data!I65),\"\",data!I65)","v":""},{"$f":"IF(ISBLANK(data!J65),\"\",data!J65)","v":""},{"$f":"IF(ISBLANK(data!K65),\"\",data!K65)","v":""},{"$f":"IF(ISBLANK(data!L65),\"\",data!L65)","v":""},{"$f":"IF(ISBLANK(data!M65),\"\",data!M65)","v":""},{"$f":"IF(ISBLANK(data!N65),\"\",data!N65)","v":""},{"$f":"IF(ISBLANK(data!O65),\"\",data!O65)","v":""},{"$f":"IF(ISBLANK(data!P65),\"\",data!P65)","v":""},{"$f":"IF(ISBLANK(data!Q65),\"\",data!Q65)","v":""},{"$f":"IF(ISBLANK(data!R65),\"\",data!R65)","v":""},{"$f":"IF(ISBLANK(data!S65),\"\",data!S65)","v":""},{"$f":"IF(ISBLANK(data!T65),\"\",data!T65)","v":""},{"$f":"IF(ISBLANK(data!U65),\"\",data!U65)","v":""},{"$f":"IF(ISBLANK(data!V65),\"\",data!V65)","v":""},null,null,"","","","","","","","","","","","","","","","",""]
[{"$f":"IF(ISBLANK(data!B68),\"\",data!B68)","v":"AP Courses Offered Rate"},{"$f":"IF(ISBLANK(data!D68),\"\",data!D68)","v":""},{"$f":"IF(ISBLANK(data!E68),\"\",data!E68)","v":""},{"$f":"IF(ISBLANK(data!F68),\"\",data!F68)","v":""},{"$f":"IF(ISBLANK(data!G68),\"\",data!G68)","v":""},{"$f":"IF(ISBLANK(data!H68),\"\",data!H68)","v":""},{"$f":"IF(ISBLANK(data!I68),\"\",data!I68)","v":""},{"$f":"IF(ISBLANK(data!J68),\"\",data!J68)","v":""},{"$f":"IF(ISBLANK(data!K68),\"\",data!K68)","v":""},{"$f":"IF(ISBLANK(data!L68),\"\",data!L68)","v":""},{"$f":"IF(ISBLANK(data!M68),\"\",data!M68)","v":""},{"$f":"IF(ISBLANK(data!N68),\"\",data!N68)","v":""},{"$f":"IF(ISBLANK(data!O68),\"\",data!O68)","v":""},{"$f":"IF(ISBLANK(data!P68),\"\",data!P68)","v":""},{"$f":"IF(ISBLANK(data!Q68),\"\",data!Q68)","v":""},{"$f":"IF(ISBLANK(data!R68),\"\",data!R68)","v":""},{"$f":"IF(ISBLANK(data!S68),\"\",data!S68)","v":""},{"$f":"IF(ISBLANK(data!T68),\"\",data!T68)","v":""},{"$f":"IF(ISBLANK(data!U68),\"\",data!U68)","v":""},{"$f":"IF(ISBLANK(data!V68),\"\",data!V68)","v":""},null,null,"","","","","","","","","","","","","","","","",""]
[{"$f":"IF(ISBLANK(data!B71),\"\",data!B71)","v":"AP Course \nEnrollment Rate"},{"$f":"IF(ISBLANK(data!D71),\"\",data!D71)","v":""},{"$f":"IF(ISBLANK(data!E71),\"\",data!E71)","v":""},{"$f":"IF(ISBLANK(data!F71),\"\",data!F71)","v":""},{"$f":"IF(ISBLANK(data!G71),\"\",data!G71)","v":""},{"$f":"IF(ISBLANK(data!H71),\"\",data!H71)","v":""},{"$f":"IF(ISBLANK(data!I71),\"\",data!I71)","v":""},{"$f":"IF(ISBLANK(data!J71),\"\",data!J71)","v":""},{"$f":"IF(ISBLANK(data!K71),\"\",data!K71)","v":""},{"$f":"IF(ISBLANK(data!L71),\"\",data!L71)","v":""},{"$f":"IF(ISBLANK(data!M71),\"\",data!M71)","v":""},{"$f":"IF(ISBLANK(data!N71),\"\",data!N71)","v":""},{"$f":"IF(ISBLANK(data!O71),\"\",data!O71)","v":""},{"$f":"IF(ISBLANK(data!P71),\"\",data!P71)","v":""},{"$f":"IF(ISBLANK(data!Q71),\"\",data!Q71)","v":""},{"$f":"IF(ISBLANK(data!R71),\"\",data!R71)","v":""},{"$f":"IF(ISBLANK(data!S71),\"\",data!S71)","v":""},{"$f":"IF(ISBLANK(data!T71),\"\",data!T71)","v":""},{"$f":"IF(ISBLANK(data!U71),\"\",data!U71)","v":""},{"$f":"IF(ISBLANK(data!V71),\"\",data!V71)","v":""},null,null,"","","","","","","","","","","","","","","","",""]
[{"$f":"IF(ISBLANK(data!B74),\"\",data!B74)","v":"Intervention/Remedial Course Enrollment Rate"},{"$f":"IF(ISBLANK(data!D74),\"\",data!D74)","v":""},{"$f":"IF(ISBLANK(data!E74),\"\",data!E74)","v":""},{"$f":"IF(ISBLANK(data!F74),\"\",data!F74)","v":""},{"$f":"IF(ISBLANK(data!G74),\"\",data!G74)","v":""},{"$f":"IF(ISBLANK(data!H74),\"\",data!H74)","v":""},{"$f":"IF(ISBLANK(data!I74),\"\",data!I74)","v":""},{"$f":"IF(ISBLANK(data!J74),\"\",data!J74)","v":""},{"$f":"IF(ISBLANK(data!K74),\"\",data!K74)","v":""},{"$f":"IF(ISBLANK(data!L74),\"\",data!L74)","v":""},{"$f":"IF(ISBLANK(data!M74),\"\",data!M74)","v":""},{"$f":"IF(ISBLANK(data!N74),\"\",data!N74)","v":""},{"$f":"IF(ISBLANK(data!O74),\"\",data!O74)","v":""},{"$f":"IF(ISBLANK(data!P74),\"\",data!P74)","v":""},{"$f":"IF(ISBLANK(data!Q74),\"\",data!Q74)","v":""},{"$f":"IF(ISBLANK(data!R74),\"\",data!R74)","v":""},{"$f":"IF(ISBLANK(data!S74),\"\",data!S74)","v":""},{"$f":"IF(ISBLANK(data!T74),\"\",data!T74)","v":""},{"$f":"IF(ISBLANK(data!U74),\"\",data!U74)","v":""},{"$f":"IF(ISBLANK(data!V74),\"\",data!V74)","v":""},null,null,"","","","","","","","","","","","","","","","",""]
[{"$f":"IF(ISBLANK(data!B77),\"\",data!B77)","v":"District Identified 7"},{"$f":"IF(ISBLANK(data!D77),\"\",data!D77)","v":""},{"$f":"IF(ISBLANK(data!E77),\"\",data!E77)","v":""},{"$f":"IF(ISBLANK(data!F77),\"\",data!F77)","v":""},{"$f":"IF(ISBLANK(data!G77),\"\",data!G77)","v":""},{"$f":"IF(ISBLANK(data!H77),\"\",data!H77)","v":""},{"$f":"IF(ISBLANK(data!I77),\"\",data!I77)","v":""},{"$f":"IF(ISBLANK(data!J77),\"\",data!J77)","v":""},{"$f":"IF(ISBLANK(data!K77),\"\",data!K77)","v":""},{"$f":"IF(ISBLANK(data!L77),\"\",data!L77)","v":""},{"$f":"IF(ISBLANK(data!M77),\"\",data!M77)","v":""},{"$f":"IF(ISBLANK(data!N77),\"\",data!N77)","v":""},{"$f":"IF(ISBLANK(data!O77),\"\",data!O77)","v":""},{"$f":"IF(ISBLANK(data!P77),\"\",data!P77)","v":""},{"$f":"IF(ISBLANK(data!Q77),\"\",data!Q77)","v":""},{"$f":"IF(ISBLANK(data!R77),\"\",data!R77)","v":""},{"$f":"IF(ISBLANK(data!S77),\"\",data!S77)","v":""},{"$f":"IF(ISBLANK(data!T77),\"\",data!T77)","v":""},{"$f":"IF(ISBLANK(data!U77),\"\",data!U77)","v":""},{"$f":"IF(ISBLANK(data!V77),\"\",data!V77)","v":""},null,null,"","","","","","","","","","","","","","","","",""]
[{"$f":"IF(ISBLANK(data!B80),\"\",data!B80)","v":"District Identified 8"},{"$f":"IF(ISBLANK(data!D80),\"\",data!D80)","v":""},{"$f":"IF(ISBLANK(data!E80),\"\",data!E80)","v":""},{"$f":"IF(ISBLANK(data!F80),\"\",data!F80)","v":""},{"$f":"IF(ISBLANK(data!G80),\"\",data!G80)","v":""},{"$f":"IF(ISBLANK(data!H80),\"\",data!H80)","v":""},{"$f":"IF(ISBLANK(data!I80),\"\",data!I80)","v":""},{"$f":"IF(ISBLANK(data!J80),\"\",data!J80)","v":""},{"$f":"IF(ISBLANK(data!K80),\"\",data!K80)","v":""},{"$f":"IF(ISBLANK(data!L80),\"\",data!L80)","v":""},{"$f":"IF(ISBLANK(data!M80),\"\",data!M80)","v":""},{"$f":"IF(ISBLANK(data!N80),\"\",data!N80)","v":""},{"$f":"IF(ISBLANK(data!O80),\"\",data!O80)","v":""},{"$f":"IF(ISBLANK(data!P80),\"\",data!P80)","v":""},{"$f":"IF(ISBLANK(data!Q80),\"\",data!Q80)","v":""},{"$f":"IF(ISBLANK(data!R80),\"\",data!R80)","v":""},{"$f":"IF(ISBLANK(data!S80),\"\",data!S80)","v":""},{"$f":"IF(ISBLANK(data!T80),\"\",data!T80)","v":""},{"$f":"IF(ISBLANK(data!U80),\"\",data!U80)","v":""},{"$f":"IF(ISBLANK(data!V80),\"\",data!V80)","v":""},null,null,"","","","","","","","","","","","","","","","",""]
[{"$f":"IF(ISBLANK(data!B83),\"\",data!B83)","v":"District Identified 9"},{"$f":"IF(ISBLANK(data!D83),\"\",data!D83)","v":""},{"$f":"IF(ISBLANK(data!E83),\"\",data!E83)","v":""},{"$f":"IF(ISBLANK(data!F83),\"\",data!F83)","v":""},{"$f":"IF(ISBLANK(data!G83),\"\",data!G83)","v":""},{"$f":"IF(ISBLANK(data!H83),\"\",data!H83)","v":""},{"$f":"IF(ISBLANK(data!I83),\"\",data!I83)","v":""},{"$f":"IF(ISBLANK(data!J83),\"\",data!J83)","v":""},{"$f":"IF(ISBLANK(data!K83),\"\",data!K83)","v":""},{"$f":"IF(ISBLANK(data!L83),\"\",data!L83)","v":""},{"$f":"IF(ISBLANK(data!M83),\"\",data!M83)","v":""},{"$f":"IF(ISBLANK(data!N83),\"\",data!N83)","v":""},{"$f":"IF(ISBLANK(data!O83),\"\",data!O83)","v":""},{"$f":"IF(ISBLANK(data!P83),\"\",data!P83)","v":""},{"$f":"IF(ISBLANK(data!Q83),\"\",data!Q83)","v":""},{"$f":"IF(ISBLANK(data!R83),\"\",data!R83)","v":""},{"$f":"IF(ISBLANK(data!S83),\"\",data!S83)","v":""},{"$f":"IF(ISBLANK(data!T83),\"\",data!T83)","v":""},{"$f":"IF(ISBLANK(data!U83),\"\",data!U83)","v":""},{"$f":"IF(ISBLANK(data!V83),\"\",data!V83)","v":""},null,null,"","","","","","","","","","","","","","","","",""]
["Pupil Outcomes"]
["4. Pupil Achievement",null,null,{"$f":"IF(COUNTA(W36:W52)-COUNTBLANK(W36:W52)>0,(COUNTIF(W36:W52,\">=0\")/(COUNTA(W36:W52)-COUNTBLANK(W36:W52))),\"\")","v":""},{"$f":"IF(COUNTA(X36:X52)-COUNTBLANK(X36:X52)>0,(COUNTIF(X36:X52,\">=0\")/(COUNTA(X36:X52)-COUNTBLANK(X36:X52))),\"\")","v":""},"","","","","","","","","","","","","","",""]
[{"$f":"IF(ISBLANK(data!B86),\"\",data!B86)","v":"STAR/CAASPP ELA\nProficient or Advanced*"},{"$f":"IF(ISBLANK(data!D86),\"\",data!D86)","v":""},{"$f":"IF(ISBLANK(data!E86),\"\",data!E86)","v":""},{"$f":"IF(ISBLANK(data!F86),\"\",data!F86)","v":""},{"$f":"IF(ISBLANK(data!G86),\"\",data!G86)","v":""},{"$f":"IF(ISBLANK(data!H86),\"\",data!H86)","v":""},{"$f":"IF(ISBLANK(data!I86),\"\",data!I86)","v":""},{"$f":"IF(ISBLANK(data!J86),\"\",data!J86)","v":""},{"$f":"IF(ISBLANK(data!K86),\"\",data!K86)","v":""},{"$f":"IF(ISBLANK(data!L86),\"\",data!L86)","v":""},{"$f":"IF(ISBLANK(data!M86),\"\",data!M86)","v":""},{"$f":"IF(ISBLANK(data!N86),\"\",data!N86)","v":""},{"$f":"IF(ISBLANK(data!O86),\"\",data!O86)","v":""},{"$f":"IF(ISBLANK(data!P86),\"\",data!P86)","v":""},{"$f":"IF(ISBLANK(data!Q86),\"\",data!Q86)","v":""},{"$f":"IF(ISBLANK(data!R86),\"\",data!R86)","v":""},{"$f":"IF(ISBLANK(data!S86),\"\",data!S86)","v":""},{"$f":"IF(ISBLANK(data!T86),\"\",data!T86)","v":""},{"$f":"IF(ISBLANK(data!U86),\"\",data!U86)","v":""},{"$f":"IF(ISBLANK(data!V86),\"\",data!V86)","v":""},null,null,{"$f":"IF(D36<>\"\",D36-$C36,\"\")","v":""},"","","","","","","","","","","","","","","",""]
[{"$f":"IF(ISBLANK(data!B89),\"\",data!B89)","v":"STAR/CAASPP Math\nProficient or Advanced*"},{"$f":"IF(ISBLANK(data!D89),\"\",data!D89)","v":""},{"$f":"IF(ISBLANK(data!E89),\"\",data!E89)","v":""},{"$f":"IF(ISBLANK(data!F89),\"\",data!F89)","v":""},{"$f":"IF(ISBLANK(data!G89),\"\",data!G89)","v":""},{"$f":"IF(ISBLANK(data!H89),\"\",data!H89)","v":""},{"$f":"IF(ISBLANK(data!I89),\"\",data!I89)","v":""},{"$f":"IF(ISBLANK(data!J89),\"\",data!J89)","v":""},{"$f":"IF(ISBLANK(data!K89),\"\",data!K89)","v":""},{"$f":"IF(ISBLANK(data!L89),\"\",data!L89)","v":""},{"$f":"IF(ISBLANK(data!M89),\"\",data!M89)","v":""},{"$f":"IF(ISBLANK(data!N89),\"\",data!N89)","v":""},{"$f":"IF(ISBLANK(data!O89),\"\",data!O89)","v":""},{"$f":"IF(ISBLANK(data!P89),\"\",data!P89)","v":""},{"$f":"IF(ISBLANK(data!Q89),\"\",data!Q89)","v":""},{"$f":"IF(ISBLANK(data!R89),\"\",data!R89)","v":""},{"$f":"IF(ISBLANK(data!S89),\"\",data!S89)","v":""},{"$f":"IF(ISBLANK(data!T89),\"\",data!T89)","v":""},{"$f":"IF(ISBLANK(data!U89),\"\",data!U89)","v":""},{"$f":"IF(ISBLANK(data!V89),\"\",data!V89)","v":""},null,null,{"$f":"IF(D37<>\"\",D37-$C37,\"\")","v":""},{"$f":"IF(E37<>\"\",E37-$C37,\"\")","v":""},{"$f":"IF(F37<>\"\",F37-$C37,\"\")","v":""},{"$f":"IF(G37<>\"\",G37-$C37,\"\")","v":""},{"$f":"IF(H37<>\"\",H37-$C37,\"\")","v":""},{"$f":"IF(I37<>\"\",I37-$C37,\"\")","v":""},{"$f":"IF(J37<>\"\",J37-$C37,\"\")","v":""},{"$f":"IF(K37<>\"\",K37-$C37,\"\")","v":""},{"$f":"IF(L37<>\"\",L37-$C37,\"\")","v":""},{"$f":"IF(M37<>\"\",M37-$C37,\"\")","v":""},{"$f":"IF(N37<>\"\",N37-$C37,\"\")","v":""},{"$f":"IF(O37<>\"\",O37-$C37,\"\")","v":""},{"$f":"IF(P37<>\"\",P37-$C37,\"\")","v":""},{"$f":"IF(Q37<>\"\",Q37-$C37,\"\")","v":""},{"$f":"IF(R37<>\"\",R37-$C37,\"\")","v":""},{"$f":"IF(S37<>\"\",S37-$C37,\"\")","v":""},{"$f":"IF(T37<>\"\",T37-$C37,\"\")","v":""}]
[{"$f":"IF(ISBLANK(data!B92),\"\",data!B92)","v":"STAR/CAASPP Science\nProficient or Advanced*"},{"$f":"IF(ISBLANK(data!D92),\"\",data!D92)","v":""},{"$f":"IF(ISBLANK(data!E92),\"\",data!E92)","v":""},{"$f":"IF(ISBLANK(data!F92),\"\",data!F92)","v":""},{"$f":"IF(ISBLANK(data!G92),\"\",data!G92)","v":""},{"$f":"IF(ISBLANK(data!H92),\"\",data!H92)","v":""},{"$f":"IF(ISBLANK(data!I92),\"\",data!I92)","v":""},{"$f":"IF(ISBLANK(data!J92),\"\",data!J92)","v":""},{"$f":"IF(ISBLANK(data!K92),\"\",data!K92)","v":""},{"$f":"IF(ISBLANK(data!L92),\"\",data!L92)","v":""},{"$f":"IF(ISBLANK(data!M92),\"\",data!M92)","v":""},{"$f":"IF(ISBLANK(data!N92),\"\",data!N92)","v":""},{"$f":"IF(ISBLANK(data!O92),\"\",data!O92)","v":""},{"$f":"IF(ISBLANK(data!P92),\"\",data!P92)","v":""},{"$f":"IF(ISBLANK(data!Q92),\"\",data!Q92)","v":""},{"$f":"IF(ISBLANK(data!R92),\"\",data!R92)","v":""},{"$f":"IF(ISBLANK(data!S92),\"\",data!S92)","v":""},{"$f":"IF(ISBLANK(data!T92),\"\",data!T92)","v":""},{"$f":"IF(ISBLANK(data!U92),\"\",data!U92)","v":""},{"$f":"IF(ISBLANK(data!V92),\"\",data!V92)","v":""},null,null,"","","","","","","","","","","","","","","","",""]
[{"$f":"IF(ISBLANK(data!B95),\"\",data!B95)","v":"STAR/CAASPP History/\nSocial Science\nProficient or Advanced*"},{"$f":"IF(ISBLANK(data!D95),\"\",data!D95)","v":""},{"$f":"IF(ISBLANK(data!E95),\"\",data!E95)","v":""},{"$f":"IF(ISBLANK(data!F95),\"\",data!F95)","v":""},{"$f":"IF(ISBLANK(data!G95),\"\",data!G95)","v":""},{"$f":"IF(ISBLANK(data!H95),\"\",data!H95)","v":""},{"$f":"IF(ISBLANK(data!I95),\"\",data!I95)","v":""},{"$f":"IF(ISBLANK(data!J95),\"\",data!J95)","v":""},{"$f":"IF(ISBLANK(data!K95),\"\",data!K95)","v":""},{"$f":"IF(ISBLANK(data!L95),\"\",data!L95)","v":""},{"$f":"IF(ISBLANK(data!M95),\"\",data!M95)","v":""},{"$f":"IF(ISBLANK(data!N95),\"\",data!N95)","v":""},{"$f":"IF(ISBLANK(data!O95),\"\",data!O95)","v":""},{"$f":"IF(ISBLANK(data!P95),\"\",data!P95)","v":""},{"$f":"IF(ISBLANK(data!Q95),\"\",data!Q95)","v":""},{"$f":"IF(ISBLANK(data!R95),\"\",data!R95)","v":""},{"$f":"IF(ISBLANK(data!S95),\"\",data!S95)","v":""},{"$f":"IF(ISBLANK(data!T95),\"\",data!T95)","v":""},{"$f":"IF(ISBLANK(data!U95),\"\",data!U95)","v":""},{"$f":"IF(ISBLANK(data!V95),\"\",data!V95)","v":""},null,null,"","","","","","","","","","","","","","","","",""]
[{"$f":"IF(ISBLANK(data!B98),\"\",data!B98)","v":"API Score*"},{"$f":"IF(ISBLANK(data!D98),\"\",data!D98)","v":""},{"$f":"IF(ISBLANK(data!E98),\"\",data!E98)","v":""},{"$f":"IF(ISBLANK(data!F98),\"\",data!F98)","v":""},{"$f":"IF(ISBLANK(data!G98),\"\",data!G98)","v":""},{"$f":"IF(ISBLANK(data!H98),\"\",data!H98)","v":""},{"$f":"IF(ISBLANK(data!I98),\"\",data!I98)","v":""},{"$f":"IF(ISBLANK(data!J98),\"\",data!J98)","v":""},{"$f":"IF(ISBLANK(data!K98),\"\",data!K98)","v":""},{"$f":"IF(ISBLANK(data!L98),\"\",data!L98)","v":""},{"$f":"IF(ISBLANK(data!M98),\"\",data!M98)","v":""},{"$f":"IF(ISBLANK(data!N98),\"\",data!N98)","v":""},{"$f":"IF(ISBLANK(data!O98),\"\",data!O98)","v":""},{"$f":"IF(ISBLANK(data!P98),\"\",data!P98)","v":""},{"$f":"IF(ISBLANK(data!Q98),\"\",data!Q98)","v":""},{"$f":"IF(ISBLANK(data!R98),\"\",data!R98)","v":""},{"$f":"IF(ISBLANK(data!S98),\"\",data!S98)","v":""},{"$f":"IF(ISBLANK(data!T98),\"\",data!T98)","v":""},{"$f":"IF(ISBLANK(data!U98),\"\",data!U98)","v":""},{"$f":"IF(ISBLANK(data!V98),\"\",data!V98)","v":""},null,null,"","","","","","","","","","","","","","","","",""]
[{"$f":"IF(ISBLANK(data!B101),\"\",data!B101)","v":"API Growth*"},{"$f":"IF(ISBLANK(data!D101),\"\",data!D101)","v":""},{"$f":"IF(ISBLANK(data!E101),\"\",data!E101)","v":""},{"$f":"IF(ISBLANK(data!F101),\"\",data!F101)","v":""},{"$f":"IF(ISBLANK(data!G101),\"\",data!G101)","v":""},{"$f":"IF(ISBLANK(data!H101),\"\",data!H101)","v":""},{"$f":"IF(ISBLANK(data!I101),\"\",data!I101)","v":""},{"$f":"IF(ISBLANK(data!J101),\"\",data!J101)","v":""},{"$f":"IF(ISBLANK(data!K101),\"\",data!K101)","v":""},{"$f":"IF(ISBLANK(data!L101),\"\",data!L101)","v":""},{"$f":"IF(ISBLANK(data!M101),\"\",data!M101)","v":""},{"$f":"IF(ISBLANK(data!N101),\"\",data!N101)","v":""},{"$f":"IF(ISBLANK(data!O101),\"\",data!O101)","v":""},{"$f":"IF(ISBLANK(data!P101),\"\",data!P101)","v":""},{"$f":"IF(ISBLANK(data!Q101),\"\",data!Q101)","v":""},{"$f":"IF(ISBLANK(data!R101),\"\",data!R101)","v":""},{"$f":"IF(ISBLANK(data!S101),\"\",data!S101)","v":""},{"$f":"IF(ISBLANK(data!T101),\"\",data!T101)","v":""},{"$f":"IF(ISBLANK(data!U101),\"\",data!U101)","v":""},{"$f":"IF(ISBLANK(data!V101),\"\",data!V101)","v":""},null,null,"","","","","","","","","","","","","","","","",""]
[{"$f":"IF(ISBLANK(data!B104),\"\",data!B104)","v":"Percent Completing UC/CSU Required Courses*"},{"$f":"IF(ISBLANK(data!D104),\"\",data!D104)","v":""},{"$f":"IF(ISBLANK(data!E104),\"\",data!E104)","v":""},{"$f":"IF(ISBLANK(data!F104),\"\",data!F104)","v":""},{"$f":"IF(ISBLANK(data!G104),\"\",data!G104)","v":""},{"$f":"IF(ISBLANK(data!H104),\"\",data!H104)","v":""},{"$f":"IF(ISBLANK(data!I104),\"\",data!I104)","v":""},{"$f":"IF(ISBLANK(data!J104),\"\",data!J104)","v":""},{"$f":"IF(ISBLANK(data!K104),\"\",data!K104)","v":""},{"$f":"IF(ISBLANK(data!L104),\"\",data!L104)","v":""},{"$f":"IF(ISBLANK(data!M104),\"\",data!M104)","v":""},{"$f":"IF(ISBLANK(data!N104),\"\",data!N104)","v":""},{"$f":"IF(ISBLANK(data!O104),\"\",data!O104)","v":""},{"$f":"IF(ISBLANK(data!P104),\"\",data!P104)","v":""},{"$f":"IF(ISBLANK(data!Q104),\"\",data!Q104)","v":""},{"$f":"IF(ISBLANK(data!R104),\"\",data!R104)","v":""},{"$f":"IF(ISBLANK(data!S104),\"\",data!S104)","v":""},{"$f":"IF(ISBLANK(data!T104),\"\",data!T104)","v":""},{"$f":"IF(ISBLANK(data!U104),\"\",data!U104)","v":""},{"$f":"IF(ISBLANK(data!V104),\"\",data!V104)","v":""},null,null,"","","","","","","","","","","","","","","","",""]
[{"$f":"IF(ISBLANK(data!B107),\"\",data!B107)","v":"Percent completing a CTE Course Sequence*"},{"$f":"IF(ISBLANK(data!D107),\"\",data!D107)","v":""},{"$f":"IF(ISBLANK(data!E107),\"\",data!E107)","v":""},{"$f":"IF(ISBLANK(data!F107),\"\",data!F107)","v":""},{"$f":"IF(ISBLANK(data!G107),\"\",data!G107)","v":""},{"$f":"IF(ISBLANK(data!H107),\"\",data!H107)","v":""},{"$f":"IF(ISBLANK(data!I107),\"\",data!I107)","v":""},{"$f":"IF(ISBLANK(data!J107),\"\",data!J107)","v":""},{"$f":"IF(ISBLANK(data!K107),\"\",data!K107)","v":""},{"$f":"IF(ISBLANK(data!L107),\"\",data!L107)","v":""},{"$f":"IF(ISBLANK(data!M107),\"\",data!M107)","v":""},{"$f":"IF(ISBLANK(data!N107),\"\",data!N107)","v":""},{"$f":"IF(ISBLANK(data!O107),\"\",data!O107)","v":""},{"$f":"IF(ISBLANK(data!P107),\"\",data!P107)","v":""},{"$f":"IF(ISBLANK(data!Q107),\"\",data!Q107)","v":""},{"$f":"IF(ISBLANK(data!R107),\"\",data!R107)","v":""},{"$f":"IF(ISBLANK(data!S107),\"\",data!S107)","v":""},{"$f":"IF(ISBLANK(data!T107),\"\",data!T107)","v":""},{"$f":"IF(ISBLANK(data!U107),\"\",data!U107)","v":""},{"$f":"IF(ISBLANK(data!V107),\"\",data!V107)","v":""},null,null,"","","","","","","","","","","","","","","","",""]
[{"$f":"IF(ISBLANK(data!B110),\"\",data!B110)","v":"Percent in Cohort Attaining English Proficient Level (AMAO 2 <5 Years)*"},{"$f":"IF(ISBLANK(data!D110),\"\",data!D110)","v":""},{"$f":"IF(ISBLANK(data!E110),\"\",data!E110)","v":""},{"$f":"IF(ISBLANK(data!F110),\"\",data!F110)","v":""},{"$f":"IF(ISBLANK(data!G110),\"\",data!G110)","v":""},{"$f":"IF(ISBLANK(data!H110),\"\",data!H110)","v":""},{"$f":"IF(ISBLANK(data!I110),\"\",data!I110)","v":""},{"$f":"IF(ISBLANK(data!J110),\"\",data!J110)","v":""},{"$f":"IF(ISBLANK(data!K110),\"\",data!K110)","v":""},{"$f":"IF(ISBLANK(data!L110),\"\",data!L110)","v":""},{"$f":"IF(ISBLANK(data!M110),\"\",data!M110)","v":""},{"$f":"IF(ISBLANK(data!N110),\"\",data!N110)","v":""},{"$f":"IF(ISBLANK(data!O110),\"\",data!O110)","v":""},{"$f":"IF(ISBLANK(data!P110),\"\",data!P110)","v":""},{"$f":"IF(ISBLANK(data!Q110),\"\",data!Q110)","v":""},{"$f":"IF(ISBLANK(data!R110),\"\",data!R110)","v":""},{"$f":"IF(ISBLANK(data!S110),\"\",data!S110)","v":""},{"$f":"IF(ISBLANK(data!T110),\"\",data!T110)","v":""},{"$f":"IF(ISBLANK(data!U110),\"\",data!U110)","v":""},{"$f":"IF(ISBLANK(data!V110),\"\",data!V110)","v":""},null,null,"","","","","","","","","","","","","","","","",""]
[{"$f":"IF(ISBLANK(data!B113),\"\",data!B113)","v":"Percent in Cohort Attaining English Proficient Level (AMAO 2 >=5 Years)*"},{"$f":"IF(ISBLANK(data!D113),\"\",data!D113)","v":""},{"$f":"IF(ISBLANK(data!E113),\"\",data!E113)","v":""},{"$f":"IF(ISBLANK(data!F113),\"\",data!F113)","v":""},{"$f":"IF(ISBLANK(data!G113),\"\",data!G113)","v":""},{"$f":"IF(ISBLANK(data!H113),\"\",data!H113)","v":""},{"$f":"IF(ISBLANK(data!I113),\"\",data!I113)","v":""},{"$f":"IF(ISBLANK(data!J113),\"\",data!J113)","v":""},{"$f":"IF(ISBLANK(data!K113),\"\",data!K113)","v":""},{"$f":"IF(ISBLANK(data!L113),\"\",data!L113)","v":""},{"$f":"IF(ISBLANK(data!M113),\"\",data!M113)","v":""},{"$f":"IF(ISBLANK(data!N113),\"\",data!N113)","v":""},{"$f":"IF(ISBLANK(data!O113),\"\",data!O113)","v":""},{"$f":"IF(ISBLANK(data!P113),\"\",data!P113)","v":""},{"$f":"IF(ISBLANK(data!Q113),\"\",data!Q113)","v":""},{"$f":"IF(ISBLANK(data!R113),\"\",data!R113)","v":""},{"$f":"IF(ISBLANK(data!S113),\"\",data!S113)","v":""},{"$f":"IF(ISBLANK(data!T113),\"\",data!T113)","v":""},{"$f":"IF(ISBLANK(data!U113),\"\",data!U113)","v":""},{"$f":"IF(ISBLANK(data!V113),\"\",data!V113)","v":""},null,null,"","","","","","","","","","","","","","","","",""]
[{"$f":"IF(ISBLANK(data!B116),\"\",data!B116)","v":"English Learner Reclassification Rate*"},{"$f":"IF(ISBLANK(data!D116),\"\",data!D116)","v":""},{"$f":"IF(ISBLANK(data!E116),\"\",data!E116)","v":""},{"$f":"IF(ISBLANK(data!F116),\"\",data!F116)","v":""},{"$f":"IF(ISBLANK(data!G116),\"\",data!G116)","v":""},{"$f":"IF(ISBLANK(data!H116),\"\",data!H116)","v":""},{"$f":"IF(ISBLANK(data!I116),\"\",data!I116)","v":""},{"$f":"IF(ISBLANK(data!J116),\"\",data!J116)","v":""},{"$f":"IF(ISBLANK(data!K116),\"\",data!K116)","v":""},{"$f":"IF(ISBLANK(data!L116),\"\",data!L116)","v":""},{"$f":"IF(ISBLANK(data!M116),\"\",data!M116)","v":""},{"$f":"IF(ISBLANK(data!N116),\"\",data!N116)","v":""},{"$f":"IF(ISBLANK(data!O116),\"\",data!O116)","v":""},{"$f":"IF(ISBLANK(data!P116),\"\",data!P116)","v":""},{"$f":"IF(ISBLANK(data!Q116),\"\",data!Q116)","v":""},{"$f":"IF(ISBLANK(data!R116),\"\",data!R116)","v":""},{"$f":"IF(ISBLANK(data!S116),\"\",data!S116)","v":""},{"$f":"IF(ISBLANK(data!T116),\"\",data!T116)","v":""},{"$f":"IF(ISBLANK(data!U116),\"\",data!U116)","v":""},{"$f":"IF(ISBLANK(data!V116),\"\",data!V116)","v":""},null,null,"","","","","","","","","","","","","","","","",""]
[{"$f":"IF(ISBLANK(data!B119),\"\",data!B119)","v":"Percent AP Exam \nScore of 3 or Higher*"},{"$f":"IF(ISBLANK(data!D119),\"\",data!D119)","v":""},{"$f":"IF(ISBLANK(data!E119),\"\",data!E119)","v":""},{"$f":"IF(ISBLANK(data!F119),\"\",data!F119)","v":""},{"$f":"IF(ISBLANK(data!G119),\"\",data!G119)","v":""},{"$f":"IF(ISBLANK(data!H119),\"\",data!H119)","v":""},{"$f":"IF(ISBLANK(data!I119),\"\",data!I119)","v":""},{"$f":"IF(ISBLANK(data!J119),\"\",data!J119)","v":""},{"$f":"IF(ISBLANK(data!K119),\"\",data!K119)","v":""},{"$f":"IF(ISBLANK(data!L119),\"\",data!L119)","v":""},{"$f":"IF(ISBLANK(data!M119),\"\",data!M119)","v":""},{"$f":"IF(ISBLANK(data!N119),\"\",data!N119)","v":""},{"$f":"IF(ISBLANK(data!O119),\"\",data!O119)","v":""},{"$f":"IF(ISBLANK(data!P119),\"\",data!P119)","v":""},{"$f":"IF(ISBLANK(data!Q119),\"\",data!Q119)","v":""},{"$f":"IF(ISBLANK(data!R119),\"\",data!R119)","v":""},{"$f":"IF(ISBLANK(data!S119),\"\",data!S119)","v":""},{"$f":"IF(ISBLANK(data!T119),\"\",data!T119)","v":""},{"$f":"IF(ISBLANK(data!U119),\"\",data!U119)","v":""},{"$f":"IF(ISBLANK(data!V119),\"\",data!V119)","v":""},null,null,"","","","","","","","","","","","","","","","",""]
[{"$f":"IF(ISBLANK(data!B122),\"\",data!B122)","v":"EAP ELA\nCollege Ready Rate*"},{"$f":"IF(ISBLANK(data!D122),\"\",data!D122)","v":""},{"$f":"IF(ISBLANK(data!E122),\"\",data!E122)","v":""},{"$f":"IF(ISBLANK(data!F122),\"\",data!F122)","v":""},{"$f":"IF(ISBLANK(data!G122),\"\",data!G122)","v":""},{"$f":"IF(ISBLANK(data!H122),\"\",data!H122)","v":""},{"$f":"IF(ISBLANK(data!I122),\"\",data!I122)","v":""},{"$f":"IF(ISBLANK(data!J122),\"\",data!J122)","v":""},{"$f":"IF(ISBLANK(data!K122),\"\",data!K122)","v":""},{"$f":"IF(ISBLANK(data!L122),\"\",data!L122)","v":""},{"$f":"IF(ISBLANK(data!M122),\"\",data!M122)","v":""},{"$f":"IF(ISBLANK(data!N122),\"\",data!N122)","v":""},{"$f":"IF(ISBLANK(data!O122),\"\",data!O122)","v":""},{"$f":"IF(ISBLANK(data!P122),\"\",data!P122)","v":""},{"$f":"IF(ISBLANK(data!Q122),\"\",data!Q122)","v":""},{"$f":"IF(ISBLANK(data!R122),\"\",data!R122)","v":""},{"$f":"IF(ISBLANK(data!S122),\"\",data!S122)","v":""},{"$f":"IF(ISBLANK(data!T122),\"\",data!T122)","v":""},{"$f":"IF(ISBLANK(data!U122),\"\",data!U122)","v":""},{"$f":"IF(ISBLANK(data!V122),\"\",data!V122)","v":""},null,null,"","","","","","","","","","","","","","","","",""]
[{"$f":"IF(ISBLANK(data!B125),\"\",data!B125)","v":"EAP Math\nCollege Ready Rate*"},{"$f":"IF(ISBLANK(data!D125),\"\",data!D125)","v":""},{"$f":"IF(ISBLANK(data!E125),\"\",data!E125)","v":""},{"$f":"IF(ISBLANK(data!F125),\"\",data!F125)","v":""},{"$f":"IF(ISBLANK(data!G125),\"\",data!G125)","v":""},{"$f":"IF(ISBLANK(data!H125),\"\",data!H125)","v":""},{"$f":"IF(ISBLANK(data!I125),\"\",data!I125)","v":""},{"$f":"IF(ISBLANK(data!J125),\"\",data!J125)","v":""},{"$f":"IF(ISBLANK(data!K125),\"\",data!K125)","v":""},{"$f":"IF(ISBLANK(data!L125),\"\",data!L125)","v":""},{"$f":"IF(ISBLANK(data!M125),\"\",data!M125)","v":""},{"$f":"IF(ISBLANK(data!N125),\"\",data!N125)","v":""},{"$f":"IF(ISBLANK(data!O125),\"\",data!O125)","v":""},{"$f":"IF(ISBLANK(data!P125),\"\",data!P125)","v":""},{"$f":"IF(ISBLANK(data!Q125),\"\",data!Q125)","v":""},{"$f":"IF(ISBLANK(data!R125),\"\",data!R125)","v":""},{"$f":"IF(ISBLANK(data!S125),\"\",data!S125)","v":""},{"$f":"IF(ISBLANK(data!T125),\"\",data!T125)","v":""},{"$f":"IF(ISBLANK(data!U125),\"\",data!U125)","v":""},{"$f":"IF(ISBLANK(data!V125),\"\",data!V125)","v":""},null,null,"","","","","","","","","","","","","","","","",""]
[{"$f":"IF(ISBLANK(data!B128),\"\",data!B128)","v":"District Identified 10"},{"$f":"IF(ISBLANK(data!D128),\"\",data!D128)","v":""},{"$f":"IF(ISBLANK(data!E128),\"\",data!E128)","v":""},{"$f":"IF(ISBLANK(data!F128),\"\",data!F128)","v":""},{"$f":"IF(ISBLANK(data!G128),\"\",data!G128)","v":""},{"$f":"IF(ISBLANK(data!H128),\"\",data!H128)","v":""},{"$f":"IF(ISBLANK(data!I128),\"\",data!I128)","v":""},{"$f":"IF(ISBLANK(data!J128),\"\",data!J128)","v":""},{"$f":"IF(ISBLANK(data!K128),\"\",data!K128)","v":""},{"$f":"IF(ISBLANK(data!L128),\"\",data!L128)","v":""},{"$f":"IF(ISBLANK(data!M128),\"\",data!M128)","v":""},{"$f":"IF(ISBLANK(data!N128),\"\",data!N128)","v":""},{"$f":"IF(ISBLANK(data!O128),\"\",data!O128)","v":""},{"$f":"IF(ISBLANK(data!P128),\"\",data!P128)","v":""},{"$f":"IF(ISBLANK(data!Q128),\"\",data!Q128)","v":""},{"$f":"IF(ISBLANK(data!R128),\"\",data!R128)","v":""},{"$f":"IF(ISBLANK(data!S128),\"\",data!S128)","v":""},{"$f":"IF(ISBLANK(data!T128),\"\",data!T128)","v":""},{"$f":"IF(ISBLANK(data!U128),\"\",data!U128)","v":""},{"$f":"IF(ISBLANK(data!V128),\"\",data!V128)","v":""},null,null,"","","","","","","","","","","","","","","","",""]
[{"$f":"IF(ISBLANK(data!B131),\"\",data!B131)","v":"District Identified 11"},{"$f":"IF(ISBLANK(data!D131),\"\",data!D131)","v":""},{"$f":"IF(ISBLANK(data!E131),\"\",data!E131)","v":""},{"$f":"IF(ISBLANK(data!F131),\"\",data!F131)","v":""},{"$f":"IF(ISBLANK(data!G131),\"\",data!G131)","v":""},{"$f":"IF(ISBLANK(data!H131),\"\",data!H131)","v":""},{"$f":"IF(ISBLANK(data!I131),\"\",data!I131)","v":""},{"$f":"IF(ISBLANK(data!J131),\"\",data!J131)","v":""},{"$f":"IF(ISBLANK(data!K131),\"\",data!K131)","v":""},{"$f":"IF(ISBLANK(data!L131),\"\",data!L131)","v":""},{"$f":"IF(ISBLANK(data!M131),\"\",data!M131)","v":""},{"$f":"IF(ISBLANK(data!N131),\"\",data!N131)","v":""},{"$f":"IF(ISBLANK(data!O131),\"\",data!O131)","v":""},{"$f":"IF(ISBLANK(data!P131),\"\",data!P131)","v":""},{"$f":"IF(ISBLANK(data!Q131),\"\",data!Q131)","v":""},{"$f":"IF(ISBLANK(data!R131),\"\",data!R131)","v":""},{"$f":"IF(ISBLANK(data!S131),\"\",data!S131)","v":""},{"$f":"IF(ISBLANK(data!T131),\"\",data!T131)","v":""},{"$f":"IF(ISBLANK(data!U131),\"\",data!U131)","v":""},{"$f":"IF(ISBLANK(data!V131),\"\",data!V131)","v":""},null,null,"","","","","","","","","","","","","","","","",""]
[{"$f":"IF(ISBLANK(data!B134),\"\",data!B134)","v":"District Identified 12"},{"$f":"IF(ISBLANK(data!D134),\"\",data!D134)","v":""},{"$f":"IF(ISBLANK(data!E134),\"\",data!E134)","v":""},{"$f":"IF(ISBLANK(data!F134),\"\",data!F134)","v":""},{"$f":"IF(ISBLANK(data!G134),\"\",data!G134)","v":""},{"$f":"IF(ISBLANK(data!H134),\"\",data!H134)","v":""},{"$f":"IF(ISBLANK(data!I134),\"\",data!I134)","v":""},{"$f":"IF(ISBLANK(data!J134),\"\",data!J134)","v":""},{"$f":"IF(ISBLANK(data!K134),\"\",data!K134)","v":""},{"$f":"IF(ISBLANK(data!L134),\"\",data!L134)","v":""},{"$f":"IF(ISBLANK(data!M134),\"\",data!M134)","v":""},{"$f":"IF(ISBLANK(data!N134),\"\",data!N134)","v":""},{"$f":"IF(ISBLANK(data!O134),\"\",data!O134)","v":""},{"$f":"IF(ISBLANK(data!P134),\"\",data!P134)","v":""},{"$f":"IF(ISBLANK(data!Q134),\"\",data!Q134)","v":""},{"$f":"IF(ISBLANK(data!R134),\"\",data!R134)","v":""},{"$f":"IF(ISBLANK(data!S134),\"\",data!S134)","v":""},{"$f":"IF(ISBLANK(data!T134),\"\",data!T134)","v":""},{"$f":"IF(ISBLANK(data!U134),\"\",data!U134)","v":""},{"$f":"IF(ISBLANK(data!V134),\"\",data!V134)","v":""},null,null,"","","","","","","","","","","","","","","","",""]
["8. Other Pupil Outcomes",null,null,{"$f":"IF(COUNTA(W54:W62)-COUNTBLANK(W54:W62)>0,(COUNTIF(W54:W62,\">=0\")/(COUNTA(W54:W62)-COUNTBLANK(W54:W62))),\"\")","v":""},{"$f":"IF(COUNTA(X54:X62)-COUNTBLANK(X54:X62)>0,(COUNTIF(X54:X62,\">=0\")/(COUNTA(X54:X62)-COUNTBLANK(X54:X62))),\"\")","v":""},"","","","","","","","","","","","","","",""]
[{"$f":"IF(ISBLANK(data!B137),\"\",data!B137)","v":"CAHSEE ELA Pass Rate"},{"$f":"IF(ISBLANK(data!D137),\"\",data!D137)","v":""},{"$f":"IF(ISBLANK(data!E137),\"\",data!E137)","v":""},{"$f":"IF(ISBLANK(data!F137),\"\",data!F137)","v":""},{"$f":"IF(ISBLANK(data!G137),\"\",data!G137)","v":""},{"$f":"IF(ISBLANK(data!H137),\"\",data!H137)","v":""},{"$f":"IF(ISBLANK(data!I137),\"\",data!I137)","v":""},{"$f":"IF(ISBLANK(data!J137),\"\",data!J137)","v":""},{"$f":"IF(ISBLANK(data!K137),\"\",data!K137)","v":""},{"$f":"IF(ISBLANK(data!L137),\"\",data!L137)","v":""},{"$f":"IF(ISBLANK(data!M137),\"\",data!M137)","v":""},{"$f":"IF(ISBLANK(data!N137),\"\",data!N137)","v":""},{"$f":"IF(ISBLANK(data!O137),\"\",data!O137)","v":""},{"$f":"IF(ISBLANK(data!P137),\"\",data!P137)","v":""},{"$f":"IF(ISBLANK(data!Q137),\"\",data!Q137)","v":""},{"$f":"IF(ISBLANK(data!R137),\"\",data!R137)","v":""},{"$f":"IF(ISBLANK(data!S137),\"\",data!S137)","v":""},{"$f":"IF(ISBLANK(data!T137),\"\",data!T137)","v":""},{"$f":"IF(ISBLANK(data!U137),\"\",data!U137)","v":""},{"$f":"IF(ISBLANK(data!V137),\"\",data!V137)","v":""},null,null,{"$f":"IF(D54<>\"\",D54-$C54,\"\")","v":""},{"$f":"IF(E54<>\"\",E54-$C54,\"\")","v":""},{"$f":"IF(F54<>\"\",F54-$C54,\"\")","v":""},{"$f":"IF(G54<>\"\",G54-$C54,\"\")","v":""},{"$f":"IF(H54<>\"\",H54-$C54,\"\")","v":""},{"$f":"IF(I54<>\"\",I54-$C54,\"\")","v":""},{"$f":"IF(J54<>\"\",J54-$C54,\"\")","v":""},{"$f":"IF(K54<>\"\",K54-$C54,\"\")","v":""},{"$f":"IF(L54<>\"\",L54-$C54,\"\")","v":""},{"$f":"IF(M54<>\"\",M54-$C54,\"\")","v":""},{"$f":"IF(N54<>\"\",N54-$C54,\"\")","v":""},{"$f":"IF(O54<>\"\",O54-$C54,\"\")","v":""},{"$f":"IF(P54<>\"\",P54-$C54,\"\")","v":""},{"$f":"IF(Q54<>\"\",Q54-$C54,\"\")","v":""}]
[{"$f":"IF(ISBLANK(data!B140),\"\",data!B140)","v":"CAHSEE ELA 3 Year Pass Rate"},{"$f":"IF(ISBLANK(data!D140),\"\",data!D140)","v":""},{"$f":"IF(ISBLANK(data!E140),\"\",data!E140)","v":""},{"$f":"IF(ISBLANK(data!F140),\"\",data!F140)","v":""},{"$f":"IF(ISBLANK(data!G140),\"\",data!G140)","v":""},{"$f":"IF(ISBLANK(data!H140),\"\",data!H140)","v":""},{"$f":"IF(ISBLANK(data!I140),\"\",data!I140)","v":""},{"$f":"IF(ISBLANK(data!J140),\"\",data!J140)","v":""},{"$f":"IF(ISBLANK(data!K140),\"\",data!K140)","v":""},{"$f":"IF(ISBLANK(data!L140),\"\",data!L140)","v":""},{"$f":"IF(ISBLANK(data!M140),\"\",data!M140)","v":""},{"$f":"IF(ISBLANK(data!N140),\"\",data!N140)","v":""},{"$f":"IF(ISBLANK(data!O140),\"\",data!O140)","v":""},{"$f":"IF(ISBLANK(data!P140),\"\",data!P140)","v":""},{"$f":"IF(ISBLANK(data!Q140),\"\",data!Q140)","v":""},{"$f":"IF(ISBLANK(data!R140),\"\",data!R140)","v":""},{"$f":"IF(ISBLANK(data!S140),\"\",data!S140)","v":""},{"$f":"IF(ISBLANK(data!T140),\"\",data!T140)","v":""},{"$f":"IF(ISBLANK(data!U140),\"\",data!U140)","v":""},{"$f":"IF(ISBLANK(data!V140),\"\",data!V140)","v":""},null,null,"","","","","","","","","","","","","",""]
[{"$f":"IF(ISBLANK(data!B143),\"\",data!B143)","v":"CAHSEE Math Pass Rate"},{"$f":"IF(ISBLANK(data!D143),\"\",data!D143)","v":""},{"$f":"IF(ISBLANK(data!E143),\"\",data!E143)","v":""},{"$f":"IF(ISBLANK(data!F143),\"\",data!F143)","v":""},{"$f":"IF(ISBLANK(data!G143),\"\",data!G143)","v":""},{"$f":"IF(ISBLANK(data!H143),\"\",data!H143)","v":""},{"$f":"IF(ISBLANK(data!I143),\"\",data!I143)","v":""},{"$f":"IF(ISBLANK(data!J143),\"\",data!J143)","v":""},{"$f":"IF(ISBLANK(data!K143),\"\",data!K143)","v":""},{"$f":"IF(ISBLANK(data!L143),\"\",data!L143)","v":""},{"$f":"IF(ISBLANK(data!M143),\"\",data!M143)","v":""},{"$f":"IF(ISBLANK(data!N143),\"\",data!N143)","v":""},{"$f":"IF(ISBLANK(data!O143),\"\",data!O143)","v":""},{"$f":"IF(ISBLANK(data!P143),\"\",data!P143)","v":""},{"$f":"IF(ISBLANK(data!Q143),\"\",data!Q143)","v":""},{"$f":"IF(ISBLANK(data!R143),\"\",data!R143)","v":""},{"$f":"IF(ISBLANK(data!S143),\"\",data!S143)","v":""},{"$f":"IF(ISBLANK(data!T143),\"\",data!T143)","v":""},{"$f":"IF(ISBLANK(data!U143),\"\",data!U143)","v":""},{"$f":"IF(ISBLANK(data!V143),\"\",data!V143)","v":""},null,null,"","","","","","","","","","","","","",""]
[{"$f":"IF(ISBLANK(data!B146),\"\",data!B146)","v":"CAHSEE Math 3 Year Pass Rate"},{"$f":"IF(ISBLANK(data!D146),\"\",data!D146)","v":""},{"$f":"IF(ISBLANK(data!E146),\"\",data!E146)","v":""},{"$f":"IF(ISBLANK(data!F146),\"\",data!F146)","v":""},{"$f":"IF(ISBLANK(data!G146),\"\",data!G146)","v":""},{"$f":"IF(ISBLANK(data!H146),\"\",data!H146)","v":""},{"$f":"IF(ISBLANK(data!I146),\"\",data!I146)","v":""},{"$f":"IF(ISBLANK(data!J146),\"\",data!J146)","v":""},{"$f":"IF(ISBLANK(data!K146),\"\",data!K146)","v":""},{"$f":"IF(ISBLANK(data!L146),\"\",data!L146)","v":""},{"$f":"IF(ISBLANK(data!M146),\"\",data!M146)","v":""},{"$f":"IF(ISBLANK(data!N146),\"\",data!N146)","v":""},{"$f":"IF(ISBLANK(data!O146),\"\",data!O146)","v":""},{"$f":"IF(ISBLANK(data!P146),\"\",data!P146)","v":""},{"$f":"IF(ISBLANK(data!Q146),\"\",data!Q146)","v":""},{"$f":"IF(ISBLANK(data!R146),\"\",data!R146)","v":""},{"$f":"IF(ISBLANK(data!S146),\"\",data!S146)","v":""},{"$f":"IF(ISBLANK(data!T146),\"\",data!T146)","v":""},{"$f":"IF(ISBLANK(data!U146),\"\",data!U146)","v":""},{"$f":"IF(ISBLANK(data!V146),\"\",data!V146)","v":""},null,null,"","","","","","","","","","","","","",""]
[{"$f":"IF(ISBLANK(data!B149),\"\",data!B149)","v":"Percent Making Progress Towards English Proficiency (AMAO 1)"},{"$f":"IF(ISBLANK(data!D149),\"\",data!D149)","v":""},{"$f":"IF(ISBLANK(data!E149),\"\",data!E149)","v":""},{"$f":"IF(ISBLANK(data!F149),\"\",data!F149)","v":""},{"$f":"IF(ISBLANK(data!G149),\"\",data!G149)","v":""},{"$f":"IF(ISBLANK(data!H149),\"\",data!H149)","v":""},{"$f":"IF(ISBLANK(data!I149),\"\",data!I149)","v":""},{"$f":"IF(ISBLANK(data!J149),\"\",data!J149)","v":""},{"$f":"IF(ISBLANK(data!K149),\"\",data!K149)","v":""},{"$f":"IF(ISBLANK(data!L149),\"\",data!L149)","v":""},{"$f":"IF(ISBLANK(data!M149),\"\",data!M149)","v":""},{"$f":"IF(ISBLANK(data!N149),\"\",data!N149)","v":""},{"$f":"IF(ISBLANK(data!O149),\"\",data!O149)","v":""},{"$f":"IF(ISBLANK(data!P149),\"\",data!P149)","v":""},{"$f":"IF(ISBLANK(data!Q149),\"\",data!Q149)","v":""},{"$f":"IF(ISBLANK(data!R149),\"\",data!R149)","v":""},{"$f":"IF(ISBLANK(data!S149),\"\",data!S149)","v":""},{"$f":"IF(ISBLANK(data!T149),\"\",data!T149)","v":""},{"$f":"IF(ISBLANK(data!U149),\"\",data!U149)","v":""},{"$f":"IF(ISBLANK(data!V149),\"\",data!V149)","v":""},null,null,"","","","","","","","","","","","","",""]
[{"$f":"IF(ISBLANK(data!B152),\"\",data!B152)","v":"AP Exam\nParticipation Rate"},{"$f":"IF(ISBLANK(data!D152),\"\",data!D152)","v":""},{"$f":"IF(ISBLANK(data!E152),\"\",data!E152)","v":""},{"$f":"IF(ISBLANK(data!F152),\"\",data!F152)","v":""},{"$f":"IF(ISBLANK(data!G152),\"\",data!G152)","v":""},{"$f":"IF(ISBLANK(data!H152),\"\",data!H152)","v":""},{"$f":"IF(ISBLANK(data!I152),\"\",data!I152)","v":""},{"$f":"IF(ISBLANK(data!J152),\"\",data!J152)","v":""},{"$f":"IF(ISBLANK(data!K152),\"\",data!K152)","v":""},{"$f":"IF(ISBLANK(data!L152),\"\",data!L152)","v":""},{"$f":"IF(ISBLANK(data!M152),\"\",data!M152)","v":""},{"$f":"IF(ISBLANK(data!N152),\"\",data!N152)","v":""},{"$f":"IF(ISBLANK(data!O152),\"\",data!O152)","v":""},{"$f":"IF(ISBLANK(data!P152),\"\",data!P152)","v":""},{"$f":"IF(ISBLANK(data!Q152),\"\",data!Q152)","v":""},{"$f":"IF(ISBLANK(data!R152),\"\",data!R152)","v":""},{"$f":"IF(ISBLANK(data!S152),\"\",data!S152)","v":""},{"$f":"IF(ISBLANK(data!T152),\"\",data!T152)","v":""},{"$f":"IF(ISBLANK(data!U152),\"\",data!U152)","v":""},{"$f":"IF(ISBLANK(data!V152),\"\",data!V152)","v":""},null,null,"","","","","","","","","","","","","",""]
[{"$f":"IF(ISBLANK(data!B155),\"\",data!B155)","v":"District Identified 13"},{"$f":"IF(ISBLANK(data!D155),\"\",data!D155)","v":""},{"$f":"IF(ISBLANK(data!E155),\"\",data!E155)","v":""},{"$f":"IF(ISBLANK(data!F155),\"\",data!F155)","v":""},{"$f":"IF(ISBLANK(data!G155),\"\",data!G155)","v":""},{"$f":"IF(ISBLANK(data!H155),\"\",data!H155)","v":""},{"$f":"IF(ISBLANK(data!I155),\"\",data!I155)","v":""},{"$f":"IF(ISBLANK(data!J155),\"\",data!J155)","v":""},{"$f":"IF(ISBLANK(data!K155),\"\",data!K155)","v":""},{"$f":"IF(ISBLANK(data!L155),\"\",data!L155)","v":""},{"$f":"IF(ISBLANK(data!M155),\"\",data!M155)","v":""},{"$f":"IF(ISBLANK(data!N155),\"\",data!N155)","v":""},{"$f":"IF(ISBLANK(data!O155),\"\",data!O155)","v":""},{"$f":"IF(ISBLANK(data!P155),\"\",data!P155)","v":""},{"$f":"IF(ISBLANK(data!Q155),\"\",data!Q155)","v":""},{"$f":"IF(ISBLANK(data!R155),\"\",data!R155)","v":""},{"$f":"IF(ISBLANK(data!S155),\"\",data!S155)","v":""},{"$f":"IF(ISBLANK(data!T155),\"\",data!T155)","v":""},{"$f":"IF(ISBLANK(data!U155),\"\",data!U155)","v":""},{"$f":"IF(ISBLANK(data!V155),\"\",data!V155)","v":""},null,null,"","","","","","","","","","","","","",""]
[{"$f":"IF(ISBLANK(data!B158),\"\",data!B158)","v":"District Identified 14"},{"$f":"IF(ISBLANK(data!D158),\"\",data!D158)","v":""},{"$f":"IF(ISBLANK(data!E158),\"\",data!E158)","v":""},{"$f":"IF(ISBLANK(data!F158),\"\",data!F158)","v":""},{"$f":"IF(ISBLANK(data!G158),\"\",data!G158)","v":""},{"$f":"IF(ISBLANK(data!H158),\"\",data!H158)","v":""},{"$f":"IF(ISBLANK(data!I158),\"\",data!I158)","v":""},{"$f":"IF(ISBLANK(data!J158),\"\",data!J158)","v":""},{"$f":"IF(ISBLANK(data!K158),\"\",data!K158)","v":""},{"$f":"IF(ISBLANK(data!L158),\"\",data!L158)","v":""},{"$f":"IF(ISBLANK(data!M158),\"\",data!M158)","v":""},{"$f":"IF(ISBLANK(data!N158),\"\",data!N158)","v":""},{"$f":"IF(ISBLANK(data!O158),\"\",data!O158)","v":""},{"$f":"IF(ISBLANK(data!P158),\"\",data!P158)","v":""},{"$f":"IF(ISBLANK(data!Q158),\"\",data!Q158)","v":""},{"$f":"IF(ISBLANK(data!R158),\"\",data!R158)","v":""},{"$f":"IF(ISBLANK(data!S158),\"\",data!S158)","v":""},{"$f":"IF(ISBLANK(data!T158),\"\",data!T158)","v":""},{"$f":"IF(ISBLANK(data!U158),\"\",data!U158)","v":""},{"$f":"IF(ISBLANK(data!V158),\"\",data!V158)","v":""},null,null,"","","","","","","","","","","","","",""]
[{"$f":"IF(ISBLANK(data!B161),\"\",data!B161)","v":"District Identified 15"},{"$f":"IF(ISBLANK(data!D161),\"\",data!D161)","v":""},{"$f":"IF(ISBLANK(data!E161),\"\",data!E161)","v":""},{"$f":"IF(ISBLANK(data!F161),\"\",data!F161)","v":""},{"$f":"IF(ISBLANK(data!G161),\"\",data!G161)","v":""},{"$f":"IF(ISBLANK(data!H161),\"\",data!H161)","v":""},{"$f":"IF(ISBLANK(data!I161),\"\",data!I161)","v":""},{"$f":"IF(ISBLANK(data!J161),\"\",data!J161)","v":""},{"$f":"IF(ISBLANK(data!K161),\"\",data!K161)","v":""},{"$f":"IF(ISBLANK(data!L161),\"\",data!L161)","v":""},{"$f":"IF(ISBLANK(data!M161),\"\",data!M161)","v":""},{"$f":"IF(ISBLANK(data!N161),\"\",data!N161)","v":""},{"$f":"IF(ISBLANK(data!O161),\"\",data!O161)","v":""},{"$f":"IF(ISBLANK(data!P161),\"\",data!P161)","v":""},{"$f":"IF(ISBLANK(data!Q161),\"\",data!Q161)","v":""},{"$f":"IF(ISBLANK(data!R161),\"\",data!R161)","v":""},{"$f":"IF(ISBLANK(data!S161),\"\",data!S161)","v":""},{"$f":"IF(ISBLANK(data!T161),\"\",data!T161)","v":""},{"$f":"IF(ISBLANK(data!U161),\"\",data!U161)","v":""},{"$f":"IF(ISBLANK(data!V161),\"\",data!V161)","v":""},null,null,"","","","","","","","","","","","","",""]
["Engagement"]
["3. Parental Involvement",null,null,{"$f":"IF(COUNTA(W65:W69)-COUNTBLANK(W65:W69)>0,(COUNTIF(W65:W69,\">=0\")/(COUNTA(W65:W69)-COUNTBLANK(W65:W69))),\"\")","v":""},{"$f":"IF(COUNTA(X65:X69)-COUNTBLANK(X65:X69)>0,(COUNTIF(X65:X69,\">=0\")/(COUNTA(X65:X69)-COUNTBLANK(X65:X69))),\"\")","v":""},"","","","","","","","","","","","","","",""]
[{"$f":"IF(ISBLANK(data!B164),\"\",data!B164)","v":"Effort to Seek Parent Input*"},{"$f":"IF(ISBLANK(data!D164),\"\",data!D164)","v":""},{"$f":"IF(ISBLANK(data!E164),\"\",data!E164)","v":""},{"$f":"IF(ISBLANK(data!F164),\"\",data!F164)","v":""},{"$f":"IF(ISBLANK(data!G164),\"\",data!G164)","v":""},{"$f":"IF(ISBLANK(data!H164),\"\",data!H164)","v":""},{"$f":"IF(ISBLANK(data!I164),\"\",data!I164)","v":""},{"$f":"IF(ISBLANK(data!J164),\"\",data!J164)","v":""},{"$f":"IF(ISBLANK(data!K164),\"\",data!K164)","v":""},{"$f":"IF(ISBLANK(data!L164),\"\",data!L164)","v":""},{"$f":"IF(ISBLANK(data!M164),\"\",data!M164)","v":""},{"$f":"IF(ISBLANK(data!N164),\"\",data!N164)","v":""},{"$f":"IF(ISBLANK(data!O164),\"\",data!O164)","v":""},{"$f":"IF(ISBLANK(data!P164),\"\",data!P164)","v":""},{"$f":"IF(ISBLANK(data!Q164),\"\",data!Q164)","v":""},{"$f":"IF(ISBLANK(data!R164),\"\",data!R164)","v":""},{"$f":"IF(ISBLANK(data!S164),\"\",data!S164)","v":""},{"$f":"IF(ISBLANK(data!T164),\"\",data!T164)","v":""},{"$f":"IF(ISBLANK(data!U164),\"\",data!U164)","v":""},{"$f":"IF(ISBLANK(data!V164),\"\",data!V164)","v":""},null,null,{"$f":"IF(D65<>\"\",D65-$C65,\"\")","v":""},"","","","","","","","","",{"$f":"IF(N65<>\"\",N65-$C65,\"\")","v":""},"","","","","",""]
[{"$f":"IF(ISBLANK(data!B167),\"\",data!B167)","v":"Promotion of Parental Participation*"},{"$f":"IF(ISBLANK(data!D167),\"\",data!D167)","v":""},{"$f":"IF(ISBLANK(data!E167),\"\",data!E167)","v":""},{"$f":"IF(ISBLANK(data!F167),\"\",data!F167)","v":""},{"$f":"IF(ISBLANK(data!G167),\"\",data!G167)","v":""},{"$f":"IF(ISBLANK(data!H167),\"\",data!H167)","v":""},{"$f":"IF(ISBLANK(data!I167),\"\",data!I167)","v":""},{"$f":"IF(ISBLANK(data!J167),\"\",data!J167)","v":""},{"$f":"IF(ISBLANK(data!K167),\"\",data!K167)","v":""},{"$f":"IF(ISBLANK(data!L167),\"\",data!L167)","v":""},{"$f":"IF(ISBLANK(data!M167),\"\",data!M167)","v":""},{"$f":"IF(ISBLANK(data!N167),\"\",data!N167)","v":""},{"$f":"IF(ISBLANK(data!O167),\"\",data!O167)","v":""},{"$f":"IF(ISBLANK(data!P167),\"\",data!P167)","v":""},{"$f":"IF(ISBLANK(data!Q167),\"\",data!Q167)","v":""},{"$f":"IF(ISBLANK(data!R167),\"\",data!R167)","v":""},{"$f":"IF(ISBLANK(data!S167),\"\",data!S167)","v":""},{"$f":"IF(ISBLANK(data!T167),\"\",data!T167)","v":""},{"$f":"IF(ISBLANK(data!U167),\"\",data!U167)","v":""},{"$f":"IF(ISBLANK(data!V167),\"\",data!V167)","v":""},null,null,"","","","","","","","","","","","","","","","",""]
[{"$f":"IF(ISBLANK(data!B170),\"\",data!B170)","v":"District Identified 16"},{"$f":"IF(ISBLANK(data!D170),\"\",data!D170)","v":""},{"$f":"IF(ISBLANK(data!E170),\"\",data!E170)","v":""},{"$f":"IF(ISBLANK(data!F170),\"\",data!F170)","v":""},{"$f":"IF(ISBLANK(data!G170),\"\",data!G170)","v":""},{"$f":"IF(ISBLANK(data!H170),\"\",data!H170)","v":""},{"$f":"IF(ISBLANK(data!I170),\"\",data!I170)","v":""},{"$f":"IF(ISBLANK(data!J170),\"\",data!J170)","v":""},{"$f":"IF(ISBLANK(data!K170),\"\",data!K170)","v":""},{"$f":"IF(ISBLANK(data!L170),\"\",data!L170)","v":""},{"$f":"IF(ISBLANK(data!M170),\"\",data!M170)","v":""},{"$f":"IF(ISBLANK(data!N170),\"\",data!N170)","v":""},{"$f":"IF(ISBLANK(data!O170),\"\",data!O170)","v":""},{"$f":"IF(ISBLANK(data!P170),\"\",data!P170)","v":""},{"$f":"IF(ISBLANK(data!Q170),\"\",data!Q170)","v":""},{"$f":"IF(ISBLANK(data!R170),\"\",data!R170)","v":""},{"$f":"IF(ISBLANK(data!S170),\"\",data!S170)","v":""},{"$f":"IF(ISBLANK(data!T170),\"\",data!T170)","v":""},{"$f":"IF(ISBLANK(data!U170),\"\",data!U170)","v":""},{"$f":"IF(ISBLANK(data!V170),\"\",data!V170)","v":""},null,null,"","","","","","","","","","","","","","","","",""]
[{"$f":"IF(ISBLANK(data!B173),\"\",data!B173)","v":"District Identified 17"},{"$f":"IF(ISBLANK(data!D173),\"\",data!D173)","v":""},{"$f":"IF(ISBLANK(data!E173),\"\",data!E173)","v":""},{"$f":"IF(ISBLANK(data!F173),\"\",data!F173)","v":""},{"$f":"IF(ISBLANK(data!G173),\"\",data!G173)","v":""},{"$f":"IF(ISBLANK(data!H173),\"\",data!H173)","v":""},{"$f":"IF(ISBLANK(data!I173),\"\",data!I173)","v":""},{"$f":"IF(ISBLANK(data!J173),\"\",data!J173)","v":""},{"$f":"IF(ISBLANK(data!K173),\"\",data!K173)","v":""},{"$f":"IF(ISBLANK(data!L173),\"\",data!L173)","v":""},{"$f":"IF(ISBLANK(data!M173),\"\",data!M173)","v":""},{"$f":"IF(ISBLANK(data!N173),\"\",data!N173)","v":""},{"$f":"IF(ISBLANK(data!O173),\"\",data!O173)","v":""},{"$f":"IF(ISBLANK(data!P173),\"\",data!P173)","v":""},{"$f":"IF(ISBLANK(data!Q173),\"\",data!Q173)","v":""},{"$f":"IF(ISBLANK(data!R173),\"\",data!R173)","v":""},{"$f":"IF(ISBLANK(data!S173),\"\",data!S173)","v":""},{"$f":"IF(ISBLANK(data!T173),\"\",data!T173)","v":""},{"$f":"IF(ISBLANK(data!U173),\"\",data!U173)","v":""},{"$f":"IF(ISBLANK(data!V173),\"\",data!V173)","v":""},null,null,"","","","","","","","","","","","","","","","",""]
[{"$f":"IF(ISBLANK(data!B176),\"\",data!B176)","v":"District Identified 18"},{"$f":"IF(ISBLANK(data!D176),\"\",data!D176)","v":""},{"$f":"IF(ISBLANK(data!E176),\"\",data!E176)","v":""},{"$f":"IF(ISBLANK(data!F176),\"\",data!F176)","v":""},{"$f":"IF(ISBLANK(data!G176),\"\",data!G176)","v":""},{"$f":"IF(ISBLANK(data!H176),\"\",data!H176)","v":""},{"$f":"IF(ISBLANK(data!I176),\"\",data!I176)","v":""},{"$f":"IF(ISBLANK(data!J176),\"\",data!J176)","v":""},{"$f":"IF(ISBLANK(data!K176),\"\",data!K176)","v":""},{"$f":"IF(ISBLANK(data!L176),\"\",data!L176)","v":""},{"$f":"IF(ISBLANK(data!M176),\"\",data!M176)","v":""},{"$f":"IF(ISBLANK(data!N176),\"\",data!N176)","v":""},{"$f":"IF(ISBLANK(data!O176),\"\",data!O176)","v":""},{"$f":"IF(ISBLANK(data!P176),\"\",data!P176)","v":""},{"$f":"IF(ISBLANK(data!Q176),\"\",data!Q176)","v":""},{"$f":"IF(ISBLANK(data!R176),\"\",data!R176)","v":""},{"$f":"IF(ISBLANK(data!S176),\"\",data!S176)","v":""},{"$f":"IF(ISBLANK(data!T176),\"\",data!T176)","v":""},{"$f":"IF(ISBLANK(data!U176),\"\",data!U176)","v":""},{"$f":"IF(ISBLANK(data!V176),\"\",data!V176)","v":""},null,null,"","","","","","","","","","","","","","","","",""]
["5. Pupil Engagement",null,null,{"$f":"IF(COUNTA(W71:W78)-COUNTBLANK(W71:W78)>0,(COUNTIF(W71:W78,\">=0\")/(COUNTA(W71:W78)-COUNTBLANK(W71:W78))),\"\")","v":""},{"$f":"IF(COUNTA(X71:X78)-COUNTBLANK(X71:X78)>0,(COUNTIF(X71:X78,\">=0\")/(COUNTA(X71:X78)-COUNTBLANK(X71:X78))),\"\")","v":""},"","","","","","","","","","","","","","",""]
[{"$f":"IF(ISBLANK(data!B179),\"\",data!B179)","v":"Attendance Rate*"},{"$f":"IF(ISBLANK(data!D179),\"\",data!D179)","v":""},{"$f":"IF(ISBLANK(data!E179),\"\",data!E179)","v":""},{"$f":"IF(ISBLANK(data!F179),\"\",data!F179)","v":""},{"$f":"IF(ISBLANK(data!G179),\"\",data!G179)","v":""},{"$f":"IF(ISBLANK(data!H179),\"\",data!H179)","v":""},{"$f":"IF(ISBLANK(data!I179),\"\",data!I179)","v":""},{"$f":"IF(ISBLANK(data!J179),\"\",data!J179)","v":""},{"$f":"IF(ISBLANK(data!K179),\"\",data!K179)","v":""},{"$f":"IF(ISBLANK(data!L179),\"\",data!L179)","v":""},{"$f":"IF(ISBLANK(data!M179),\"\",data!M179)","v":""},{"$f":"IF(ISBLANK(data!N179),\"\",data!N179)","v":""},{"$f":"IF(ISBLANK(data!O179),\"\",data!O179)","v":""},{"$f":"IF(ISBLANK(data!P179),\"\",data!P179)","v":""},{"$f":"IF(ISBLANK(data!Q179),\"\",data!Q179)","v":""},{"$f":"IF(ISBLANK(data!R179),\"\",data!R179)","v":""},{"$f":"IF(ISBLANK(data!S179),\"\",data!S179)","v":""},{"$f":"IF(ISBLANK(data!T179),\"\",data!T179)","v":""},{"$f":"IF(ISBLANK(data!U179),\"\",data!U179)","v":""},{"$f":"IF(ISBLANK(data!V179),\"\",data!V179)","v":""},null,null,{"$f":"IF(D71<>\"\",D71-$C71,\"\")","v":""},"","","","","","","","","","","","","","","",""]
[{"$f":"IF(ISBLANK(data!B182),\"\",data!B182)","v":"Chronic Absenteeism Rate*"},{"$f":"IF(ISBLANK(data!D182),\"\",data!D182)","v":""},{"$f":"IF(ISBLANK(data!E182),\"\",data!E182)","v":""},{"$f":"IF(ISBLANK(data!F182),\"\",data!F182)","v":""},{"$f":"IF(ISBLANK(data!G182),\"\",data!G182)","v":""},{"$f":"IF(ISBLANK(data!H182),\"\",data!H182)","v":""},{"$f":"IF(ISBLANK(data!I182),\"\",data!I182)","v":""},{"$f":"IF(ISBLANK(data!J182),\"\",data!J182)","v":""},{"$f":"IF(ISBLANK(data!K182),\"\",data!K182)","v":""},{"$f":"IF(ISBLANK(data!L182),\"\",data!L182)","v":""},{"$f":"IF(ISBLANK(data!M182),\"\",data!M182)","v":""},{"$f":"IF(ISBLANK(data!N182),\"\",data!N182)","v":""},{"$f":"IF(ISBLANK(data!O182),\"\",data!O182)","v":""},{"$f":"IF(ISBLANK(data!P182),\"\",data!P182)","v":""},{"$f":"IF(ISBLANK(data!Q182),\"\",data!Q182)","v":""},{"$f":"IF(ISBLANK(data!R182),\"\",data!R182)","v":""},{"$f":"IF(ISBLANK(data!S182),\"\",data!S182)","v":""},{"$f":"IF(ISBLANK(data!T182),\"\",data!T182)","v":""},{"$f":"IF(ISBLANK(data!U182),\"\",data!U182)","v":""},{"$f":"IF(ISBLANK(data!V182),\"\",data!V182)","v":""},null,null,{"$f":"IF(D72<>\"\",-1*(D72-$C72),\"\")","v":""},{"$f":"IF(E72<>\"\",-1*(E72-$C72),\"\")","v":""},"","","","","","","","","","","","","","",""]
[{"$f":"IF(ISBLANK(data!B185),\"\",data!B185)","v":"Middle School\nDropout Rate*"},{"$f":"IF(ISBLANK(data!D185),\"\",data!D185)","v":""},{"$f":"IF(ISBLANK(data!E185),\"\",data!E185)","v":""},{"$f":"IF(ISBLANK(data!F185),\"\",data!F185)","v":""},{"$f":"IF(ISBLANK(data!G185),\"\",data!G185)","v":""},{"$f":"IF(ISBLANK(data!H185),\"\",data!H185)","v":""},{"$f":"IF(ISBLANK(data!I185),\"\",data!I185)","v":""},{"$f":"IF(ISBLANK(data!J185),\"\",data!J185)","v":""},{"$f":"IF(ISBLANK(data!K185),\"\",data!K185)","v":""},{"$f":"IF(ISBLANK(data!L185),\"\",data!L185)","v":""},{"$f":"IF(ISBLANK(data!M185),\"\",data!M185)","v":""},{"$f":"IF(ISBLANK(data!N185),\"\",data!N185)","v":""},{"$f":"IF(ISBLANK(data!O185),\"\",data!O185)","v":""},{"$f":"IF(ISBLANK(data!P185),\"\",data!P185)","v":""},{"$f":"IF(ISBLANK(data!Q185),\"\",data!Q185)","v":""},{"$f":"IF(ISBLANK(data!R185),\"\",data!R185)","v":""},{"$f":"IF(ISBLANK(data!S185),\"\",data!S185)","v":""},{"$f":"IF(ISBLANK(data!T185),\"\",data!T185)","v":""},{"$f":"IF(ISBLANK(data!U185),\"\",data!U185)","v":""},{"$f":"IF(ISBLANK(data!V185),\"\",data!V185)","v":""},null,null,{"$f":"IF(D73<>\"\",-1*(D73-$C73),\"\")","v":""},{"$f":"IF(E73<>\"\",-1*(E73-$C73),\"\")","v":""},"","","","","","","","","","","","","","",""]
[{"$f":"IF(ISBLANK(data!B188),\"\",data!B188)","v":"High School\nDropout Rate*"},{"$f":"IF(ISBLANK(data!D188),\"\",data!D188)","v":""},{"$f":"IF(ISBLANK(data!E188),\"\",data!E188)","v":""},{"$f":"IF(ISBLANK(data!F188),\"\",data!F188)","v":""},{"$f":"IF(ISBLANK(data!G188),\"\",data!G188)","v":""},{"$f":"IF(ISBLANK(data!H188),\"\",data!H188)","v":""},{"$f":"IF(ISBLANK(data!I188),\"\",data!I188)","v":""},{"$f":"IF(ISBLANK(data!J188),\"\",data!J188)","v":""},{"$f":"IF(ISBLANK(data!K188),\"\",data!K188)","v":""},{"$f":"IF(ISBLANK(data!L188),\"\",data!L188)","v":""},{"$f":"IF(ISBLANK(data!M188),\"\",data!M188)","v":""},{"$f":"IF(ISBLANK(data!N188),\"\",data!N188)","v":""},{"$f":"IF(ISBLANK(data!O188),\"\",data!O188)","v":""},{"$f":"IF(ISBLANK(data!P188),\"\",data!P188)","v":""},{"$f":"IF(ISBLANK(data!Q188),\"\",data!Q188)","v":""},{"$f":"IF(ISBLANK(data!R188),\"\",data!R188)","v":""},{"$f":"IF(ISBLANK(data!S188),\"\",data!S188)","v":""},{"$f":"IF(ISBLANK(data!T188),\"\",data!T188)","v":""},{"$f":"IF(ISBLANK(data!U188),\"\",data!U188)","v":""},{"$f":"IF(ISBLANK(data!V188),\"\",data!V188)","v":""},null,null,{"$f":"IF(D74<>\"\",-1*(D74-$C74),\"\")","v":""},"","","","","","","","","","","","","","","",""]
[{"$f":"IF(ISBLANK(data!B191),\"\",data!B191)","v":"High School \nGraduation Rate*"},{"$f":"IF(ISBLANK(data!D191),\"\",data!D191)","v":""},{"$f":"IF(ISBLANK(data!E191),\"\",data!E191)","v":""},{"$f":"IF(ISBLANK(data!F191),\"\",data!F191)","v":""},{"$f":"IF(ISBLANK(data!G191),\"\",data!G191)","v":""},{"$f":"IF(ISBLANK(data!H191),\"\",data!H191)","v":""},{"$f":"IF(ISBLANK(data!I191),\"\",data!I191)","v":""},{"$f":"IF(ISBLANK(data!J191),\"\",data!J191)","v":""},{"$f":"IF(ISBLANK(data!K191),\"\",data!K191)","v":""},{"$f":"IF(ISBLANK(data!L191),\"\",data!L191)","v":""},{"$f":"IF(ISBLANK(data!M191),\"\",data!M191)","v":""},{"$f":"IF(ISBLANK(data!N191),\"\",data!N191)","v":""},{"$f":"IF(ISBLANK(data!O191),\"\",data!O191)","v":""},{"$f":"IF(ISBLANK(data!P191),\"\",data!P191)","v":""},{"$f":"IF(ISBLANK(data!Q191),\"\",data!Q191)","v":""},{"$f":"IF(ISBLANK(data!R191),\"\",data!R191)","v":""},{"$f":"IF(ISBLANK(data!S191),\"\",data!S191)","v":""},{"$f":"IF(ISBLANK(data!T191),\"\",data!T191)","v":""},{"$f":"IF(ISBLANK(data!U191),\"\",data!U191)","v":""},{"$f":"IF(ISBLANK(data!V191),\"\",data!V191)","v":""},null,null,{"$f":"IF(D75<>\"\",D75-$C75,\"\")","v":""},{"$f":"IF(E75<>\"\",E75-$C75,\"\")","v":""},{"$f":"IF(F75<>\"\",F75-$C75,\"\")","v":""},{"$f":"IF(G75<>\"\",G75-$C75,\"\")","v":""},{"$f":"IF(H75<>\"\",H75-$C75,\"\")","v":""},{"$f":"IF(I75<>\"\",I75-$C75,\"\")","v":""},{"$f":"IF(J75<>\"\",J75-$C75,\"\")","v":""},{"$f":"IF(K75<>\"\",K75-$C75,\"\")","v":""},{"$f":"IF(L75<>\"\",L75-$C75,\"\")","v":""},{"$f":"IF(M75<>\"\",M75-$C75,\"\")","v":""},{"$f":"IF(N75<>\"\",N75-$C75,\"\")","v":""},{"$f":"IF(O75<>\"\",O75-$C75,\"\")","v":""},{"$f":"IF(P75<>\"\",P75-$C75,\"\")","v":""},{"$f":"IF(Q75<>\"\",Q75-$C75,\"\")","v":""},{"$f":"IF(R75<>\"\",R75-$C75,\"\")","v":""},{"$f":"IF(S75<>\"\",S75-$C75,\"\")","v":""},{"$f":"IF(T75<>\"\",T75-$C75,\"\")","v":""}]
[{"$f":"IF(ISBLANK(data!B194),\"\",data!B194)","v":"District Identified 19"},{"$f":"IF(ISBLANK(data!D194),\"\",data!D194)","v":""},{"$f":"IF(ISBLANK(data!E194),\"\",data!E194)","v":""},{"$f":"IF(ISBLANK(data!F194),\"\",data!F194)","v":""},{"$f":"IF(ISBLANK(data!G194),\"\",data!G194)","v":""},{"$f":"IF(ISBLANK(data!H194),\"\",data!H194)","v":""},{"$f":"IF(ISBLANK(data!I194),\"\",data!I194)","v":""},{"$f":"IF(ISBLANK(data!J194),\"\",data!J194)","v":""},{"$f":"IF(ISBLANK(data!K194),\"\",data!K194)","v":""},{"$f":"IF(ISBLANK(data!L194),\"\",data!L194)","v":""},{"$f":"IF(ISBLANK(data!M194),\"\",data!M194)","v":""},{"$f":"IF(ISBLANK(data!N194),\"\",data!N194)","v":""},{"$f":"IF(ISBLANK(data!O194),\"\",data!O194)","v":""},{"$f":"IF(ISBLANK(data!P194),\"\",data!P194)","v":""},{"$f":"IF(ISBLANK(data!Q194),\"\",data!Q194)","v":""},{"$f":"IF(ISBLANK(data!R194),\"\",data!R194)","v":""},{"$f":"IF(ISBLANK(data!S194),\"\",data!S194)","v":""},{"$f":"IF(ISBLANK(data!T194),\"\",data!T194)","v":""},{"$f":"IF(ISBLANK(data!U194),\"\",data!U194)","v":""},{"$f":"IF(ISBLANK(data!V194),\"\",data!V194)","v":""},null,null,"","","","","","","","","","","","","","","","",""]
[{"$f":"IF(ISBLANK(data!B197),\"\",data!B197)","v":"District Identified 20"},{"$f":"IF(ISBLANK(data!D197),\"\",data!D197)","v":""},{"$f":"IF(ISBLANK(data!E197),\"\",data!E197)","v":""},{"$f":"IF(ISBLANK(data!F197),\"\",data!F197)","v":""},{"$f":"IF(ISBLANK(data!G197),\"\",data!G197)","v":""},{"$f":"IF(ISBLANK(data!H197),\"\",data!H197)","v":""},{"$f":"IF(ISBLANK(data!I197),\"\",data!I197)","v":""},{"$f":"IF(ISBLANK(data!J197),\"\",data!J197)","v":""},{"$f":"IF(ISBLANK(data!K197),\"\",data!K197)","v":""},{"$f":"IF(ISBLANK(data!L197),\"\",data!L197)","v":""},{"$f":"IF(ISBLANK(data!M197),\"\",data!M197)","v":""},{"$f":"IF(ISBLANK(data!N197),\"\",data!N197)","v":""},{"$f":"IF(ISBLANK(data!O197),\"\",data!O197)","v":""},{"$f":"IF(ISBLANK(data!P197),\"\",data!P197)","v":""},{"$f":"IF(ISBLANK(data!Q197),\"\",data!Q197)","v":""},{"$f":"IF(ISBLANK(data!R197),\"\",data!R197)","v":""},{"$f":"IF(ISBLANK(data!S197),\"\",data!S197)","v":""},{"$f":"IF(ISBLANK(data!T197),\"\",data!T197)","v":""},{"$f":"IF(ISBLANK(data!U197),\"\",data!U197)","v":""},{"$f":"IF(ISBLANK(data!V197),\"\",data!V197)","v":""},null,null,"","","","","","","","","","","","","","","","",""]
[{"$f":"IF(ISBLANK(data!B200),\"\",data!B200)","v":"District Identified 21"},{"$f":"IF(ISBLANK(data!D200),\"\",data!D200)","v":""},{"$f":"IF(ISBLANK(data!E200),\"\",data!E200)","v":""},{"$f":"IF(ISBLANK(data!F200),\"\",data!F200)","v":""},{"$f":"IF(ISBLANK(data!G200),\"\",data!G200)","v":""},{"$f":"IF(ISBLANK(data!H200),\"\",data!H200)","v":""},{"$f":"IF(ISBLANK(data!I200),\"\",data!I200)","v":""},{"$f":"IF(ISBLANK(data!J200),\"\",data!J200)","v":""},{"$f":"IF(ISBLANK(data!K200),\"\",data!K200)","v":""},{"$f":"IF(ISBLANK(data!L200),\"\",data!L200)","v":""},{"$f":"IF(ISBLANK(data!M200),\"\",data!M200)","v":""},{"$f":"IF(ISBLANK(data!N200),\"\",data!N200)","v":""},{"$f":"IF(ISBLANK(data!O200),\"\",data!O200)","v":""},{"$f":"IF(ISBLANK(data!P200),\"\",data!P200)","v":""},{"$f":"IF(ISBLANK(data!Q200),\"\",data!Q200)","v":""},{"$f":"IF(ISBLANK(data!R200),\"\",data!R200)","v":""},{"$f":"IF(ISBLANK(data!S200),\"\",data!S200)","v":""},{"$f":"IF(ISBLANK(data!T200),\"\",data!T200)","v":""},{"$f":"IF(ISBLANK(data!U200),\"\",data!U200)","v":""},{"$f":"IF(ISBLANK(data!V200),\"\",data!V200)","v":""},null,null,"","","","","","","","","","","","","","","","",""]
["6. School Climate",null,null,{"$f":"IF(COUNTA(W80:W85)-COUNTBLANK(W80:W85)>0,(COUNTIF(W80:W85,\">=0\")/(COUNTA(W80:W85)-COUNTBLANK(W80:W85))),\"\")","v":""},{"$f":"IF(COUNTA(X80:X85)-COUNTBLANK(X80:X85)>0,(COUNTIF(X80:X85,\">=0\")/(COUNTA(X80:X85)-COUNTBLANK(X80:X85))),\"\")","v":""},"","","","","","","","","","","","","","",""]
[{"$f":"IF(ISBLANK(data!B203),\"\",data!B203)","v":"Suspension Rate*"},{"$f":"IF(ISBLANK(data!D203),\"\",data!D203)","v":""},{"$f":"IF(ISBLANK(data!E203),\"\",data!E203)","v":""},{"$f":"IF(ISBLANK(data!F203),\"\",data!F203)","v":""},{"$f":"IF(ISBLANK(data!G203),\"\",data!G203)","v":""},{"$f":"IF(ISBLANK(data!H203),\"\",data!H203)","v":""},{"$f":"IF(ISBLANK(data!I203),\"\",data!I203)","v":""},{"$f":"IF(ISBLANK(data!J203),\"\",data!J203)","v":""},{"$f":"IF(ISBLANK(data!K203),\"\",data!K203)","v":""},{"$f":"IF(ISBLANK(data!L203),\"\",data!L203)","v":""},{"$f":"IF(ISBLANK(data!M203),\"\",data!M203)","v":""},{"$f":"IF(ISBLANK(data!N203),\"\",data!N203)","v":""},{"$f":"IF(ISBLANK(data!O203),\"\",data!O203)","v":""},{"$f":"IF(ISBLANK(data!P203),\"\",data!P203)","v":""},{"$f":"IF(ISBLANK(data!Q203),\"\",data!Q203)","v":""},{"$f":"IF(ISBLANK(data!R203),\"\",data!R203)","v":""},{"$f":"IF(ISBLANK(data!S203),\"\",data!S203)","v":""},{"$f":"IF(ISBLANK(data!T203),\"\",data!T203)","v":""},{"$f":"IF(ISBLANK(data!U203),\"\",data!U203)","v":""},{"$f":"IF(ISBLANK(data!V203),\"\",data!V203)","v":""},null,null,{"$f":"IF(D80<>\"\",-1*(D80-$C80),\"\")","v":""},{"$f":"IF(E80<>\"\",-1*(E80-$C80),\"\")","v":""},"","","","","","","","","","","","","","",""]
[{"$f":"IF(ISBLANK(data!B206),\"\",data!B206)","v":"Expulsion Rate*"},{"$f":"IF(ISBLANK(data!D206),\"\",data!D206)","v":""},{"$f":"IF(ISBLANK(data!E206),\"\",data!E206)","v":""},{"$f":"IF(ISBLANK(data!F206),\"\",data!F206)","v":""},{"$f":"IF(ISBLANK(data!G206),\"\",data!G206)","v":""},{"$f":"IF(ISBLANK(data!H206),\"\",data!H206)","v":""},{"$f":"IF(ISBLANK(data!I206),\"\",data!I206)","v":""},{"$f":"IF(ISBLANK(data!J206),\"\",data!J206)","v":""},{"$f":"IF(ISBLANK(data!K206),\"\",data!K206)","v":""},{"$f":"IF(ISBLANK(data!L206),\"\",data!L206)","v":""},{"$f":"IF(ISBLANK(data!M206),\"\",data!M206)","v":""},{"$f":"IF(ISBLANK(data!N206),\"\",data!N206)","v":""},{"$f":"IF(ISBLANK(data!O206),\"\",data!O206)","v":""},{"$f":"IF(ISBLANK(data!P206),\"\",data!P206)","v":""},{"$f":"IF(ISBLANK(data!Q206),\"\",data!Q206)","v":""},{"$f":"IF(ISBLANK(data!R206),\"\",data!R206)","v":""},{"$f":"IF(ISBLANK(data!S206),\"\",data!S206)","v":""},{"$f":"IF(ISBLANK(data!T206),\"\",data!T206)","v":""},{"$f":"IF(ISBLANK(data!U206),\"\",data!U206)","v":""},{"$f":"IF(ISBLANK(data!V206),\"\",data!V206)","v":""},null,null,{"$f":"IF(D81<>\"\",-1*(D81-$C81),\"\")","v":""},{"$f":"IF(E81<>\"\",-1*(E81-$C81),\"\")","v":""},"","","","","","","","","","","","","","",""]
[{"$f":"IF(ISBLANK(data!B209),\"\",data!B209)","v":"Truancy Rate"},{"$f":"IF(ISBLANK(data!D209),\"\",data!D209)","v":""},{"$f":"IF(ISBLANK(data!E209),\"\",data!E209)","v":""},{"$f":"IF(ISBLANK(data!F209),\"\",data!F209)","v":""},{"$f":"IF(ISBLANK(data!G209),\"\",data!G209)","v":""},{"$f":"IF(ISBLANK(data!H209),\"\",data!H209)","v":""},{"$f":"IF(ISBLANK(data!I209),\"\",data!I209)","v":""},{"$f":"IF(ISBLANK(data!J209),\"\",data!J209)","v":""},{"$f":"IF(ISBLANK(data!K209),\"\",data!K209)","v":""},{"$f":"IF(ISBLANK(data!L209),\"\",data!L209)","v":""},{"$f":"IF(ISBLANK(data!M209),\"\",data!M209)","v":""},{"$f":"IF(ISBLANK(data!N209),\"\",data!N209)","v":""},{"$f":"IF(ISBLANK(data!O209),\"\",data!O209)","v":""},{"$f":"IF(ISBLANK(data!P209),\"\",data!P209)","v":""},{"$f":"IF(ISBLANK(data!Q209),\"\",data!Q209)","v":""},{"$f":"IF(ISBLANK(data!R209),\"\",data!R209)","v":""},{"$f":"IF(ISBLANK(data!S209),\"\",data!S209)","v":""},{"$f":"IF(ISBLANK(data!T209),\"\",data!T209)","v":""},{"$f":"IF(ISBLANK(data!U209),\"\",data!U209)","v":""},{"$f":"IF(ISBLANK(data!V209),\"\",data!V209)","v":""},null,null,{"$f":"IF(D82<>\"\",-1*(D82-$C82),\"\")","v":""},"","","","","","","","","","","","","","","",""]
[{"$f":"IF(ISBLANK(data!B212),\"\",data!B212)","v":"District Identified 22"},{"$f":"IF(ISBLANK(data!D212),\"\",data!D212)","v":""},{"$f":"IF(ISBLANK(data!E212),\"\",data!E212)","v":""},{"$f":"IF(ISBLANK(data!F212),\"\",data!F212)","v":""},{"$f":"IF(ISBLANK(data!G212),\"\",data!G212)","v":""},{"$f":"IF(ISBLANK(data!H212),\"\",data!H212)","v":""},{"$f":"IF(ISBLANK(data!I212),\"\",data!I212)","v":""},{"$f":"IF(ISBLANK(data!J212),\"\",data!J212)","v":""},{"$f":"IF(ISBLANK(data!K212),\"\",data!K212)","v":""},{"$f":"IF(ISBLANK(data!L212),\"\",data!L212)","v":""},{"$f":"IF(ISBLANK(data!M212),\"\",data!M212)","v":""},{"$f":"IF(ISBLANK(data!N212),\"\",data!N212)","v":""},{"$f":"IF(ISBLANK(data!O212),\"\",data!O212)","v":""},{"$f":"IF(ISBLANK(data!P212),\"\",data!P212)","v":""},{"$f":"IF(ISBLANK(data!Q212),\"\",data!Q212)","v":""},{"$f":"IF(ISBLANK(data!R212),\"\",data!R212)","v":""},{"$f":"IF(ISBLANK(data!S212),\"\",data!S212)","v":""},{"$f":"IF(ISBLANK(data!T212),\"\",data!T212)","v":""},{"$f":"IF(ISBLANK(data!U212),\"\",data!U212)","v":""},{"$f":"IF(ISBLANK(data!V212),\"\",data!V212)","v":""},null,null,{"$f":"IF(D83<>\"\",D83-$C83,\"\")","v":""},"","","","","","","","","",{"$f":"IF(N83<>\"\",N83-$C83,\"\")","v":""},"","","","","",""]
[{"$f":"IF(ISBLANK(data!B215),\"\",data!B215)","v":"District Identified 23"},{"$f":"IF(ISBLANK(data!D215),\"\",data!D215)","v":""},{"$f":"IF(ISBLANK(data!E215),\"\",data!E215)","v":""},{"$f":"IF(ISBLANK(data!F215),\"\",data!F215)","v":""},{"$f":"IF(ISBLANK(data!G215),\"\",data!G215)","v":""},{"$f":"IF(ISBLANK(data!H215),\"\",data!H215)","v":""},{"$f":"IF(ISBLANK(data!I215),\"\",data!I215)","v":""},{"$f":"IF(ISBLANK(data!J215),\"\",data!J215)","v":""},{"$f":"IF(ISBLANK(data!K215),\"\",data!K215)","v":""},{"$f":"IF(ISBLANK(data!L215),\"\",data!L215)","v":""},{"$f":"IF(ISBLANK(data!M215),\"\",data!M215)","v":""},{"$f":"IF(ISBLANK(data!N215),\"\",data!N215)","v":""},{"$f":"IF(ISBLANK(data!O215),\"\",data!O215)","v":""},{"$f":"IF(ISBLANK(data!P215),\"\",data!P215)","v":""},{"$f":"IF(ISBLANK(data!Q215),\"\",data!Q215)","v":""},{"$f":"IF(ISBLANK(data!R215),\"\",data!R215)","v":""},{"$f":"IF(ISBLANK(data!S215),\"\",data!S215)","v":""},{"$f":"IF(ISBLANK(data!T215),\"\",data!T215)","v":""},{"$f":"IF(ISBLANK(data!U215),\"\",data!U215)","v":""},{"$f":"IF(ISBLANK(data!V215),\"\",data!V215)","v":""},null,null,"","","","","","","","","","","","","","","","",""]
[{"$f":"IF(ISBLANK(data!B218),\"\",data!B218)","v":"District Identified 24"},{"$f":"IF(ISBLANK(data!D218),\"\",data!D218)","v":""},{"$f":"IF(ISBLANK(data!E218),\"\",data!E218)","v":""},{"$f":"IF(ISBLANK(data!F218),\"\",data!F218)","v":""},{"$f":"IF(ISBLANK(data!G218),\"\",data!G218)","v":""},{"$f":"IF(ISBLANK(data!H218),\"\",data!H218)","v":""},{"$f":"IF(ISBLANK(data!I218),\"\",data!I218)","v":""},{"$f":"IF(ISBLANK(data!J218),\"\",data!J218)","v":""},{"$f":"IF(ISBLANK(data!K218),\"\",data!K218)","v":""},{"$f":"IF(ISBLANK(data!L218),\"\",data!L218)","v":""},{"$f":"IF(ISBLANK(data!M218),\"\",data!M218)","v":""},{"$f":"IF(ISBLANK(data!N218),\"\",data!N218)","v":""},{"$f":"IF(ISBLANK(data!O218),\"\",data!O218)","v":""},{"$f":"IF(ISBLANK(data!P218),\"\",data!P218)","v":""},{"$f":"IF(ISBLANK(data!Q218),\"\",data!Q218)","v":""},{"$f":"IF(ISBLANK(data!R218),\"\",data!R218)","v":""},{"$f":"IF(ISBLANK(data!S218),\"\",data!S218)","v":""},{"$f":"IF(ISBLANK(data!T218),\"\",data!T218)","v":""},{"$f":"IF(ISBLANK(data!U218),\"\",data!U218)","v":""},{"$f":"IF(ISBLANK(data!V218),\"\",data!V218)","v":""},null,null,"","","","","","","","","","","","","","","","",""]

{"sheet":"data","index":1,"n_rows":221,"n_cols":41,"rows_kept":221,"cut":false,"hidden":false,"merged":[]}
["SectionName","Metric","Year","Statewide","District","Black or African American","American Indian or Alaska Native","Asian","Filipino","Hispanic or Latino","Native Hawaiian or Pacific Islander","White","Two or more races","No Race Reported","Socio- economically Disadvantaged","English Learners","Students with Disabilities","Foster Youth","Reclassified as Fluent English Proficient","District Identified Subgroup 1","District Identified Subgroup 2","Distric Identified Subgroup3",{"$f":"D1","v":"Statewide"},{"$f":"E1","v":"District"},"Black or African American","American Indian or Alaska Native","Asian","Filipino","Hispanic or Latino","Native Hawaiian or Pacific Islander","White","Two or more races","No Race Reported","Socio- economically Disadvantaged","English Learners","Students with Disabilities","Foster Youth","Reclassified as Fluent English Proficient","District Identified Subgroup 1","District Identified Subgroup 2","Distric Identified Subgroup3"]
["State","State Enrollment","2012",6220993]
["State","State Enrollment","2013",6226989]
["State","State Enrollment","2014"]
["State","District Enrollment","2012"]
["State","District Enrollment","2013"]
["State","District Enrollment","2014"]
["State","District Enrollment Counts","2014"]
["Basic Services","Teacher Missassignment Rate*","2012",null,null,null,null,null,null,null,null,null,null,null,null,null,null,null,null,null,null,null,{"$f":"IF($B9=$B7,D9-D7,\"\")","v":""},{"$f":"IF($B9=$B7,E9-E7,\"\")","v":""},{"$f":"IF($B9=$B7,F9-F7,\"\")","v":""},{"$f":"IF($B9=$B7,G9-G7,\"\")","v":""},{"$f":"IF($B9=$B7,H9-H7,\"\")","v":""},{"$f":"IF($B9=$B7,I9-I7,\"\")","v":""},{"$f":"IF($B9=$B7,J9-J7,\"\")","v":""},{"$f":"IF($B9=$B7,K9-K7,\"\")","v":""},{"$f":"IF($B9=$B7,L9-L7,\"\")","v":""},{"$f":"IF($B9=$B7,M9-M7,\"\")","v":""},{"$f":"IF($B9=$B7,N9-N7,\"\")","v":""},{"$f":"IF($B9=$B7,O9-O7,\"\")","v":""},{"$f":"IF($B9=$B7,P9-P7,\"\")","v":""},{"$f":"IF($B9=$B7,Q9-Q7,\"\")","v":""},{"$f":"IF($B9=$B7,R9-R7,\"\")","v":""},{"$f":"IF($B9=$B7,S9-S7,\"\")","v":""},{"$f":"IF($B9=$B7,T9-T7,\"\")","v":""},{"$f":"IF($B9=$B7,U9-U7,\"\")","v":""},{"$f":"IF($B9=$B7,V9-V7,\"\")","v":""}]
["Basic Services","Teacher Missassignment Rate*","2013",null,null,null,null,null,null,null,null,null,null,null,null,null,null,null,null,null,null,null,"","","","","","","","","","","","","","","","","","",""]
["Basic Services","Teacher Missassignment Rate*","2014",null,null,null,null,null,null,null,null,null,null,null,null,null,null,null,null,null,null,null,0,0,0,0,0,0,0,0,0,0,0,0,0,0,0,0,0,0,0]
["Basic Services","Student Lacking Own Copy of Textbook Rate*","2012",null,null,null,null,null,null,null,null,null,null,null,null,null,null,null,null,null,null,null,"","","","","","","","","","","","","","","","","","",""]
["Basic Services","Student Lacking Own Copy of Textbook Rate*","2013",null,null,null,null,null,null,null,null,null,null,null,null,null,null,null,null,null,null,null,"","","","","","","","","","","","","","","","","","",""]
["Basic Services","Student Lacking Own Copy of Textbook Rate*","2014",null,null,null,null,null,null,null,null,null,null,null,null,null,null,null,null,null,null,null,0,0,0,0,0,0,0,0,0,0,0,0,0,0,0,0,0,0,0]
["Basic Services","Overall Facility Rating*","2012",null,null,null,null,null,null,null,null,null,null,null,null,null,null,null,null,null,null,null,"","","","","","","","","","","","","","","","","","",""]
["Basic Services","Overall Facility Rating*","2013",null,null,null,null,null,null,null,null,null,null,null,null,null,null,null,null,null,null,null,"","","","","","","","","","","","","","","","","","",""]
["Basic Services","Overall Facility Rating*","2014",null,null,null,null,null,null,null,null,null,null,null,null,null,null,null,null,null,null,null,0,0,0,0,0,0,0,0,0,0,0,0,0,0,0,0,0,0,0]
["Basic Services","Credentialed Teacher Rate","2012",null,null,null,null,null,null,null,null,null,null,null,null,null,null,null,null,null,null,null,"","","","","","","","","","","","","","","","","","",""]
["Basic Services","Credentialed Teacher Rate","2013",null,null,null,null,null,null,null,null,null,null,null,null,null,null,null,null,null,null,null,"","","","","","","","","","","","","","","","","","",""]
["Basic Services","Credentialed Teacher Rate","2014",null,null,null,null,null,null,null,null,null,null,null,null,null,null,null,null,null,null,null,0,0,0,0,0,0,0,0,0,0,0,0,0,0,0,0,0,0,0]
["Basic Services","Credentialed Teacher Teaching Outside of Subject Area Rate","2012",null,null,null,null,null,null,null,null,null,null,null,null,null,null,null,null,null,null,null,"","","","","","","","","","","","","","","","","","",""]
["Basic Services","Credentialed Teacher Teaching Outside of Subject Area Rate","2013",null,null,null,null,null,null,null,null,null,null,null,null,null,null,null,null,null,null,null,"","","","","","","","","","","","","","","","","","",""]
["Basic Services","Credentialed Teacher Teaching Outside of Subject Area Rate","2014",null,null,null,null,null,null,null,null,null,null,null,null,null,null,null,null,null,null,null,0,0,0,0,0,0,0,0,0,0,0,0,0,0,0,0,0,0,0]
["Basic Services","Teacher of English Learners Missassignment Rate","2012",null,null,null,null,null,null,null,null,null,null,null,null,null,null,null,null,null,null,null,"","","","","","","","","","","","","","","","","","",""]
["Basic Services","Teacher of English Learners Missassignment Rate","2013",null,null,null,null,null,null,null,null,null,null,null,null,null,null,null,null,null,null,null,"","","","","","","","","","","","","","","","","","",""]
["Basic Services","Teacher of English Learners Missassignment Rate","2014",null,null,null,null,null,null,null,null,null,null,null,null,null,null,null,null,null,null,null,0,0,0,0,0,0,0,0,0,0,0,0,0,0,0,0,0,0,0]
["Basic Services","Highly Qualified Teacher Rate","2012",null,null,null,null,null,null,null,null,null,null,null,null,null,null,null,null,null,null,null,"","","","","","","","","","","","","","","","","","",""]
["Basic Services","Highly Qualified Teacher Rate","2013",null,null,null,null,null,null,null,null,null,null,null,null,null,null,null,null,null,null,null,"","","","","","","","","","","","","","","","","","",""]
["Basic Services","Highly Qualified Teacher Rate","2014",null,null,null,null,null,null,null,null,null,null,null,null,null,null,null,null,null,null,null,0,0,0,0,0,0,0,0,0,0,0,0,0,0,0,0,0,0,0]
["Basic Services","Most Recently Adopted Textbooks Rate","2012",null,null,null,null,null,null,null,null,null,null,null,null,null,null,null,null,null,null,null,"","","","","","","","","","","","","","","","","","",""]
["Basic Services","Most Recently Adopted Textbooks Rate","2013",null,null,null,null,null,null,null,null,null,null,null,null,null,null,null,null,null,null,null,"","","","","","","","","","","","","","","","","","",""]
["Basic Services","Most Recently Adopted Textbooks Rate","2014",null,null,null,null,null,null,null,null,null,null,null,null,null,null,null,null,null,null,null,0,0,0,0,0,0,0,0,0,0,0,0,0,0,0,0,0,0,0]
["Basic Services","District Identified 1","2012",null,null,null,null,null,null,null,null,null,null,null,null,null,null,null,null,null,null,null,"","","","","","","","","","","","","","","","","","",""]
["Basic Services","District Identified 1","2013",null,null,null,null,null,null,null,null,null,null,null,null,null,null,null,null,null,null,null,"","","","","","","","","","","","","","","","","","",""]
["Basic Services","District Identified 1","2014",null,null,null,null,null,null,null,null,null,null,null,null,null,null,null,null,null,null,null,0,0,0,0,0,0,0,0,0,0,0,0,0,0,0,0,0,0,0]
["Basic Services","District Identified 2","2012",null,null,null,null,null,null,null,null,null,null,null,null,null,null,null,null,null,null,null,"","","","","","","","","","","","","","","","","","",""]
["Basic Services","District Identified 2","2013",null,null,null,null,null,null,null,null,null,null,null,null,null,null,null,null,null,null,null,"","","","","","","","","","","","","","","","","","",""]
["Basic Services","District Identified 2","2014",null,null,null,null,null,null,null,null,null,null,null,null,null,null,null,null,null,null,null,0,0,0,0,0,0,0,0,0,0,0,0,0,0,0,0,0,0,0]
["Basic Services","District Identified 3","2012",null,null,null,null,null,null,null,null,null,null,null,null,null,null,null,null,null,null,null,"","","","","","","","","","","","","","","","","","",""]
["Basic Services","District Identified 3","2013",null,null,null,null,null,null,null,null,null,null,null,null,null,null,null,null,null,null,null,"","","","","","","","","","","","","","","","","","",""]
["Basic Services","District Identified 3","2014",null,null,null,null,null,null,null,null,null,null,null,null,null,null,null,null,null,null,null,0,0,0,0,0,0,0,0,0,0,0,0,0,0,0,0,0,0,0]
["Implementation of Common Core","Common Core ELA Implementation*","2012",null,null,null,null,null,null,null,null,null,null,null,null,null,null,null,null,null,null,null,"","","","","","","","","","","","","","","","","","",""]
["Implementation of Common Core","Common Core ELA Implementation*","2013",null,null,null,null,null,null,null,null,null,null,null,null,null,null,null,null,null,null,null,"","","","","","","","","","","","","","","","","","",""]
["Implementation of Common Core","Common Core ELA Implementation*","2014",null,null,null,null,null,null,null,null,null,null,null,null,null,null,null,null,null,null,null,0,0,0,0,0,0,0,0,0,0,0,0,0,0,0,0,0,0,0]
["Implementation of Common Core","Common Core Math Implementation*","2012",null,null,null,null,null,null,null,null,null,null,null,null,null,null,null,null,null,null,null,"","","","","","","","","","","","","","","","","","",""]
["Implementation of Common Core","Common Core Math Implementation*","2013",null,null,null,null,null,null,null,null,null,null,null,null,null,null,null,null,null,null,null,"","","","","","","","","","","","","","","","","","",""]
["Implementation of Common Core","Common Core Math Implementation*","2014",null,null,null,null,null,null,null,null,null,null,null,null,null,null,null,null,null,null,null,0,0,0,0,0,0,0,0,0,0,0,0,0,0,0,0,0,0,0]
["Implementation of Common Core","Common Core for English Learners*","2012",null,null,null,null,null,null,null,null,null,null,null,null,null,null,null,null,null,null,null,{"$f":"IF($B48=$B46,D48-D46,\"\")","v":""},{"$f":"IF($B48=$B46,E48-E46,\"\")","v":""},{"$f":"IF($B48=$B46,F48-F46,\"\")","v":""},{"$f":"IF($B48=$B46,G48-G46,\"\")","v":""},{"$f":"IF($B48=$B46,H48-H46,\"\")","v":""},{"$f":"IF($B48=$B46,I48-I46,\"\")","v":""},{"$f":"IF($B48=$B46,J48-J46,\"\")","v":""},{"$f":"IF($B48=$B46,K48-K46,\"\")","v":""},{"$f":"IF($B48=$B46,L48-L46,\"\")","v":""},{"$f":"IF($B48=$B46,M48-M46,\"\")","v":""},{"$f":"IF($B48=$B46,N48-N46,\"\")","v":""},{"$f":"IF($B48=$B46,O48-O46,\"\")","v":""},{"$f":"IF($B48=$B46,P48-P46,\"\")","v":""},{"$f":"IF($B48=$B46,Q48-Q46,\"\")","v":""},{"$f":"IF($B48=$B46,R48-R46,\"\")","v":""},{"$f":"IF($B48=$B46,S48-S46,\"\")","v":""},{"$f":"IF($B48=$B46,T48-T46,\"\")","v":""},{"$f":"IF($B48=$B46,U48-U46,\"\")","v":""},{"$f":"IF($B48=$B46,V48-V46,\"\")","v":""}]
["Implementation of Common Core","Common Core for English Learners*","2013",null,null,null,null,null,null,null,null,null,null,null,null,null,null,null,null,null,null,null,"","","","","","","","","","","","","","","","","","",""]
["Implementation of Common Core","Common Core for English Learners*","2014",null,null,null,null,null,null,null,null,null,null,null,null,null,null,null,null,null,null,null,0,0,0,0,0,0,0,0,0,0,0,0,0,0,0,0,0,0,0]
["Implementation of Common Core","District Identified 4","2012",null,null,null,null,null,null,null,null,null,null,null,null,null,null,null,null,null,null,null,"","","","","","","","","","","","","","","","","","",""]
["Implementation of Common Core","District Identified 4","2013",null,null,null,null,null,null,null,null,null,null,null,null,null,null,null,null,null,null,null,"","","","","","","","","","","","","","","","","","",""]
["Implementation of Common Core","District Identified 4","2014",null,null,null,null,null,null,null,null,null,null,null,null,null,null,null,null,null,null,null,0,0,0,0,0,0,0,0,0,0,0,0,0,0,0,0,0,0,0]
["Implementation of Common Core","District Identified 5","2012",null,null,null,null,null,null,null,null,null,null,null,null,null,null,null,null,null,null,null,{"$f":"IF($B54=$B52,D54-D52,\"\")","v":""},"","","","","","","","","",{"$f":"IF($B54=$B52,N54-N52,\"\")","v":""},"","","","","","","",""]
["Implementation of Common Core","District Identified 5","2013",null,null,null,null,null,null,null,null,null,null,null,null,null,null,null,null,null,null,null,"","","","","","","","","","","","","","","","","","",""]
["Implementation of Common Core","District Identified 5","2014",null,null,null,null,null,null,null,null,null,null,null,null,null,null,null,null,null,null,null,{"$f":"IF($B56=$B54,D56-D54,\"\")","v":0},{"$f":"IF($B56=$B54,E56-E54,\"\")","v":0},{"$f":"IF($B56=$B54,F56-F54,\"\")","v":0},{"$f":"IF($B56=$B54,G56-G54,\"\")","v":0},{"$f":"IF($B56=$B54,H56-H54,\"\")","v":0},{"$f":"IF($B56=$B54,I56-I54,\"\")","v":0},{"$f":"IF($B56=$B54,J56-J54,\"\")","v":0},{"$f":"IF($B56=$B54,K56-K54,\"\")","v":0},{"$f":"IF($B56=$B54,L56-L54,\"\")","v":0},{"$f":"IF($B56=$B54,M56-M54,\"\")","v":0},{"$f":"IF($B56=$B54,N56-N54,\"\")","v":0},{"$f":"IF($B56=$B54,O56-O54,\"\")","v":0},{"$f":"IF($B56=$B54,P56-P54,\"\")","v":0},{"$f":"IF($B56=$B54,Q56-Q54,\"\")","v":0},{"$f":"IF($B56=$B54,R56-R54,\"\")","v":0},{"$f":"IF($B56=$B54,S56-S54,\"\")","v":0},{"$f":"IF($B56=$B54,T56-T54,\"\")","v":0},{"$f":"IF($B56=$B54,U56-U54,\"\")","v":0},{"$f":"IF($B56=$B54,V56-V54,\"\")","v":0}]
["Implementation of Common Core","District Identified 6","2012",null,null,null,null,null,null,null,null,null,null,null,null,null,null,null,null,null,null,null,"","","","","","","","","","","","","","","","","","",""]
["Implementation of Common Core","District Identified 6","2013",null,null,null,null,null,null,null,null,null,null,null,null,null,null,null,null,null,null,null,"","","","","","","","","","","","","","","","","","",""]
["Implementation of Common Core","District Identified 6","2014",null,null,null,null,null,null,null,null,null,null,null,null,null,null,null,null,null,null,null,0,0,0,0,0,0,0,0,0,0,0,0,0,0,0,0,0,0,0]
["Course Access","CTE Enrollment Rate","2012",null,null,null,null,null,null,null,null,null,null,null,null,null,null,null,null,null,null,null,"","","","","","","","","","","","","","","","","","",""]
["Course Access","CTE Enrollment Rate","2013",null,null,null,null,null,null,null,null,null,null,null,null,null,null,null,null,null,null,null,"","","","","","","","","","","","","","","","","","",""]
["Course Access","CTE Enrollment Rate","2014",null,null,null,null,null,null,null,null,null,null,null,null,null,null,null,null,null,null,null,0,0,0,0,0,0,0,0,0,0,0,0,0,0,0,0,0,0,0]
["Course Access","UC/CSU Required Course Enrollment Rate","2012",null,null,null,null,null,null,null,null,null,null,null,null,null,null,null,null,null,null,null,"","","","","","","","","","","","","","","","","","",""]
["Course Access","UC/CSU Required Course Enrollment Rate","2013",null,null,null,null,null,null,null,null,null,null,null,null,null,null,null,null,null,null,null,"","","","","","","","","","","","","","","","","","",""]
["Course Access","UC/CSU Required Course Enrollment Rate","2014",null,null,null,null,null,null,null,null,null,null,null,null,null,null,null,null,null,null,null,0,0,0,0,0,0,0,0,0,0,0,0,0,0,0,0,0,0,0]
["Course Access","AP Courses Offered Rate","2012",null,null,null,null,null,null,null,null,null,null,null,null,null,null,null,null,null,null,null,"","","","","","","","","","","","","","","","","","",""]
["Course Access","AP Courses Offered Rate","2013",null,null,null,null,null,null,null,null,null,null,null,null,null,null,null,null,null,null,null,{"$f":"IF($B67=$B65,D67-D65,\"\")","v":""},{"$f":"IF($B67=$B65,E67-E65,\"\")","v":""},{"$f":"IF($B67=$B65,F67-F65,\"\")","v":""},{"$f":"IF($B67=$B65,G67-G65,\"\")","v":""},{"$f":"IF($B67=$B65,H67-H65,\"\")","v":""},{"$f":"IF($B67=$B65,I67-I65,\"\")","v":""},{"$f":"IF($B67=$B65,J67-J65,\"\")","v":""},{"$f":"IF($B67=$B65,K67-K65,\"\")","v":""},{"$f":"IF($B67=$B65,L67-L65,\"\")","v":""},{"$f":"IF($B67=$B65,M67-M65,\"\")","v":""},{"$f":"IF($B67=$B65,N67-N65,\"\")","v":""},{"$f":"IF($B67=$B65,O67-O65,\"\")","v":""},{"$f":"IF($B67=$B65,P67-P65,\"\")","v":""},{"$f":"IF($B67=$B65,Q67-Q65,\"\")","v":""},{"$f":"IF($B67=$B65,R67-R65,\"\")","v":""},{"$f":"IF($B67=$B65,S67-S65,\"\")","v":""},{"$f":"IF($B67=$B65,T67-T65,\"\")","v":""},{"$f":"IF($B67=$B65,U67-U65,\"\")","v":""},{"$f":"IF($B67=$B65,V67-V65,\"\")","v":""}]
["Course Access","AP Courses Offered Rate","2014",null,null,null,null,null,null,null,null,null,null,null,null,null,null,null,null,null,null,null,0,0,0,0,0,0,0,0,0,0,0,0,0,0,0,0,0,0,0]
["Course Access","AP Course \nEnrollment Rate","2012",null,null,null,null,null,null,null,null,null,null,null,null,null,null,null,null,null,null,null,"","","","","","","","","","","","","","","","","","",""]
["Course Access","AP Course \nEnrollment Rate","2013",null,null,null,null,null,null,null,null,null,null,null,null,null,null,null,null,null,null,null,"","","","","","","","","","","","","","","","","","",""]
["Course Access","AP Course \nEnrollment Rate","2014",null,null,null,null,null,null,null,null,null,null,null,null,null,null,null,null,null,null,null,0,0,0,0,0,0,0,0,0,0,0,0,0,0,0,0,0,0,0]
["Course Access","Intervention/Remedial Course Enrollment Rate","2012",null,null,null,null,null,null,null,null,null,null,null,null,null,null,null,null,null,null,null,"","","","","","","","","","","","","","","","","","",""]
["Course Access","Intervention/Remedial Course Enrollment Rate","2013",null,null,null,null,null,null,null,null,null,null,null,null,null,null,null,null,null,null,null,"","","","","","","","","","","","","","","","","","",""]
["Course Access","Intervention/Remedial Course Enrollment Rate","2014",null,null,null,null,null,null,null,null,null,null,null,null,null,null,null,null,null,null,null,0,0,0,0,0,0,0,0,0,0,0,0,0,0,0,0,0,0,0]
["Course Access","District Identified 7","2012",null,null,null,null,null,null,null,null,null,null,null,null,null,null,null,null,null,null,null,{"$f":"IF($B75=$B73,D75-D73,\"\")","v":""},"","","","","","","","","","","","","","","","","",""]
["Course Access","District Identified 7","2013",null,null,null,null,null,null,null,null,null,null,null,null,null,null,null,null,null,null,null,"","","","","","","","","","","","","","","","","","",""]
["Course Access","District Identified 7","2014",null,null,null,null,null,null,null,null,null,null,null,null,null,null,null,null,null,null,null,0,0,0,0,0,0,0,0,0,0,0,0,0,0,0,0,0,0,0]
["Course Access","District Identified 8","2012",null,null,null,null,null,null,null,null,null,null,null,null,null,null,null,null,null,null,null,"","","","","","","","","","","","","","","","","","",""]
["Course Access","District Identified 8","2013",null,null,null,null,null,null,null,null,null,null,null,null,null,null,null,null,null,null,null,"","","","","","","","","","","","","","","","","","",""]
["Course Access","District Identified 8","2014",null,null,null,null,null,null,null,null,null,null,null,null,null,null,null,null,null,null,null,0,0,0,0,0,0,0,0,0,0,0,0,0,0,0,0,0,0,0]
["Course Access","District Identified 9","2012",null,null,null,null,null,null,null,null,null,null,null,null,null,null,null,null,null,null,null,{"$f":"IF($B81=$B79,D81-D79,\"\")","v":""},{"$f":"IF($B81=$B79,E81-E79,\"\")","v":""},{"$f":"IF($B81=$B79,F81-F79,\"\")","v":""},{"$f":"IF($B81=$B79,G81-G79,\"\")","v":""},{"$f":"IF($B81=$B79,H81-H79,\"\")","v":""},{"$f":"IF($B81=$B79,I81-I79,\"\")","v":""},{"$f":"IF($B81=$B79,J81-J79,\"\")","v":""},{"$f":"IF($B81=$B79,K81-K79,\"\")","v":""},{"$f":"IF($B81=$B79,L81-L79,\"\")","v":""},{"$f":"IF($B81=$B79,M81-M79,\"\")","v":""},{"$f":"IF($B81=$B79,N81-N79,\"\")","v":""},{"$f":"IF($B81=$B79,O81-O79,\"\")","v":""},{"$f":"IF($B81=$B79,P81-P79,\"\")","v":""},{"$f":"IF($B81=$B79,Q81-Q79,\"\")","v":""},{"$f":"IF($B81=$B79,R81-R79,\"\")","v":""},{"$f":"IF($B81=$B79,S81-S79,\"\")","v":""},{"$f":"IF($B81=$B79,T81-T79,\"\")","v":""},{"$f":"IF($B81=$B79,U81-U79,\"\")","v":""},{"$f":"IF($B81=$B79,V81-V79,\"\")","v":""}]
["Course Access","District Identified 9","2013",null,null,null,null,null,null,null,null,null,null,null,null,null,null,null,null,null,null,null,"","","","","","","","","","","","","","","","","","",""]
["Course Access","District Identified 9","2014",null,null,null,null,null,null,null,null,null,null,null,null,null,null,null,null,null,null,null,0,0,0,0,0,0,0,0,0,0,0,0,0,0,0,0,0,0,0]
["Pupil Achievement","STAR/CAASPP ELA\nProficient or Advanced*","2012",null,null,null,null,null,null,null,null,null,null,null,null,null,null,null,null,null,null,null,"","","","","","","","","","","","","","","","","","",""]
["Pupil Achievement","STAR/CAASPP ELA\nProficient or Advanced*","2013",null,null,null,null,null,null,null,null,null,null,null,null,null,null,null,null,null,null,null,"","","","","","","","","","","","","","","","","","",""]
["Pupil Achievement","STAR/CAASPP ELA\nProficient or Advanced*","2014",null,null,null,null,null,null,null,null,null,null,null,null,null,null,null,null,null,null,null,0,0,0,0,0,0,0,0,0,0,0,0,0,0,0,0,0,0,0]
["Pupil Achievement","STAR/CAASPP Math\nProficient or Advanced*","2012",null,null,null,null,null,null,null,null,null,null,null,null,null,null,null,null,null,null,null,"","","","","","","","","","","","","","","","","","",""]
["Pupil Achievement","STAR/CAASPP Math\nProficient or Advanced*","2013",null,null,null,null,null,null,null,null,null,null,null,null,null,null,null,null,null,null,null,"","","","","","","","","","","","","","","","","","",""]
["Pupil Achievement","STAR/CAASPP Math\nProficient or Advanced*","2014",null,null,null,null,null,null,null,null,null,null,null,null,null,null,null,null,null,null,null,0,0,0,0,0,0,0,0,0,0,0,0,0,0,0,0,0,0,0]
["Pupil Achievement","STAR/CAASPP Science\nProficient or Advanced*","2012",null,null,null,null,null,null,null,null,null,null,null,null,null,null,null,null,null,null,null,"","","","","","","","","","","","","","","","","","",""]
["Pupil Achievement","STAR/CAASPP Science\nProficient or Advanced*","2013",null,null,null,null,null,null,null,null,null,null,null,null,null,null,null,null,null,null,null,"","","","","","","","","","","","","","","","","","",""]
["Pupil Achievement","STAR/CAASPP Science\nProficient or Advanced*","2014",null,null,null,null,null,null,null,null,null,null,null,null,null,null,null,null,null,null,null,0,0,0,0,0,0,0,0,0,0,0,0,0,0,0,0,0,0,0]
["Pupil Achievement","STAR/CAASPP History/\nSocial Science\nProficient or Advanced*","2012",null,null,null,null,null,null,null,null,null,null,null,null,null,null,null,null,null,null,null,"","","","","","","","","","","","","","","","","","",""]
["Pupil Achievement","STAR/CAASPP History/\nSocial Science\nProficient or Advanced*","2013",null,null,null,null,null,null,null,null,null,null,null,null,null,null,null,null,null,null,null,"","","","","","","","","","","","","","","","","","",""]
["Pupil Achievement","STAR/CAASPP History/\nSocial Science\nProficient or Advanced*","2014",null,null,null,null,null,null,null,null,null,null,null,null,null,null,null,null,null,null,null,0,0,0,0,0,0,0,0,0,0,0,0,0,0,0,0,0,0,0]
["Pupil Achievement","API Score*","2012",null,null,null,null,null,null,null,null,null,null,null,null,null,null,null,null,null,null,null,"","","","","","","","","","","","","","","","","","",""]
["Pupil Achievement","API Score*","2013",null,null,null,null,null,null,null,null,null,null,null,null,null,null,null,null,null,null,null,"","","","","","","","","","","","","","","","","","",""]
["Pupil Achievement","API Score*","2014",null,null,null,null,null,null,null,null,null,null,null,null,null,null,null,null,null,null,null,0,0,0,0,0,0,0,0,0,0,0,0,0,0,0,0,0,0,0]
["Pupil Achievement","API Growth*","2012",null,null,null,null,null,null,null,null,null,null,null,null,null,null,null,null,null,null,null,"","","","","","","","","","","","","","","","","","",""]
["Pupil Achievement","API Growth*","2013",null,null,null,null,null,null,null,null,null,null,null,null,null,null,null,null,null,null,null,"","","","","","","","","","","","","","","","","","",""]
["Pupil Achievement","API Growth*","2014",null,null,null,null,null,null,null,null,null,null,null,null,null,null,null,null,null,null,null,0,0,0,0,0,0,0,0,0,0,0,0,0,0,0,0,0,0,0]
["Pupil Achievement","Percent Completing UC/CSU Required Courses*","2012",null,null,null,null,null,null,null,null,null,null,null,null,null,null,null,null,null,null,null,"","","","","","","","","","","","","","","","","","",""]
["Pupil Achievement","Percent Completing UC/CSU Required Courses*","2013",null,null,null,null,null,null,null,null,null,null,null,null,null,null,null,null,null,null,null,"","","","","","","","","","","","","","","","","","",""]
["Pupil Achievement","Percent Completing UC/CSU Required Courses*","2014",null,null,null,null,null,null,null,null,null,null,null,null,null,null,null,null,null,null,null,{"$f":"IF($B104=$B102,D104-D102,\"\")","v":0},0,0,0,0,0,0,0,0,0,0,0,0,0,0,0,{"$f":"IF($B104=$B102,T104-T102,\"\")","v":0},{"$f":"IF($B104=$B102,U104-U102,\"\")","v":0},{"$f":"IF($B104=$B102,V104-V102,\"\")","v":0}]
["Pupil Achievement","Percent completing a CTE Course Sequence*","2012",null,null,null,null,null,null,null,null,null,null,null,null,null,null,null,null,null,null,null,"","","","","","","","","","","","","","","","","","",""]
["Pupil Achievement","Percent completing a CTE Course Sequence*","2013",null,null,null,null,null,null,null,null,null,null,null,null,null,null,null,null,null,null,null,"","","","","","","","","","","","","","","","","","",""]
["Pupil Achievement","Percent completing a CTE Course Sequence*","2014",null,null,null,null,null,null,null,null,null,null,null,null,null,null,null,null,null,null,null,0,0,0,0,0,0,0,0,0,0,0,0,0,0,0,0,0,0,0]
["Pupil Achievement","Percent in Cohort Attaining English Proficient Level (AMAO 2 <5 Years)*","2012",null,null,null,null,null,null,null,null,null,null,null,null,null,null,null,null,null,null,null,"",{"$f":"IF($B108=$B106,E108-E106,\"\")","v":""},"","","","","","","","","","","","","","","","",""]
["Pupil Achievement","Percent in Cohort Attaining English Proficient Level (AMAO 2 <5 Years)*","2013",null,null,null,null,null,null,null,null,null,null,null,null,null,null,null,null,null,null,null,"","","","","","","","","","","","","","","","","","",""]
["Pupil Achievement","Percent in Cohort Attaining English Proficient Level (AMAO 2 <5 Years)*","2014",null,null,null,null,null,null,null,null,null,null,null,null,null,null,null,null,null,null,null,0,0,0,0,0,0,0,0,0,0,0,0,0,0,0,0,0,0,0]
["Pupil Achievement","Percent in Cohort Attaining English Proficient Level (AMAO 2 >=5 Years)*","2012",null,null,null,null,null,null,null,null,null,null,null,null,null,null,null,null,null,null,null,"","","","","","","","","","","","","","","","","","",""]
["Pupil Achievement","Percent in Cohort Attaining English Proficient Level (AMAO 2 >=5 Years)*","2013",null,null,null,null,null,null,null,null,null,null,null,null,null,null,null,null,null,null,null,"","","","","","","","","","","","","","","","","","",""]
["Pupil Achievement","Percent in Cohort Attaining English Proficient Level (AMAO 2 >=5 Years)*","2014",null,null,null,null,null,null,null,null,null,null,null,null,null,null,null,null,null,null,null,0,0,0,0,0,0,0,0,0,0,0,0,0,0,0,0,0,0,0]
["Pupil Achievement","English Learner Reclassification Rate*","2012",null,null,null,null,null,null,null,null,null,null,null,null,null,null,null,null,null,null,null,"","","","","","","","","","","","","","","","","","",""]
["Pupil Achievement","English Learner Reclassification Rate*","2013",null,null,null,null,null,null,null,null,null,null,null,null,null,null,null,null,null,null,null,"","","","","","","","","","","","","","","","","","",""]
["Pupil Achievement","English Learner Reclassification Rate*","2014",null,null,null,null,null,null,null,null,null,null,null,null,null,null,null,null,null,null,null,0,0,0,0,0,0,0,0,0,0,0,0,0,0,0,0,0,0,0]
["Pupil Achievement","Percent AP Exam \nScore of 3 or Higher*","2012",null,null,null,null,null,null,null,null,null,null,null,null,null,null,null,null,null,null,null,"","","","","","","","","","","","","","","","","","",""]
["Pupil Achievement","Percent AP Exam \nScore of 3 or Higher*","2013",null,null,null,null,null,null,null,null,null,null,null,null,null,null,null,null,null,null,null,"","","","","","","","","","","","","","","","","","",""]
["Pupil Achievement","Percent AP Exam \nScore of 3 or Higher*","2014",null,null,null,null,null,null,null,null,null,null,null,null,null,null,null,null,null,null,null,0,0,0,0,0,0,0,0,0,0,0,0,0,0,0,0,0,0,0]
["Pupil Achievement","EAP ELA\nCollege Ready Rate*","2012",null,null,null,null,null,null,null,null,null,null,null,null,null,null,null,null,null,null,null,"","","","","","","","","","","","","","","","","","",""]
["Pupil Achievement","EAP ELA\nCollege Ready Rate*","2013",null,null,null,null,null,null,null,null,null,null,null,null,null,null,null,null,null,null,null,"","","","","","","","","","","","","","","","","","",""]
["Pupil Achievement","EAP ELA\nCollege Ready Rate*","2014",null,null,null,null,null,null,null,null,null,null,null,null,null,null,null,null,null,null,null,0,{"$f":"IF($B122=$B120,E122-E120,\"\")","v":0},{"$f":"IF($B122=$B120,F122-F120,\"\")","v":0},{"$f":"IF($B122=$B120,G122-G120,\"\")","v":0},{"$f":"IF($B122=$B120,H122-H120,\"\")","v":0},{"$f":"IF($B122=$B120,I122-I120,\"\")","v":0},{"$f":"IF($B122=$B120,J122-J120,\"\")","v":0},{"$f":"IF($B122=$B120,K122-K120,\"\")","v":0},{"$f":"IF($B122=$B120,L122-L120,\"\")","v":0},{"$f":"IF($B122=$B120,M122-M120,\"\")","v":0},{"$f":"IF($B122=$B120,N122-N120,\"\")","v":0},{"$f":"IF($B122=$B120,O122-O120,\"\")","v":0},{"$f":"IF($B122=$B120,P122-P120,\"\")","v":0},{"$f":"IF($B122=$B120,Q122-Q120,\"\")","v":0},{"$f":"IF($B122=$B120,R122-R120,\"\")","v":0},{"$f":"IF($B122=$B120,S122-S120,\"\")","v":0},0,0,0]
["Pupil Achievement","EAP Math\nCollege Ready Rate*","2012",null,null,null,null,null,null,null,null,null,null,null,null,null,null,null,null,null,null,null,"","","","","","","","","","","","","","","","","","",""]
["Pupil Achievement","EAP Math\nCollege Ready Rate*","2013",null,null,null,null,null,null,null,null,null,null,null,null,null,null,null,null,null,null,null,"","","","","","","","","","","","","","","","","","",""]
["Pupil Achievement","EAP Math\nCollege Ready Rate*","2014",null,null,null,null,null,null,null,null,null,null,null,null,null,null,null,null,null,null,null,0,0,0,0,0,0,0,0,0,0,0,0,0,0,0,0,0,0,0]
["Pupil Achievement","District Identified 10","2012",null,null,null,null,null,null,null,null,null,null,null,null,null,null,null,null,null,null,null,"","","","","","","","","","","","","","","","","","",""]
["Pupil Achievement","District Identified 10","2013",null,null,null,null,null,null,null,null,null,null,null,null,null,null,null,null,null,null,null,"","","","","","","","","","","","","","","","","","",""]
["Pupil Achievement","District Identified 10","2014",null,null,null,null,null,null,null,null,null,null,null,null,null,null,null,null,null,null,null,0,0,0,0,0,0,0,0,0,0,0,0,0,0,0,0,0,0,0]
["Pupil Achievement","District Identified 11","2012",null,null,null,null,null,null,null,null,null,null,null,null,null,null,null,null,null,null,null,"","","","","","","","","","","","","","","","","","",""]
["Pupil Achievement","District Identified 11","2013",null,null,null,null,null,null,null,null,null,null,null,null,null,null,null,null,null,null,null,"","","","","","","","","","","","","","","","","","",""]
["Pupil Achievement","District Identified 11","2014",null,null,null,null,null,null,null,null,null,null,null,null,null,null,null,null,null,null,null,0,0,0,0,0,0,0,0,0,0,0,0,0,0,0,0,0,0,0]
["Pupil Achievement","District Identified 12","2012",null,null,null,null,null,null,null,null,null,null,null,null,null,null,null,null,null,null,null,{"$f":"IF($B132=$B130,D132-D130,\"\")","v":""},{"$f":"IF($B132=$B130,E132-E130,\"\")","v":""},{"$f":"IF($B132=$B130,F132-F130,\"\")","v":""},{"$f":"IF($B132=$B130,G132-G130,\"\")","v":""},{"$f":"IF($B132=$B130,H132-H130,\"\")","v":""},{"$f":"IF($B132=$B130,I132-I130,\"\")","v":""},{"$f":"IF($B132=$B130,J132-J130,\"\")","v":""},{"$f":"IF($B132=$B130,K132-K130,\"\")","v":""},{"$f":"IF($B132=$B130,L132-L130,\"\")","v":""},{"$f":"IF($B132=$B130,M132-M130,\"\")","v":""},{"$f":"IF($B132=$B130,N132-N130,\"\")","v":""},{"$f":"IF($B132=$B130,O132-O130,\"\")","v":""},{"$f":"IF($B132=$B130,P132-P130,\"\")","v":""},{"$f":"IF($B132=$B130,Q132-Q130,\"\")","v":""},{"$f":"IF($B132=$B130,R132-R130,\"\")","v":""},{"$f":"IF($B132=$B130,S132-S130,\"\")","v":""},{"$f":"IF($B132=$B130,T132-T130,\"\")","v":""},{"$f":"IF($B132=$B130,U132-U130,\"\")","v":""},{"$f":"IF($B132=$B130,V132-V130,\"\")","v":""}]
["Pupil Achievement","District Identified 12","2013",null,null,null,null,null,null,null,null,null,null,null,null,null,null,null,null,null,null,null,"","","","","","","","","","","","","","","","","","",""]
["Pupil Achievement","District Identified 12","2014",null,null,null,null,null,null,null,null,null,null,null,null,null,null,null,null,null,null,null,0,0,0,0,0,0,0,0,0,0,0,0,0,0,0,0,0,0,0]
["Other Pupil Outcomes","CAHSEE ELA Pass Rate","2012",null,null,null,null,null,null,null,null,null,null,null,null,null,null,null,null,null,null,null,"","","","","","","","","","","","","","","","","","",""]
["Other Pupil Outcomes","CAHSEE ELA Pass Rate","2013",null,null,null,null,null,null,null,null,null,null,null,null,null,null,null,null,null,null,null,"","","","","","","","","","","","","","","","","","",""]
["Other Pupil Outcomes","CAHSEE ELA Pass Rate","2014",null,null,null,null,null,null,null,null,null,null,null,null,null,null,null,null,null,null,null,0,0,0,0,0,0,0,0,0,0,0,0,0,0,0,0,0,0,0]
["Other Pupil Outcomes","CAHSEE ELA 3 Year Pass Rate","2012",null,null,null,null,null,null,null,null,null,null,null,null,null,null,null,null,null,null,null,{"$f":"IF($B138=$B136,D138-D136,\"\")","v":""},{"$f":"IF($B138=$B136,E138-E136,\"\")","v":""},{"$f":"IF($B138=$B136,F138-F136,\"\")","v":""},{"$f":"IF($B138=$B136,G138-G136,\"\")","v":""},{"$f":"IF($B138=$B136,H138-H136,\"\")","v":""},{"$f":"IF($B138=$B136,I138-I136,\"\")","v":""},{"$f":"IF($B138=$B136,J138-J136,\"\")","v":""},{"$f":"IF($B138=$B136,K138-K136,\"\")","v":""},{"$f":"IF($B138=$B136,L138-L136,\"\")","v":""},{"$f":"IF($B138=$B136,M138-M136,\"\")","v":""},{"$f":"IF($B138=$B136,N138-N136,\"\")","v":""},{"$f":"IF($B138=$B136,O138-O136,\"\")","v":""},{"$f":"IF($B138=$B136,P138-P136,\"\")","v":""},{"$f":"IF($B138=$B136,Q138-Q136,\"\")","v":""},{"$f":"IF($B138=$B136,R138-R136,\"\")","v":""},{"$f":"IF($B138=$B136,S138-S136,\"\")","v":""},{"$f":"IF($B138=$B136,T138-T136,\"\")","v":""},{"$f":"IF($B138=$B136,U138-U136,\"\")","v":""},{"$f":"IF($B138=$B136,V138-V136,\"\")","v":""}]
["Other Pupil Outcomes","CAHSEE ELA 3 Year Pass Rate","2013",null,null,null,null,null,null,null,null,null,null,null,null,null,null,null,null,null,null,null,"","","","","","","","","","","","","","","","","","",""]
["Other Pupil Outcomes","CAHSEE ELA 3 Year Pass Rate","2014",null,null,null,null,null,null,null,null,null,null,null,null,null,null,null,null,null,null,null,0,0,0,0,0,0,0,0,0,0,0,0,0,0,0,0,0,0,0]
["Other Pupil Outcomes","CAHSEE Math Pass Rate","2012",null,null,null,null,null,null,null,null,null,null,null,null,null,null,null,null,null,null,null,"","","","","","","","","","","","","","","","","","",""]
["Other Pupil Outcomes","CAHSEE Math Pass Rate","2013",null,null,null,null,null,null,null,null,null,null,null,null,null,null,null,null,null,null,null,"","","","","","","","","","","","","","","","","","",""]
["Other Pupil Outcomes","CAHSEE Math Pass Rate","2014",null,null,null,null,null,null,null,null,null,null,null,null,null,null,null,null,null,null,null,0,0,0,0,0,0,0,0,0,0,0,0,0,0,0,0,0,0,0]
["Other Pupil Outcomes","CAHSEE Math 3 Year Pass Rate","2012",null,null,null,null,null,null,null,null,null,null,null,null,null,null,null,null,null,null,null,"","","","","","","","","","","","","","","","","","",""]
["Other Pupil Outcomes","CAHSEE Math 3 Year Pass Rate","2013",null,null,null,null,null,null,null,null,null,null,null,null,null,null,null,null,null,null,null,"","","","","","","","","","","","","","","","","","",""]
["Other Pupil Outcomes","CAHSEE Math 3 Year Pass Rate","2014",null,null,null,null,null,null,null,null,null,null,null,null,null,null,null,null,null,null,null,0,0,0,0,0,0,0,0,0,0,0,0,0,0,0,0,0,0,0]
["Other Pupil Outcomes","Percent Making Progress Towards English Proficiency (AMAO 1)","2012",null,null,null,null,null,null,null,null,null,null,null,null,null,null,null,null,null,null,null,"","","","","","","","","","","","","","","","","","",""]
["Other Pupil Outcomes","Percent Making Progress Towards English Proficiency (AMAO 1)","2013",null,null,null,null,null,null,null,null,null,null,null,null,null,null,null,null,null,null,null,{"$f":"IF($B148=$B146,D148-D146,\"\")","v":""},{"$f":"IF($B148=$B146,E148-E146,\"\")","v":""},{"$f":"IF($B148=$B146,F148-F146,\"\")","v":""},{"$f":"IF($B148=$B146,G148-G146,\"\")","v":""},{"$f":"IF($B148=$B146,H148-H146,\"\")","v":""},{"$f":"IF($B148=$B146,I148-I146,\"\")","v":""},{"$f":"IF($B148=$B146,J148-J146,\"\")","v":""},{"$f":"IF($B148=$B146,K148-K146,\"\")","v":""},{"$f":"IF($B148=$B146,L148-L146,\"\")","v":""},{"$f":"IF($B148=$B146,M148-M146,\"\")","v":""},{"$f":"IF($B148=$B146,N148-N146,\"\")","v":""},{"$f":"IF($B148=$B146,O148-O146,\"\")","v":""},{"$f":"IF($B148=$B146,P148-P146,\"\")","v":""},{"$f":"IF($B148=$B146,Q148-Q146,\"\")","v":""},{"$f":"IF($B148=$B146,R148-R146,\"\")","v":""},{"$f":"IF($B148=$B146,S148-S146,\"\")","v":""},{"$f":"IF($B148=$B146,T148-T146,\"\")","v":""},{"$f":"IF($B148=$B146,U148-U146,\"\")","v":""},{"$f":"IF($B148=$B146,V148-V146,\"\")","v":""}]
["Other Pupil Outcomes","Percent Making Progress Towards English Proficiency (AMAO 1)","2014",null,null,null,null,null,null,null,null,null,null,null,null,null,null,null,null,null,null,null,0,0,0,0,0,0,0,0,0,0,0,0,0,0,0,0,0,0,0]
["Other Pupil Outcomes","AP Exam\nParticipation Rate","2012",null,null,null,null,null,null,null,null,null,null,null,null,null,null,null,null,null,null,null,"","","","","","","","","","","","","","","","","","",""]
["Other Pupil Outcomes","AP Exam\nParticipation Rate","2013",null,null,null,null,null,null,null,null,null,null,null,null,null,null,null,null,null,null,null,"","","","","","","","","","","","","","","","","","",""]
["Other Pupil Outcomes","AP Exam\nParticipation Rate","2014",null,null,null,null,null,null,null,null,null,null,null,null,null,null,null,null,null,null,null,0,0,0,0,0,0,0,0,0,0,0,0,0,0,0,0,0,0,0]
["Other Pupil Outcomes","District Identified 13","2012",null,null,null,null,null,null,null,null,null,null,null,null,null,null,null,null,null,null,null,"","","","","","","","","","","","","","","","","","",""]
["Other Pupil Outcomes","District Identified 13","2013",null,null,null,null,null,null,null,null,null,null,null,null,null,null,null,null,null,null,null,"","","","","","","","","","","","","","","","","","",""]
["Other Pupil Outcomes","District Identified 13","2014",null,null,null,null,null,null,null,null,null,null,null,null,null,null,null,null,null,null,null,0,0,0,0,0,0,0,0,0,0,0,0,0,0,0,0,0,0,0]
["Other Pupil Outcomes","District Identified 14","2012",null,null,null,null,null,null,null,null,null,null,null,null,null,null,null,null,null,null,null,"","","","","","","","","","","","","","","","","","",""]
["Other Pupil Outcomes","District Identified 14","2013",null,null,null,null,null,null,null,null,null,null,null,null,null,null,null,null,null,null,null,"","","","","","","","","","","","","","","","","","",""]
["Other Pupil Outcomes","District Identified 14","2014",null,null,null,null,null,null,null,null,null,null,null,null,null,null,null,null,null,null,null,0,0,0,0,0,0,0,0,0,0,0,0,0,0,0,0,0,0,0]
["Other Pupil Outcomes","District Identified 15","2012",null,null,null,null,null,null,null,null,null,null,null,null,null,null,null,null,null,null,null,{"$f":"IF($B159=$B157,D159-D157,\"\")","v":""},{"$f":"IF($B159=$B157,E159-E157,\"\")","v":""},{"$f":"IF($B159=$B157,F159-F157,\"\")","v":""},{"$f":"IF($B159=$B157,G159-G157,\"\")","v":""},{"$f":"IF($B159=$B157,H159-H157,\"\")","v":""},{"$f":"IF($B159=$B157,I159-I157,\"\")","v":""},{"$f":"IF($B159=$B157,J159-J157,\"\")","v":""},{"$f":"IF($B159=$B157,K159-K157,\"\")","v":""},{"$f":"IF($B159=$B157,L159-L157,\"\")","v":""},{"$f":"IF($B159=$B157,M159-M157,\"\")","v":""},{"$f":"IF($B159=$B157,N159-N157,\"\")","v":""},{"$f":"IF($B159=$B157,O159-O157,\"\")","v":""},{"$f":"IF($B159=$B157,P159-P157,\"\")","v":""},{"$f":"IF($B159=$B157,Q159-Q157,\"\")","v":""},{"$f":"IF($B159=$B157,R159-R157,\"\")","v":""},{"$f":"IF($B159=$B157,S159-S157,\"\")","v":""},{"$f":"IF($B159=$B157,T159-T157,\"\")","v":""},{"$f":"IF($B159=$B157,U159-U157,\"\")","v":""},{"$f":"IF($B159=$B157,V159-V157,\"\")","v":""}]
["Other Pupil Outcomes","District Identified 15","2013",null,null,null,null,null,null,null,null,null,null,null,null,null,null,null,null,null,null,null,"","","","","","","","","","","","","","","","","","",""]
["Other Pupil Outcomes","District Identified 15","2014",null,null,null,null,null,null,null,null,null,null,null,null,null,null,null,null,null,null,null,0,0,0,0,0,0,0,0,0,0,0,0,0,0,0,0,0,0,0]
["Parental Involvement","Effort to Seek Parent Input*","2012",null,null,null,null,null,null,null,null,null,null,null,null,null,null,null,null,null,null,null,"","","","","","","","","","","","","","","","","","",""]
["Parental Involvement","Effort to Seek Parent Input*","2013",null,null,null,null,null,null,null,null,null,null,null,null,null,null,null,null,null,null,null,"","","","","","","","","","","","","","","","","","",""]
["Parental Involvement","Effort to Seek Parent Input*","2014",null,null,null,null,null,null,null,null,null,null,null,null,null,null,null,null,null,null,null,0,0,0,0,0,0,0,0,0,0,0,0,0,0,0,0,0,0,0]
["Parental Involvement","Promotion of Parental Participation*","2012",null,null,null,null,null,null,null,null,null,null,null,null,null,null,null,null,null,null,null,{"$f":"IF($B165=$B163,D165-D163,\"\")","v":""},{"$f":"IF($B165=$B163,E165-E163,\"\")","v":""},{"$f":"IF($B165=$B163,F165-F163,\"\")","v":""},{"$f":"IF($B165=$B163,G165-G163,\"\")","v":""},{"$f":"IF($B165=$B163,H165-H163,\"\")","v":""},{"$f":"IF($B165=$B163,I165-I163,\"\")","v":""},{"$f":"IF($B165=$B163,J165-J163,\"\")","v":""},{"$f":"IF($B165=$B163,K165-K163,\"\")","v":""},{"$f":"IF($B165=$B163,L165-L163,\"\")","v":""},{"$f":"IF($B165=$B163,M165-M163,\"\")","v":""},{"$f":"IF($B165=$B163,N165-N163,\"\")","v":""},{"$f":"IF($B165=$B163,O165-O163,\"\")","v":""},{"$f":"IF($B165=$B163,P165-P163,\"\")","v":""},{"$f":"IF($B165=$B163,Q165-Q163,\"\")","v":""},{"$f":"IF($B165=$B163,R165-R163,\"\")","v":""},{"$f":"IF($B165=$B163,S165-S163,\"\")","v":""},{"$f":"IF($B165=$B163,T165-T163,\"\")","v":""},{"$f":"IF($B165=$B163,U165-U163,\"\")","v":""},{"$f":"IF($B165=$B163,V165-V163,\"\")","v":""}]
["Parental Involvement","Promotion of Parental Participation*","2013",null,null,null,null,null,null,null,null,null,null,null,null,null,null,null,null,null,null,null,"","","","","","","","","","","","","","","","","","",""]
["Parental Involvement","Promotion of Parental Participation*","2014",null,null,null,null,null,null,null,null,null,null,null,null,null,null,null,null,null,null,null,0,0,0,0,0,0,0,0,0,0,0,0,0,0,0,0,0,0,0]
["Parental Involvement","District Identified 16","2012",null,null,null,null,null,null,null,null,null,null,null,null,null,null,null,null,null,null,null,"","","","","","","","","","","","","","","","","","",""]
["Parental Involvement","District Identified 16","2013",null,null,null,null,null,null,null,null,null,null,null,null,null,null,null,null,null,null,null,"","","","","","","","","","","","","","","","","","",""]
["Parental Involvement","District Identified 16","2014",null,null,null,null,null,null,null,null,null,null,null,null,null,null,null,null,null,null,null,0,0,0,0,0,0,0,0,0,0,0,0,0,0,0,0,0,0,0]
["Parental Involvement","District Identified 17","2012",null,null,null,null,null,null,null,null,null,null,null,null,null,null,null,null,null,null,null,"","","","","","","","","","","","","","","","","","",""]
["Parental Involvement","District Identified 17","2013",null,null,null,null,null,null,null,null,null,null,null,null,null,null,null,null,null,null,null,"","","","","","","","","","","","","","","","","","",""]
["Parental Involvement","District Identified 17","2014",null,null,null,null,null,null,null,null,null,null,null,null,null,null,null,null,null,null,null,0,0,0,0,0,0,0,0,0,0,0,0,0,0,0,0,0,0,0]
["Parental Involvement","District Identified 18","2012",null,null,null,null,null,null,null,null,null,null,null,null,null,null,null,null,null,null,null,{"$f":"IF($B174=$B172,D174-D172,\"\")","v":""},{"$f":"IF($B174=$B172,E174-E172,\"\")","v":""},{"$f":"IF($B174=$B172,F174-F172,\"\")","v":""},{"$f":"IF($B174=$B172,G174-G172,\"\")","v":""},{"$f":"IF($B174=$B172,H174-H172,\"\")","v":""},{"$f":"IF($B174=$B172,I174-I172,\"\")","v":""},{"$f":"IF($B174=$B172,J174-J172,\"\")","v":""},{"$f":"IF($B174=$B172,K174-K172,\"\")","v":""},{"$f":"IF($B174=$B172,L174-L172,\"\")","v":""},{"$f":"IF($B174=$B172,M174-M172,\"\")","v":""},{"$f":"IF($B174=$B172,N174-N172,\"\")","v":""},{"$f":"IF($B174=$B172,O174-O172,\"\")","v":""},{"$f":"IF($B174=$B172,P174-P172,\"\")","v":""},{"$f":"IF($B174=$B172,Q174-Q172,\"\")","v":""},{"$f":"IF($B174=$B172,R174-R172,\"\")","v":""},{"$f":"IF($B174=$B172,S174-S172,\"\")","v":""},{"$f":"IF($B174=$B172,T174-T172,\"\")","v":""},{"$f":"IF($B174=$B172,U174-U172,\"\")","v":""},{"$f":"IF($B174=$B172,V174-V172,\"\")","v":""}]
["Parental Involvement","District Identified 18","2013",null,null,null,null,null,null,null,null,null,null,null,null,null,null,null,null,null,null,null,"","","","","","","","","","","","","","","","","","",""]
["Parental Involvement","District Identified 18","2014",null,null,null,null,null,null,null,null,null,null,null,null,null,null,null,null,null,null,null,0,0,0,0,0,0,0,0,0,0,0,0,0,0,0,0,0,0,0]
["Pupil Engagement","Attendance Rate*","2012",null,null,null,null,null,null,null,null,null,null,null,null,null,null,null,null,null,null,null,"","","","","","","","","","","","","","","","","","",""]
["Pupil Engagement","Attendance Rate*","2013",null,null,null,null,null,null,null,null,null,null,null,null,null,null,null,null,null,null,null,"","","","","","","","","","","","","","","","","","",""]
["Pupil Engagement","Attendance Rate*","2014",null,null,null,null,null,null,null,null,null,null,null,null,null,null,null,null,null,null,null,0,0,0,0,0,0,0,0,0,0,0,0,0,0,0,0,0,0,0]
["Pupil Engagement","Chronic Absenteeism Rate*","2012",null,null,null,null,null,null,null,null,null,null,null,null,null,null,null,null,null,null,null,{"$f":"IF($B180=$B178,D180-D178,\"\")","v":""},{"$f":"IF($B180=$B178,E180-E178,\"\")","v":""},{"$f":"IF($B180=$B178,F180-F178,\"\")","v":""},{"$f":"IF($B180=$B178,G180-G178,\"\")","v":""},{"$f":"IF($B180=$B178,H180-H178,\"\")","v":""},{"$f":"IF($B180=$B178,I180-I178,\"\")","v":""},{"$f":"IF($B180=$B178,J180-J178,\"\")","v":""},{"$f":"IF($B180=$B178,K180-K178,\"\")","v":""},{"$f":"IF($B180=$B178,L180-L178,\"\")","v":""},{"$f":"IF($B180=$B178,M180-M178,\"\")","v":""},{"$f":"IF($B180=$B178,N180-N178,\"\")","v":""},{"$f":"IF($B180=$B178,O180-O178,\"\")","v":""},{"$f":"IF($B180=$B178,P180-P178,\"\")","v":""},{"$f":"IF($B180=$B178,Q180-Q178,\"\")","v":""},{"$f":"IF($B180=$B178,R180-R178,\"\")","v":""},{"$f":"IF($B180=$B178,S180-S178,\"\")","v":""},{"$f":"IF($B180=$B178,T180-T178,\"\")","v":""},{"$f":"IF($B180=$B178,U180-U178,\"\")","v":""},{"$f":"IF($B180=$B178,V180-V178,\"\")","v":""}]
["Pupil Engagement","Chronic Absenteeism Rate*","2013",null,null,null,null,null,null,null,null,null,null,null,null,null,null,null,null,null,null,null,"","","","","","","","","","","","","","","","","","",""]
["Pupil Engagement","Chronic Absenteeism Rate*","2014",null,null,null,null,null,null,null,null,null,null,null,null,null,null,null,null,null,null,null,0,0,0,0,0,0,0,0,0,0,0,0,0,0,0,0,0,0,0]
["Pupil Engagement","Middle School\nDropout Rate*","2012",null,null,null,null,null,null,null,null,null,null,null,null,null,null,null,null,null,null,null,"","","","","","","","","","","","","","","","","","",""]
["Pupil Engagement","Middle School\nDropout Rate*","2013",null,null,null,null,null,null,null,null,null,null,null,null,null,null,null,null,null,null,null,"","","","","","","","","","","","","","","","","","",""]
["Pupil Engagement","Middle School\nDropout Rate*","2014",null,null,null,null,null,null,null,null,null,null,null,null,null,null,null,null,null,null,null,0,0,0,0,0,0,0,0,0,0,0,0,0,0,0,0,0,0,0]
["Pupil Engagement","High School\nDropout Rate*","2012",null,null,null,null,null,null,null,null,null,null,null,null,null,null,null,null,null,null,null,"","","","","","","","","","","","","","","","","","",""]
["Pupil Engagement","High School\nDropout Rate*","2013",null,null,null,null,null,null,null,null,null,null,null,null,null,null,null,null,null,null,null,"","","","","","","","","","","","","","","","","","",""]
["Pupil Engagement","High School\nDropout Rate*","2014",null,null,null,null,null,null,null,null,null,null,null,null,null,null,null,null,null,null,null,0,0,0,0,0,0,0,0,0,0,0,0,0,0,0,0,0,0,0]
["Pupil Engagement","High School \nGraduation Rate*","2012",null,null,null,null,null,null,null,null,null,null,null,null,null,null,null,null,null,null,null,"","","","","","","","","","","","","","","","","","",""]
["Pupil Engagement","High School \nGraduation Rate*","2013",null,null,null,null,null,null,null,null,null,null,null,null,null,null,null,null,null,null,null,"","","","","","","","","","","","","","","","","","",""]
["Pupil Engagement","High School \nGraduation Rate*","2014",null,null,null,null,null,null,null,null,null,null,null,null,null,null,null,null,null,null,null,0,0,0,0,0,0,0,0,0,0,0,0,0,0,0,0,0,0,0]
["Pupil Engagement","District Identified 19","2012",null,null,null,null,null,null,null,null,null,null,null,null,null,null,null,null,null,null,null,"","","","","","","","","","","","","","","","","","",""]
["Pupil Engagement","District Identified 19","2013",null,null,null,null,null,null,null,null,null,null,null,null,null,null,null,null,null,null,null,"","","","","","","","","","","","","","","","","","",""]
["Pupil Engagement","District Identified 19","2014",null,null,null,null,null,null,null,null,null,null,null,null,null,null,null,null,null,null,null,0,0,0,0,0,0,0,0,0,0,0,0,0,0,0,0,0,0,0]
["Pupil Engagement","District Identified 20","2012",null,null,null,null,null,null,null,null,null,null,null,null,null,null,null,null,null,null,null,"","","","","","","","","","","","","","","","","","",""]
["Pupil Engagement","District Identified 20","2013",null,null,null,null,null,null,null,null,null,null,null,null,null,null,null,null,null,null,null,"","","","","","","","","","","","","","","","","","",""]
["Pupil Engagement","District Identified 20","2014",null,null,null,null,null,null,null,null,null,null,null,null,null,null,null,null,null,null,null,0,0,0,0,0,0,0,0,0,0,0,0,0,0,0,0,0,0,0]
["Pupil Engagement","District Identified 21","2012",null,null,null,null,null,null,null,null,null,null,null,null,null,null,null,null,null,null,null,{"$f":"IF($B198=$B196,D198-D196,\"\")","v":""},{"$f":"IF($B198=$B196,E198-E196,\"\")","v":""},{"$f":"IF($B198=$B196,F198-F196,\"\")","v":""},{"$f":"IF($B198=$B196,G198-G196,\"\")","v":""},{"$f":"IF($B198=$B196,H198-H196,\"\")","v":""},{"$f":"IF($B198=$B196,I198-I196,\"\")","v":""},{"$f":"IF($B198=$B196,J198-J196,\"\")","v":""},{"$f":"IF($B198=$B196,K198-K196,\"\")","v":""},{"$f":"IF($B198=$B196,L198-L196,\"\")","v":""},{"$f":"IF($B198=$B196,M198-M196,\"\")","v":""},{"$f":"IF($B198=$B196,N198-N196,\"\")","v":""},{"$f":"IF($B198=$B196,O198-O196,\"\")","v":""},{"$f":"IF($B198=$B196,P198-P196,\"\")","v":""},{"$f":"IF($B198=$B196,Q198-Q196,\"\")","v":""},{"$f":"IF($B198=$B196,R198-R196,\"\")","v":""},{"$f":"IF($B198=$B196,S198-S196,\"\")","v":""},{"$f":"IF($B198=$B196,T198-T196,\"\")","v":""},{"$f":"IF($B198=$B196,U198-U196,\"\")","v":""},{"$f":"IF($B198=$B196,V198-V196,\"\")","v":""}]
["Pupil Engagement","District Identified 21","2013",null,null,null,null,null,null,null,null,null,null,null,null,null,null,null,null,null,null,null,"","","","","","","","","","","","","","","","","","",""]
["Pupil Engagement","District Identified 21","2014",null,null,null,null,null,null,null,null,null,null,null,null,null,null,null,null,null,null,null,0,0,0,0,0,0,0,0,0,0,0,0,0,0,0,0,0,0,0]
["School Climate","Suspension Rate*","2012",null,null,null,null,null,null,null,null,null,null,null,null,null,null,null,null,null,null,null,"","","","","","","","","","","","","","","","","","",""]
["School Climate","Suspension Rate*","2013",null,null,null,null,null,null,null,null,null,null,null,null,null,null,null,null,null,null,null,{"$f":"IF($B202=$B200,D202-D200,\"\")","v":""},{"$f":"IF($B202=$B200,E202-E200,\"\")","v":""},"","","","","","","","","","","","","","","","",""]
["School Climate","Suspension Rate*","2014",null,null,null,null,null,null,null,null,null,null,null,null,null,null,null,null,null,null,null,0,0,{"$f":"IF($B203=$B201,F203-F201,\"\")","v":0},0,0,0,0,0,0,0,0,0,0,0,0,0,0,0,0]
["School Climate","Expulsion Rate*","2012",null,null,null,null,null,null,null,null,null,null,null,null,null,null,null,null,null,null,null,{"$f":"IF($B204=$B202,D204-D202,\"\")","v":""},{"$f":"IF($B204=$B202,E204-E202,\"\")","v":""},{"$f":"IF($B204=$B202,F204-F202,\"\")","v":""},{"$f":"IF($B204=$B202,G204-G202,\"\")","v":""},{"$f":"IF($B204=$B202,H204-H202,\"\")","v":""},{"$f":"IF($B204=$B202,I204-I202,\"\")","v":""},{"$f":"IF($B204=$B202,J204-J202,\"\")","v":""},{"$f":"IF($B204=$B202,K204-K202,\"\")","v":""},{"$f":"IF($B204=$B202,L204-L202,\"\")","v":""},{"$f":"IF($B204=$B202,M204-M202,\"\")","v":""},{"$f":"IF($B204=$B202,N204-N202,\"\")","v":""},{"$f":"IF($B204=$B202,O204-O202,\"\")","v":""},{"$f":"IF($B204=$B202,P204-P202,\"\")","v":""},{"$f":"IF($B204=$B202,Q204-Q202,\"\")","v":""},{"$f":"IF($B204=$B202,R204-R202,\"\")","v":""},{"$f":"IF($B204=$B202,S204-S202,\"\")","v":""},{"$f":"IF($B204=$B202,T204-T202,\"\")","v":""},{"$f":"IF($B204=$B202,U204-U202,\"\")","v":""},{"$f":"IF($B204=$B202,V204-V202,\"\")","v":""}]
["School Climate","Expulsion Rate*","2013",null,null,null,null,null,null,null,null,null,null,null,null,null,null,null,null,null,null,null,{"$f":"IF($B205=$B203,D205-D203,\"\")","v":""},{"$f":"IF($B205=$B203,E205-E203,\"\")","v":""},{"$f":"IF($B205=$B203,F205-F203,\"\")","v":""},"","","","","","","","","","","","","","","",""]
["School Climate","Expulsion Rate*","2014",null,null,null,null,null,null,null,null,null,null,null,null,null,null,null,null,null,null,null,0,{"$f":"IF($B206=$B204,E206-E204,\"\")","v":0},{"$f":"IF($B206=$B204,F206-F204,\"\")","v":0},0,0,0,0,0,0,0,0,0,0,0,0,0,0,0,0]
["School Climate","Truancy Rate","2012",null,null,null,null,null,null,null,null,null,null,null,null,null,null,null,null,null,null,null,"",{"$f":"IF($B207=$B205,E207-E205,\"\")","v":""},{"$f":"IF($B207=$B205,F207-F205,\"\")","v":""},"","","","","","","","","","","","","","","",""]
["School Climate","Truancy Rate","2013",null,null,null,null,null,null,null,null,null,null,null,null,null,null,null,null,null,null,null,"","","","","","","","","","","","","","","","","","",""]
["School Climate","Truancy Rate","2014",null,null,null,null,null,null,null,null,null,null,null,null,null,null,null,null,null,null,null,0,0,0,0,0,0,0,0,0,0,0,0,0,0,0,0,0,0,0]
["School Climate","District Identified 22","2012",null,null,null,null,null,null,null,null,null,null,null,null,null,null,null,null,null,null,null,"","","","","","","","","","","","","","","","","","",""]
["School Climate","District Identified 22","2013",null,null,null,null,null,null,null,null,null,null,null,null,null,null,null,null,null,null,null,"","","","","","","","","","","","","","","","","","",""]
["School Climate","District Identified 22","2014",null,null,null,null,null,null,null,null,null,null,null,null,null,null,null,null,null,null,null,0,0,0,0,0,0,0,0,0,0,0,0,0,0,0,0,0,0,0]
["School Climate","District Identified 23","2012",null,null,null,null,null,null,null,null,null,null,null,null,null,null,null,null,null,null,null,{"$f":"IF($B213=$B211,D213-D211,\"\")","v":""},{"$f":"IF($B213=$B211,E213-E211,\"\")","v":""},{"$f":"IF($B213=$B211,F213-F211,\"\")","v":""},{"$f":"IF($B213=$B211,G213-G211,\"\")","v":""},{"$f":"IF($B213=$B211,H213-H211,\"\")","v":""},{"$f":"IF($B213=$B211,I213-I211,\"\")","v":""},{"$f":"IF($B213=$B211,J213-J211,\"\")","v":""},{"$f":"IF($B213=$B211,K213-K211,\"\")","v":""},{"$f":"IF($B213=$B211,L213-L211,\"\")","v":""},{"$f":"IF($B213=$B211,M213-M211,\"\")","v":""},{"$f":"IF($B213=$B211,N213-N211,\"\")","v":""},{"$f":"IF($B213=$B211,O213-O211,\"\")","v":""},{"$f":"IF($B213=$B211,P213-P211,\"\")","v":""},{"$f":"IF($B213=$B211,Q213-Q211,\"\")","v":""},{"$f":"IF($B213=$B211,R213-R211,\"\")","v":""},{"$f":"IF($B213=$B211,S213-S211,\"\")","v":""},{"$f":"IF($B213=$B211,T213-T211,\"\")","v":""},{"$f":"IF($B213=$B211,U213-U211,\"\")","v":""},{"$f":"IF($B213=$B211,V213-V211,\"\")","v":""}]
["School Climate","District Identified 23","2013",null,null,null,null,null,null,null,null,null,null,null,null,null,null,null,null,null,null,null,"","","","","","","","","","","","","","","","","","",""]
["School Climate","District Identified 23","2014",null,null,null,null,null,null,null,null,null,null,null,null,null,null,null,null,null,null,null,0,0,0,0,0,0,0,0,0,0,0,0,0,0,0,0,0,0,0]
["School Climate","District Identified 24","2012",null,null,null,null,null,null,null,null,null,null,null,null,null,null,null,null,null,null,null,"","","","","","","","","","","","","","","","","","",""]
["School Climate","District Identified 24","2013",null,null,null,null,null,null,null,null,null,null,null,null,null,null,null,null,null,null,null,"","","","","","","","","","","","","","","","","","",""]
["School Climate","District Identified 24","2014",null,null,null,null,null,null,null,null,null,null,null,null,null,null,null,null,null,null,null,0,0,0,0,0,0,0,0,0,0,0,0,0,0,0,0,0,0,0]
["Do not Delete","Do Not Use",2011,null,null,null,null,null,null,null,null,null,null,null,null,null,null,null,null,null,null,null,"","","","","","","","","","","","","","","","","","",""]
["Do not Delete","Do Not Use",2012,null,null,null,null,null,null,null,null,null,null,null,null,null,null,null,null,null,null,null,"","","","","","","","","","","","","","","","","","",""]
["Do not Delete","Do Not Use",2013,null,null,null,null,null,null,null,null,null,null,null,null,null,null,null,null,null,null,null,0,0,0,0,0,0,0,0,0,0,0,0,0,0,0,0,0,0,0]